{"text_format":"1","workbook":"xlsx","n_sheets":17,"sheets":["Config","①相談時家計表","相談時家計グラフデータ","家計計画表グラフデータ","支出内訳変化データ","②相談時家計表収支","③相談時家計表支出内訳","④家計計画表","⑤家計計画表収支","⑥家計計画表支出内訳","⑦支出内訳変化","家計計画表（旧）","⑧ライフイベント表","⑨キャッシュフロー表 (3年分)","⑩キャッシュフロー表 (3年分) (グラフ)","⑪キャッシュフロー表 (5年分)","⑫キャッシュフロー表 (5年分) (グラフ)"],"not_rendered":{"charts":11,"images":20,"macros":1,"external_links":0,"defined_names":94,"comments":0,"pivot_tables":0},"unopened":[{"sheet":"②相談時家計表収支","index":5,"reason":"not_a_worksheet"},{"sheet":"③相談時家計表支出内訳","index":6,"reason":"not_a_worksheet"},{"sheet":"⑤家計計画表収支","index":8,"reason":"not_a_worksheet"},{"sheet":"⑥家計計画表支出内訳","index":9,"reason":"not_a_worksheet"}],"bounds":{"document_bytes":16777216,"sheet_cells":100000,"rows_first":2000,"rows_last":500,"rows_between":2000,"halvings":0,"cell_chars":16384,"cell_head_chars":4096},"cells_cut":0,"cells_raw":0,"read":"whole","date_system":"1900"}

{"sheet":"Config","index":0,"n_rows":35,"n_cols":43,"rows_kept":35,"cut":false,"hidden":true,"merged":[]}
[{"$f":"IF(A2,1,0)","v":1},{"$f":"IF(B2,2,0)","v":0},{"$f":"IF(C2,3,0)","v":0},{"$f":"IF(D2,4,0)","v":0},{"$f":"IF(E2,5,0)","v":0},{"$f":"SUM(A1:E1)","v":1},null,null,null,null,null,null,null,null,null,null,null,null,null,null,null,null,null,null,null,null,null,null,null,null,null,7,30,7,30,7,30,0,0,0,0,0,0]
[true,false,false,false,false,null,null,null,null,null,null,null,null,null,null,null,null,null,null,null,null,null,null,null,null,null,null,null,null,null,1,6]
[{"$f":"SUM(④家計計画表!M20,④家計計画表!M21)","v":0},{"$f":"SUM(④家計計画表!W20,④家計計画表!W21)","v":0},{"$f":"SUM(④家計計画表!AG20,④家計計画表!AG21)","v":0},{"$f":"SUM(④家計計画表!AQ20,④家計計画表!AQ21)","v":0},{"$f":"SUM(④家計計画表!BA20,④家計計画表!BA21)","v":0},null,null,null,null,null,null,null,null,null,null,null,null,null,null,null,null,null,null,null,null,null,null,null,null,null,2,{"$f":"\"ライフイベント表≪\"&DBCS(AF2)&\"人分・５年分≫\"","v":"ライフイベント表≪６人分・５年分≫"}]
[{"$f":"SUM(④家計計画表!M22,④家計計画表!M23)","v":0},{"$f":"SUM(④家計計画表!W22,④家計計画表!W23)","v":0},{"$f":"SUM(④家計計画表!AG22,④家計計画表!AG23)","v":0},{"$f":"SUM(④家計計画表!AQ22,④家計計画表!AQ23)","v":0},{"$f":"SUM(④家計計画表!BA22,④家計計画表!BA23)","v":0},null,null,null,null,null,null,null,null,null,"=SUM(家計計画表!M20,家計計画表!M21)","=SUM(家計計画表!W20,家計計画表!W21)","=SUM(家計計画表!AG20,家計計画表!AG21)","=SUM(家計計画表!AQ20,家計計画表!AQ21)","=SUM(家計計画表!BA20,家計計画表!BA21)",null,null,null,null,null,null,null,null,null,null,null,3]
[{"$f":"SUM(④家計計画表!M25,④家計計画表!M26)","v":0},{"$f":"SUM(④家計計画表!W25,④家計計画表!W26)","v":0},{"$f":"SUM(④家計計画表!AG25,④家計計画表!AG26)","v":0},{"$f":"SUM(④家計計画表!AQ25,④家計計画表!AQ26)","v":0},{"$f":"SUM(④家計計画表!BA25,④家計計画表!BA26)","v":0},null,null,null,null,null,null,null,null,null,"=SUM(家計計画表!M22,家計計画表!M23)","=SUM(家計計画表!W22,家計計画表!W23)","=SUM(家計計画表!AG22,家計計画表!AG23)","=SUM(家計計画表!AQ22,家計計画表!AQ23)","=SUM(家計計画表!BA22,家計計画表!BA23)",null,null,null,null,null,null,null,null,null,null,null,4]
[{"$f":"④家計計画表!M27","v":0},{"$f":"④家計計画表!W27","v":0},{"$f":"④家計計画表!AG27","v":0},{"$f":"④家計計画表!AQ27","v":0},{"$f":"④家計計画表!BA27","v":0},null,null,null,null,null,null,null,null,null,"=SUM(家計計画表!M25,家計計画表!M26)","=SUM(家計計画表!W25,家計計画表!W26)","=SUM(家計計画表!AG25,家計計画表!AG26)","=SUM(家計計画表!AQ25,家計計画表!AQ26)","=SUM(家計計画表!BA25,家計計画表!BA26)",null,null,null,null,null,null,null,null,null,null,null,5]
[{"$f":"SUM(④家計計画表!M24,④家計計画表!M28)","v":0},{"$f":"SUM(④家計計画表!W24,④家計計画表!W28)","v":0},{"$f":"SUM(④家計計画表!AG24,④家計計画表!AG28)","v":0},{"$f":"SUM(④家計計画表!AQ24,④家計計画表!AQ28)","v":0},{"$f":"SUM(④家計計画表!BA24,④家計計画表!BA28)","v":0},null,null,null,null,null,null,null,null,null,"=家計計画表!M27","=家計計画表!W27","=家計計画表!AG27","=家計計画表!AQ27","=家計計画表!BA27",null,null,null,null,null,null,null,null,null,null,null,6]
[{"$f":"④家計計画表!M29","v":0},{"$f":"④家計計画表!W29","v":0},{"$f":"④家計計画表!AG29","v":0},{"$f":"④家計計画表!AQ29","v":0},{"$f":"④家計計画表!BA29","v":0},null,null,null,null,null,null,null,null,null,"=IF(AND(家計計画表!M24=\"\",家計計画表!M28=\"\"),\"\",家計計画表!M24+家計計画表!M28)","=IF(AND(家計計画表!W24=\"\",家計計画表!W28=\"\"),\"\",家計計画表!W24+家計計画表!W28)","=IF(AND(家計計画表!AG24=\"\",家計計画表!AG28=\"\"),\"\",家計計画表!AG24+家計計画表!AG28)","=IF(AND(家計計画表!AQ24=\"\",家計計画表!AQ28=\"\"),\"\",家計計画表!AQ24+家計計画表!AQ28)","=IF(AND(家計計画表!BA24=\"\",家計計画表!BA28=\"\"),\"\",家計計画表!BA24+家計計画表!BA28)"]
[{"$f":"④家計計画表!M34","v":0},{"$f":"④家計計画表!W34","v":0},{"$f":"④家計計画表!AG34","v":0},{"$f":"④家計計画表!AQ34","v":0},{"$f":"④家計計画表!BA34","v":0},null,null,null,null,null,null,null,null,null,"=家計計画表!M29","=家計計画表!W29","=家計計画表!AG29","=家計計画表!AQ29","=家計計画表!BA29"]
[{"$f":"④家計計画表!M40","v":0},{"$f":"④家計計画表!W40","v":0},{"$f":"④家計計画表!AG40","v":0},{"$f":"④家計計画表!AQ40","v":0},{"$f":"④家計計画表!BA40","v":0},null,null,null,null,null,null,null,null,null,"=家計計画表!M34","=家計計画表!W34","=家計計画表!AG34","=家計計画表!AQ34","=家計計画表!BA34"]
[{"$f":"④家計計画表!M47","v":0},{"$f":"④家計計画表!W47","v":0},{"$f":"④家計計画表!AG47","v":0},{"$f":"④家計計画表!AQ47","v":0},{"$f":"④家計計画表!BA47","v":0},null,null,null,null,null,null,null,null,null,"=家計計画表!M40","=家計計画表!W40","=家計計画表!AG40","=家計計画表!AQ40","=家計計画表!BA40"]
[{"$f":"④家計計画表!M58","v":0},{"$f":"④家計計画表!W58","v":0},{"$f":"④家計計画表!AG58","v":0},{"$f":"④家計計画表!AQ58","v":0},{"$f":"④家計計画表!BA58","v":0},null,null,null,null,null,null,null,null,null,"=家計計画表!M47","=家計計画表!W47","=家計計画表!AG47","=家計計画表!AQ47","=家計計画表!BA47"]
[null,null,null,null,null,null,null,null,null,null,null,null,null,null,"=家計計画表!M58","=家計計画表!W58","=家計計画表!AG58","=家計計画表!AQ58","=家計計画表!BA58"]
[{"$f":"④家計計画表!Q5","v":0},{"$f":"④家計計画表!AA5","v":0},{"$f":"④家計計画表!AK5","v":0},{"$f":"④家計計画表!AU5","v":0},{"$f":"④家計計画表!BE5","v":0}]
[{"$f":"④家計計画表!Q10","v":0},{"$f":"④家計計画表!AA10","v":0},{"$f":"④家計計画表!AK10","v":0},{"$f":"④家計計画表!AU10","v":0},{"$f":"④家計計画表!BE10","v":0},null,null,null,null,null,null,null,null,null,"=家計計画表!Q5","=家計計画表!AA5","=家計計画表!AK5","=家計計画表!AU5","=家計計画表!BE5"]
[{"$f":"④家計計画表!Q12","v":0},{"$f":"④家計計画表!AA12","v":0},{"$f":"④家計計画表!AK12","v":0},{"$f":"④家計計画表!AU12","v":0},{"$f":"④家計計画表!BE12","v":0},null,null,null,null,null,null,null,null,null,"=家計計画表!Q10","=家計計画表!AA10","=家計計画表!AK10","=家計計画表!AU10","=家計計画表!BE10"]
[{"$f":"④家計計画表!Q15","v":0},{"$f":"④家計計画表!AA15","v":0},{"$f":"④家計計画表!AK15","v":0},{"$f":"④家計計画表!AU15","v":0},{"$f":"④家計計画表!BE15","v":0},null,null,null,null,null,null,null,null,null,"=家計計画表!Q12","=家計計画表!AA12","=家計計画表!AK12","=家計計画表!AU12","=家計計画表!BE12"]
[{"$f":"④家計計画表!Q16","v":0},{"$f":"④家計計画表!AA16","v":0},{"$f":"④家計計画表!AK16","v":0},{"$f":"④家計計画表!AU16","v":0},{"$f":"④家計計画表!BE16","v":0},null,null,null,null,null,null,null,null,null,"=家計計画表!Q15","=家計計画表!AA15","=家計計画表!AK15","=家計計画表!AU15","=家計計画表!BE15"]
[{"$f":"④家計計画表!Q17","v":0},{"$f":"④家計計画表!AA17","v":0},{"$f":"④家計計画表!AK17","v":0},{"$f":"④家計計画表!AU17","v":0},{"$f":"④家計計画表!BE17","v":0},null,null,null,null,null,null,null,null,null,"=家計計画表!Q16","=家計計画表!AA16","=家計計画表!AK16","=家計計画表!AU16","=家計計画表!BE16"]
[{"$f":"④家計計画表!Q19","v":0},{"$f":"④家計計画表!AA19","v":0},{"$f":"④家計計画表!AK19","v":0},{"$f":"④家計計画表!AU19","v":0},{"$f":"④家計計画表!BE19","v":0},null,null,null,null,null,null,null,null,null,"=家計計画表!Q17","=家計計画表!AA17","=家計計画表!AK17","=家計計画表!AU17","=家計計画表!BE17"]
[{"$f":"④家計計画表!Q20","v":0},{"$f":"④家計計画表!AA20","v":0},{"$f":"④家計計画表!AK20","v":0},{"$f":"④家計計画表!AU20","v":0},{"$f":"④家計計画表!BE20","v":0},null,null,null,null,null,null,null,null,null,"=家計計画表!Q19","=家計計画表!AA19","=家計計画表!AK19","=家計計画表!AU19","=家計計画表!BE19"]
[{"$f":"④家計計画表!Q24","v":0},{"$f":"④家計計画表!AA24","v":0},{"$f":"④家計計画表!AK24","v":0},{"$f":"④家計計画表!AU24","v":0},{"$f":"④家計計画表!BE24","v":0},null,null,null,null,null,null,null,null,null,"=家計計画表!Q20","=家計計画表!AA20","=家計計画表!AK20","=家計計画表!AU20","=家計計画表!BE20"]
[{"$f":"④家計計画表!Q30","v":0},{"$f":"④家計計画表!AA30","v":0},{"$f":"④家計計画表!AK30","v":0},{"$f":"④家計計画表!AU30","v":0},{"$f":"④家計計画表!BE30","v":0},null,null,null,null,null,null,null,null,null,"=家計計画表!Q24","=家計計画表!AA24","=家計計画表!AK24","=家計計画表!AU24","=家計計画表!BE24"]
[{"$f":"④家計計画表!Q34","v":0},{"$f":"④家計計画表!AA34","v":0},{"$f":"④家計計画表!AK34","v":0},{"$f":"④家計計画表!AU34","v":0},{"$f":"④家計計画表!BE34","v":0},null,null,null,null,null,null,null,null,null,"=家計計画表!Q30","=家計計画表!AA30","=家計計画表!AK30","=家計計画表!AU30","=家計計画表!BE30"]
[{"$f":"④家計計画表!Q40","v":0},{"$f":"④家計計画表!AA40","v":0},{"$f":"④家計計画表!AK40","v":0},{"$f":"④家計計画表!AU40","v":0},{"$f":"④家計計画表!BE40","v":0},null,null,null,null,null,null,null,null,null,"=家計計画表!Q34","=家計計画表!AA34","=家計計画表!AK34","=家計計画表!AU34","=家計計画表!BE34"]
[{"$f":"④家計計画表!Q43","v":0},{"$f":"④家計計画表!AA43","v":0},{"$f":"④家計計画表!AK43","v":0},{"$f":"④家計計画表!AU43","v":0},{"$f":"④家計計画表!BE43","v":0},null,null,null,null,null,null,null,null,null,"=家計計画表!Q40","=家計計画表!AA40","=家計計画表!AK40","=家計計画表!AU40","=家計計画表!BE40"]
[{"$f":"④家計計画表!Q48","v":0},{"$f":"④家計計画表!AA48","v":0},{"$f":"④家計計画表!AK48","v":0},{"$f":"④家計計画表!AU48","v":0},{"$f":"④家計計画表!BE48","v":0},null,null,null,null,null,null,null,null,null,"=家計計画表!Q43","=家計計画表!AA43","=家計計画表!AK43","=家計計画表!AU43","=家計計画表!BE43"]
[{"$f":"④家計計画表!Q50","v":0},{"$f":"④家計計画表!AA50","v":0},{"$f":"④家計計画表!AK50","v":0},{"$f":"④家計計画表!AU50","v":0},{"$f":"④家計計画表!BE50","v":0},null,null,null,null,null,null,null,null,null,"=家計計画表!Q48","=家計計画表!AA48","=家計計画表!AK48","=家計計画表!AU48","=家計計画表!BE48"]
[{"$f":"④家計計画表!Q53","v":0},{"$f":"④家計計画表!AA53","v":0},{"$f":"④家計計画表!AK53","v":0},{"$f":"④家計計画表!AU53","v":0},{"$f":"④家計計画表!BE53","v":0},null,null,null,null,null,null,null,null,null,"=家計計画表!Q50","=家計計画表!AA50","=家計計画表!AK50","=家計計画表!AU50","=家計計画表!BE50"]
[{"$f":"④家計計画表!Q55","v":0},{"$f":"④家計計画表!AA55","v":0},{"$f":"④家計計画表!AK55","v":0},{"$f":"④家計計画表!AU55","v":0},{"$f":"④家計計画表!BE55","v":0},null,null,null,null,null,null,null,null,null,"=家計計画表!Q53","=家計計画表!AA53","=家計計画表!AK53","=家計計画表!AU53","=家計計画表!BE53"]
[null,null,null,null,null,null,null,null,null,null,null,null,null,null,"=家計計画表!Q55","=家計計画表!AA55","=家計計画表!AK55","=家計計画表!AU55","=家計計画表!BE55"]
[]
[]
[{"$f":"④家計計画表!Q57","v":0},{"$f":"④家計計画表!AA57","v":0},{"$f":"④家計計画表!AK57","v":0},{"$f":"④家計計画表!AU57","v":0},{"$f":"④家計計画表!BE57","v":0}]
[{"$f":"④家計計画表!Q58","v":0},{"$f":"④家計計画表!AA58","v":0},{"$f":"④家計計画表!AK58","v":0},{"$f":"④家計計画表!AU58","v":0},{"$f":"④家計計画表!BE58","v":0}]

{"sheet":"①相談時家計表","index":1,"n_rows":60,"n_cols":9,"rows_kept":60,"cut":false,"hidden":false,"merged":[[3,9,3,10],[4,6,6,6],[7,4,7,5],[8,6,9,6],[1,4,1,6],[3,4,3,5],[2,8,43,8],[57,4,57,5],[32,0,32,1],[32,4,32,5],[10,6,12,6],[14,0,14,2],[16,0,16,1],[16,4,16,5],[17,0,17,1],[18,0,19,0],[18,6,21,6],[20,0,21,0],[22,4,22,5],[23,6,27,6],[27,0,27,1],[28,4,28,5],[29,6,31,6],[46,8,59,8],[33,6,36,6],[37,4,37,5],[38,0,38,1],[38,6,40,6],[41,6,44,6],[45,0,45,1],[45,4,45,5],[58,4,58,5],[59,0,59,1],[59,4,59,5],[46,6,47,6],[48,6,50,6],[51,6,52,6],[53,6,54,6],[57,0,57,1]]}
[null,null,"3．相談時家計表",null,null,"20XX年XX月分",null,"相談日：","20XX/XX/XX"]
["相談者氏名",null,null,null,"支　　出",null,null,null,"備　考"]
["担当相談員名",null,null,null,"費　　目","金額（円）","小計（円）"]
[null,null,null,null,"住居費",null,{"$f":"SUM(G5)","v":0}]
["世帯基本情報","世帯人員計・・・・・・・",{"$f":"SUM(C6,C8:C13)","v":0},null,"家賃",null,{"$f":"F5+F6+F7","v":0}]
["【内訳】","成人・・・・・・・・・・",0,null,"管理費"]
[null,"うち高齢者・・・・・・",0,null,"維持費・修理費・更新費"]
[null,"未成年(下記以外)・・・・",0,null,"基本生活費",null,{"$f":"SUM(G9:G16)","v":0}]
[null,"大学生等・・・・・・・・",0,null,"食費",null,{"$f":"F9+F10","v":0}]
[null,"高校生・・・・・・・・・",0,null,"外食費"]
[null,"中学生・・・・・・・・・",0,null,"電気代",null,{"$f":"F11+F12+F13","v":0}]
[null,"小学生・・・・・・・・・",0,null,"ガス代"]
[null,"未就学児・・・・・・・・",0,null,"水道代"]
[null,null,null,null,"灯油代",null,{"$f":"F14","v":0}]
["収　　入",null,null,null,"被服・理美容・雑貨費",null,{"$f":"F15","v":0}]
["名義人","費　　　目","金額（円）",null,"医療費・介護費等",null,{"$f":"F16","v":0}]
["前月からの繰越金",null,null,null,"通信費・車両費",null,{"$f":"SUM(G18:G22)","v":0}]
["基本収入",null,{"$f":"SUM(C19:C27)","v":0},null,"電話・携帯電話・ｲﾝﾀｰﾈｯﾄ",null,{"$f":"F18","v":0}]
["本人","給与       ①",null,null,"ガソリン代 （通勤費含む）",null,{"$f":"F19+F20+F21+F22","v":0}]
[null,"給与       ②",null,null,"駐車場代"]
["配偶者","給与       ①",null,null,"車検・車修理代"]
[null,"給与       ②",null,null,"通勤交通費"]
[null,null,null,null,"教育等費用",null,{"$f":"SUM(G24)","v":0}]
["本人","年金",null,null,"学費・保育料・給食費等",null,{"$f":"SUM(F24:F28)","v":0}]
["配偶者","年金",null,null,"部活動等の費用"]
["同居者(　　)","年金",null,null,"通学交通費"]
[null,null,null,null,"塾・習い事費用"]
["臨時収入・賞与",null,null,null,"お小遣い・仕送り生活費"]
["本人","（　賞与　年間    万　）",null,null,"教養・娯楽費用",null,{"$f":"SUM(G30)","v":0}]
[null,"夏、冬",null,null,"新聞・本・雑誌・教養用品",null,{"$f":"F30+F31+F32","v":0}]
["配偶者",null,null,null,"遊興費・娯楽費用"]
[]
["援助収入や手当等の収入（毎月）",null,{"$f":"SUM(C34:C38)","v":0},null,"その他",null,{"$f":"SUM(G34)","v":0}]
[null,"雇用保険",null,null,"酒代/酒飲食交際費",null,{"$f":"SUM(F34:F37)","v":0}]
[null,"生活保護",null,null,"たばこ・お小遣い"]
[null,"養育費"]
[null,"援助"]
[null,null,null,null,"税金・保険",null,{"$f":"SUM(G39:G45)","v":0}]
["援助収入や手当等の収入（毎月以外）",null,{"$f":"SUM(C40:C45)","v":0},null,"税金（住民税・固定資産税・自動車税等）",null,{"$f":"SUM(F39:F41)","v":0}]
[null,"児童手当",null,null,"社会保険料（国保・国民年金等）"]
[null,"児童扶養手当"]
[null,null,null,null,"貯蓄型保険（学資・年金保険等）",null,{"$f":"SUM(F42:F45)","v":0}]
[null,null,null,null,"掛捨型保険（車・火災等）"]
[null,"副次的な収入",null,null,"その他保険料"]
[null,null,null,null,null,null,null,null,"返済金以外の計"]
["借入金",null,{"$f":"SUM(C47:C48)","v":0},null,"返済金",null,{"$f":"SUM(G47:G56)","v":0},null,{"$f":"G58-G46","v":0}]
["借入金","（　　　　　　　　　）",null,null,"住宅ローン",null,{"$f":"SUM(F47:F48)","v":0}]
["借入金","（　　　　　　　　　）",null,null,"自動車ローン"]
["借入金","（　　　　　　　　　）",null,null,"銀行",null,{"$f":"SUM(F49:F51)","v":0}]
["借入金","（　　　　　　　　　）",null,null,"消費者金融"]
["借入金","（　　　　　　　　　）",null,null,"クレジット（ｷｬｯｼﾝｸﾞ・物品）"]
[null,null,null,null,"滞納税金・社会保険料等",null,{"$f":"F52+F53","v":0}]
[null,null,null,null,"滞納生活費（家賃・光熱水費等）"]
[null,null,null,null,"個人からの借金",null,{"$f":"F54+F55","v":0}]
[null,null,null,null,"その他の返済"]
[null,null,null,null,"家計再生のための新規借入の返済",null,{"$f":"F56","v":0}]
["預貯金取崩し",null,null,null,"預貯金預入れ",null,{"$f":"F57","v":0}]
["当月の収入合計",null,{"$f":"C18+C28+C33+C39+C46+C57","v":0},null,"当月の支出合計",null,{"$f":"G57+G46+G38+G33+G29+G23+G17+G8+G4","v":0}]
[null,null,null,null,"翌月への繰越金",null,{"$f":"C60-G58","v":0}]
["前月繰越含む収入合計",null,{"$f":"C17+C58","v":0},null,"翌月繰越含む支出合計",null,{"$f":"G59+G58","v":0}]

{"sheet":"相談時家計グラフデータ","index":2,"n_rows":14,"n_cols":8,"rows_kept":14,"cut":false,"hidden":true,"merged":[]}
[{"$f":"①相談時家計表!A2 &\"：\" &①相談時家計表!B2 & \" 様\"","v":"相談者氏名： 様"}]
["積み上げグラフ用",null,null,"パターン","円グラフ用データ"]
["住居費",null,null,2]
["基本生活費",null,null,4,"住居費",null,"合計",{"$f":"SUM(F4:F11)","v":0}]
["通信費・車両費",null,null,7,"基本生活費"]
["教育等費用",null,null,32,"通信費・車両費"]
["教養・娯楽費用",null,null,45,"教育等費用"]
["その他",null,null,19,"教養・娯楽費用"]
["税金・保険",null,null,31,"その他"]
["返済金",null,null,10,"税金・保険"]
["収入",0,null,20,"返済金"]
[]
[]
[{"$f":"B11-H4","v":0}]

{"sheet":"家計計画表グラフデータ","index":3,"n_rows":14,"n_cols":8,"rows_kept":14,"cut":false,"hidden":true,"merged":[]}
[{"$f":"①相談時家計表!A2 & \"：　\" &①相談時家計表!B2 & \" 様\"","v":"相談者氏名：　 様"}]
["積み上げグラフ用",null,null,"パターン","円グラフ用データ"]
[{"$f":"相談時家計グラフデータ!A3","v":"住居費"},null,null,{"$f":"相談時家計グラフデータ!D3","v":2}]
[{"$f":"相談時家計グラフデータ!A4","v":"基本生活費"},null,null,{"$f":"相談時家計グラフデータ!D4","v":4},"住居費",null,"合計",{"$f":"SUM(F4:F11)","v":0}]
[{"$f":"相談時家計グラフデータ!A5","v":"通信費・車両費"},null,null,{"$f":"相談時家計グラフデータ!D5","v":7},"基本生活費"]
[{"$f":"相談時家計グラフデータ!A6","v":"教育等費用"},null,null,{"$f":"相談時家計グラフデータ!D6","v":32},"通信費・車両費"]
[{"$f":"相談時家計グラフデータ!A7","v":"教養・娯楽費用"},null,null,{"$f":"相談時家計グラフデータ!D7","v":45},"教育等費用"]
[{"$f":"相談時家計グラフデータ!A8","v":"その他"},null,null,{"$f":"相談時家計グラフデータ!D8","v":19},"教養・娯楽費用"]
[{"$f":"相談時家計グラフデータ!A9","v":"税金・保険"},null,null,{"$f":"相談時家計グラフデータ!D9","v":31},"その他"]
[{"$f":"相談時家計グラフデータ!A10","v":"返済金"},null,null,{"$f":"相談時家計グラフデータ!D10","v":10},"税金・保険"]
[{"$f":"相談時家計グラフデータ!A11","v":"収入"},0,"",{"$f":"相談時家計グラフデータ!D11","v":20},"返済金"]
[]
[]
[{"$f":"B11-H4","v":0}]

{"sheet":"支出内訳変化データ","index":4,"n_rows":26,"n_cols":4,"rows_kept":26,"cut":false,"hidden":true,"merged":[]}
[{"$f":"①相談時家計表!A2 & \"：　\" &①相談時家計表!B2 & \" 様\"","v":"相談者氏名：　 様"}]
[null,"相談時","計画","パターン"]
[{"$f":"相談時家計グラフデータ!A3","v":"住居費"},{"$f":"相談時家計グラフデータ!C3","v":0},{"$f":"家計計画表グラフデータ!C3","v":0},{"$f":"相談時家計グラフデータ!D3","v":2}]
[{"$f":"相談時家計グラフデータ!A4","v":"基本生活費"},{"$f":"相談時家計グラフデータ!C4","v":0},{"$f":"家計計画表グラフデータ!C4","v":0},{"$f":"相談時家計グラフデータ!D4","v":4}]
[{"$f":"相談時家計グラフデータ!A5","v":"通信費・車両費"},{"$f":"相談時家計グラフデータ!C5","v":0},{"$f":"家計計画表グラフデータ!C5","v":0},{"$f":"相談時家計グラフデータ!D5","v":7}]
[{"$f":"相談時家計グラフデータ!A6","v":"教育等費用"},{"$f":"相談時家計グラフデータ!C6","v":0},{"$f":"家計計画表グラフデータ!C6","v":0},{"$f":"相談時家計グラフデータ!D6","v":32}]
[{"$f":"相談時家計グラフデータ!A7","v":"教養・娯楽費用"},{"$f":"相談時家計グラフデータ!C7","v":0},{"$f":"家計計画表グラフデータ!C7","v":0},{"$f":"相談時家計グラフデータ!D7","v":45}]
[{"$f":"相談時家計グラフデータ!A8","v":"その他"},{"$f":"相談時家計グラフデータ!C8","v":0},{"$f":"家計計画表グラフデータ!C8","v":0},{"$f":"相談時家計グラフデータ!D8","v":19}]
[{"$f":"相談時家計グラフデータ!A9","v":"税金・保険"},{"$f":"相談時家計グラフデータ!C9","v":0},{"$f":"家計計画表グラフデータ!C9","v":0},{"$f":"相談時家計グラフデータ!D9","v":31}]
[{"$f":"相談時家計グラフデータ!A10","v":"返済金"},{"$f":"相談時家計グラフデータ!C10","v":0},{"$f":"家計計画表グラフデータ!C10","v":0},{"$f":"相談時家計グラフデータ!D10","v":10}]
["合計",{"$f":"SUM(B3:B10)","v":0},{"$f":"SUM(C3:C10)","v":0}]
[]
[null,{"$f":"\"相談時： \" & TEXT(SUM(B3:B10),\"#,##0円\")","v":"相談時： 0円"},{"$f":"\"計画時： \" & TEXT(SUM(C3:C10),\"#,##0円\")","v":"計画時： 0円"}]
[]
[]
[]
[]
[{"$f":"A10","v":"返済金"},{"$f":"B10","v":0},0,{"$f":"B18-C18","v":0}]
[{"$f":"A9","v":"税金・保険"},{"$f":"B9","v":0},0,{"$f":"B19-C19","v":0}]
[{"$f":"A8","v":"その他"},{"$f":"B8","v":0},0,0]
[{"$f":"A7","v":"教養・娯楽費用"},{"$f":"B7","v":0},0,0]
[{"$f":"A6","v":"教育等費用"},{"$f":"B6","v":0},0,0]
[{"$f":"A5","v":"通信費・車両費"},{"$f":"B5","v":0},0,0]
[{"$f":"A4","v":"基本生活費"},{"$f":"B4","v":0},0,0]
[{"$f":"A3","v":"住居費"},{"$f":"B3","v":0},0,0]
[{"$f":"A11","v":"合計"},{"$f":"B11","v":0},0,0]

{"sheet":"④家計計画表","index":7,"n_rows":61,"n_cols":59,"rows_kept":61,"cut":false,"hidden":false,"merged":[[59,24,59,25],[46,30,46,31],[46,34,46,35],[30,36,32,36],[33,30,33,31],[33,34,33,35],[34,36,37,36],[38,34,38,35],[34,26,37,26],[38,24,38,25],[59,34,59,35],[60,30,60,31],[60,34,60,35],[47,36,48,36],[49,36,51,36],[52,36,53,36],[54,36,55,36],[58,30,58,31],[58,34,58,35],[2,24,2,26],[11,26,13,26],[21,30,22,30],[23,34,23,35],[24,36,28,36],[28,30,28,31],[19,26,22,26],[23,24,23,25],[24,26,28,26],[2,34,2,36],[4,34,4,35],[5,36,7,36],[8,34,8,35],[9,36,10,36],[11,36,13,36],[15,30,15,32],[17,30,17,31],[17,34,17,35],[60,20,60,21],[60,24,60,25],[4,24,4,25],[17,24,17,25],[47,26,48,26],[49,26,51,26],[52,26,53,26],[54,26,55,26],[58,20,58,21],[58,24,58,25],[39,20,39,21],[39,26,41,26],[42,26,45,26],[46,20,46,21],[46,24,46,25],[30,26,32,26],[33,20,33,21],[33,24,33,25],[5,26,7,26],[8,24,8,25],[9,26,10,26],[15,20,15,22],[17,20,17,21],[18,20,18,21],[2,4,2,6],[4,4,4,5],[5,6,7,6],[8,4,8,5],[9,6,10,6],[11,6,13,6],[11,16,13,16],[4,19,4,20],[5,16,7,16],[8,14,8,15],[3,18,44,18],[34,6,37,6],[38,4,38,5],[15,10,15,12],[30,16,32,16],[2,14,2,16],[4,14,4,15],[9,16,10,16],[39,0,39,1],[39,6,41,6],[19,6,22,6],[30,6,32,6],[42,6,45,6],[54,6,55,6],[46,0,46,1],[46,4,46,5],[47,6,48,6],[49,6,51,6],[15,0,15,2],[17,0,17,1],[17,4,17,5],[18,0,18,1],[19,0,20,0],[49,16,51,16],[46,14,46,15],[28,10,28,11],[52,16,53,16],[52,6,53,6],[3,8,44,8],[47,8,60,8],[58,0,58,1],[58,4,58,5],[59,4,59,5],[60,0,60,1],[60,4,60,5],[21,0,22,0],[23,4,23,5],[24,6,28,6],[28,0,28,1],[29,4,29,5],[33,0,33,1],[33,4,33,5],[54,16,55,16],[38,14,38,15],[47,16,48,16],[24,16,28,16],[29,14,29,15],[42,16,45,16],[59,14,59,15],[60,14,60,15],[17,10,17,11],[18,10,18,11],[19,10,20,10],[39,10,39,11],[60,10,60,11],[46,10,46,11],[58,10,58,11],[58,14,58,15],[21,10,22,10],[39,16,41,16],[17,14,17,15],[19,16,22,16],[23,14,23,15],[34,16,37,16],[33,10,33,11],[33,14,33,15],[2,44,2,46],[4,44,4,45],[5,46,7,46],[8,44,8,45],[9,46,10,46],[11,46,13,46],[15,40,15,42],[17,40,17,41],[17,44,17,45],[18,40,18,41],[19,40,20,40],[19,46,22,46],[21,40,22,40],[23,44,23,45],[24,46,28,46],[28,40,28,41],[18,30,18,31],[19,30,20,30],[19,36,22,36],[30,46,32,46],[33,40,33,41],[33,44,33,45],[34,46,37,46],[38,44,38,45],[39,40,39,41],[39,46,41,46],[42,46,45,46],[19,20,20,20],[21,20,22,20],[28,20,28,21],[29,24,29,25],[39,30,39,31],[39,36,41,36],[42,36,45,36],[29,34,29,35],[46,40,46,41],[46,44,46,45],[47,46,48,46],[49,46,51,46],[52,46,53,46],[54,46,55,46],[58,40,58,41],[58,44,58,45],[59,44,59,45],[60,44,60,45],[2,54,2,56],[4,54,4,55],[5,56,7,56],[8,54,8,55],[9,56,10,56],[11,56,13,56],[15,50,15,52],[17,50,17,51],[17,54,17,55],[18,50,18,51],[19,50,20,50],[19,56,22,56],[21,50,22,50],[23,54,23,55],[24,56,28,56],[28,50,28,51],[29,54,29,55],[30,56,32,56],[33,50,33,51],[33,54,33,55],[34,56,37,56],[38,54,38,55],[29,44,29,45],[47,18,60,18],[3,28,44,28],[47,28,60,28],[47,38,60,38],[47,48,60,48],[47,58,60,58],[3,38,44,38],[3,48,44,48],[3,58,44,58],[58,50,58,51],[58,54,58,55],[59,54,59,55],[60,50,60,51],[60,54,60,55],[39,50,39,51],[39,56,41,56],[42,56,45,56],[46,50,46,51],[46,54,46,55],[47,56,48,56],[49,56,51,56],[52,56,53,56],[54,56,55,56],[60,40,60,41]]}
[]
[null,null,"3．相談時家計表",null,null,{"$f":"IF(①相談時家計表!F1=\"\",\"\",①相談時家計表!F1)","v":"20XX年XX月分"},null,"相談日：",{"$f":"①相談時家計表!I1","v":"20XX/XX/XX"},null,null,null,"4．家計計画表①",null,null,"20XX年XX月分",null,"相談日：","20XX/XX/XX",null,null,null,"4．家計計画表②",null,null,"20XX年XX月分",null,"相談日：","20XX/XX/XX",null,null,null,"4．家計計画表③",null,null,"20XX年XX月分",null,"相談日：","20XX/XX/XX",null,null,null,"4．家計計画表④",null,null,"20XX年XX月分",null,"相談日：","20XX/XX/XX",null,null,null,"4．家計計画表⑤",null,null,"20XX年XX月分",null,"相談日：","20XX/XX/XX"]
["相談者氏名",{"$f":"IF(①相談時家計表!B2=\"\",\"\",①相談時家計表!B2)","v":""},null,null,"支　　出",null,null,null,{"$f":"IF(①相談時家計表!I2=\"\",\"\",①相談時家計表!I2)","v":"備　考"},null,"相談者氏名",{"$f":"B3","v":""},null,null,"支　　出",null,null,null,"備　考",null,"相談者氏名",{"$f":"B3","v":""},null,null,"支　　出",null,null,null,"備　考",null,"相談者氏名",{"$f":"B3","v":""},null,null,"支　　出",null,null,null,"備　考",null,"相談者氏名",{"$f":"B3","v":""},null,null,"支　　出",null,null,null,"備　考",null,"相談者氏名",{"$f":"B3","v":""},null,null,"支　　出",null,null,null,"備　考"]
["担当相談員名",{"$f":"IF(①相談時家計表!B3=\"\",\"\",①相談時家計表!B3)","v":""},null,null,"費　　目","金額（円）","小計（円）",null,{"$f":"IF(①相談時家計表!I3=\"\",\"\",①相談時家計表!I3)","v":""},null,"担当相談員名",{"$f":"B4","v":""},null,null,"費　　目","金額（円）","小計（円）",null,null,null,"担当相談員名",{"$f":"B4","v":""},null,null,"費　　目","金額（円）","小計（円）",null,null,null,"担当相談員名",{"$f":"B4","v":""},null,null,"費　　目","金額（円）","小計（円）",null,null,null,"担当相談員名",{"$f":"B4","v":""},null,null,"費　　目","金額（円）","小計（円）",null,null,null,"担当相談員名",{"$f":"B4","v":""},null,null,"費　　目","金額（円）","小計（円）"]
[null,null,null,null,"住居費",null,{"$f":"SUM(G6)","v":0},null,null,null,null,null,null,null,"住居費",null,{"$f":"SUM(Q6)","v":0},null,null,null,null,null,null,null,"住居費",null,{"$f":"SUM(AA6)","v":0},null,null,null,null,null,null,null,"住居費",null,{"$f":"SUM(AK6)","v":0},null,null,null,null,null,null,null,"住居費",null,{"$f":"SUM(AU6)","v":0},null,null,null,null,null,null,null,"住居費",null,{"$f":"SUM(BE6)","v":0}]
["世帯基本情報","世帯人員計・・・・・・・",{"$f":"IF(①相談時家計表!C5=\"\",\"\",①相談時家計表!C5)","v":0},null,{"$f":"IF(①相談時家計表!E5=\"\",\"\",①相談時家計表!E5)","v":"家賃"},{"$f":"IF(①相談時家計表!F5=\"\",\"\",①相談時家計表!F5)","v":""},{"$f":"SUM(F6:F8)","v":0},null,null,null,"世帯基本情報","世帯人員計・・・・・・・",{"$f":"SUM(M7,M9:M14)","v":0},null,"家賃",null,{"$f":"SUM(P6:P8)","v":0},null,null,null,"世帯基本情報","世帯人員計・・・・・・・",{"$f":"SUM(W7,W9:W14)","v":0},null,"家賃",null,{"$f":"SUM(Z6:Z8)","v":0},null,null,null,"世帯基本情報","世帯人員計・・・・・・・",{"$f":"SUM(AG7,AG9:AG14)","v":0},null,"家賃",null,{"$f":"SUM(AJ6:AJ8)","v":0},null,null,null,"世帯基本情報","世帯人員計・・・・・・・",{"$f":"SUM(AQ7,AQ9:AQ14)","v":0},null,"家賃",null,{"$f":"SUM(AT6:AT8)","v":0},null,null,null,"世帯基本情報","世帯人員計・・・・・・・",{"$f":"SUM(BA7,BA9:BA14)","v":0},null,"家賃",null,{"$f":"SUM(BD6:BD8)","v":0}]
["【内訳】","成人・・・・・・・・・・",{"$f":"IF(①相談時家計表!C6=\"\",\"\",①相談時家計表!C6)","v":0},null,{"$f":"IF(①相談時家計表!E6=\"\",\"\",①相談時家計表!E6)","v":"管理費"},{"$f":"IF(①相談時家計表!F6=\"\",\"\",①相談時家計表!F6)","v":""},null,null,null,null,"【内訳】","成人・・・・・・・・・・",0,null,"管理費",null,null,null,null,null,"【内訳】","成人・・・・・・・・・・",0,null,"管理費",null,null,null,null,null,"【内訳】","成人・・・・・・・・・・",0,null,"管理費",null,null,null,null,null,"【内訳】","成人・・・・・・・・・・",0,null,"管理費",null,null,null,null,null,"【内訳】","成人・・・・・・・・・・",0,null,"管理費"]
[null,"うち高齢者・・・・・・",{"$f":"IF(①相談時家計表!C7=\"\",\"\",①相談時家計表!C7)","v":0},null,{"$f":"IF(①相談時家計表!E7=\"\",\"\",①相談時家計表!E7)","v":"維持費・修理費・更新費"},{"$f":"IF(①相談時家計表!F7=\"\",\"\",①相談時家計表!F7)","v":""},null,null,null,null,null,"うち高齢者・・・・・・",0,null,"維持費・修理費・更新費",null,null,null,null,null,null,"うち高齢者・・・・・・",0,null,"維持費・修理費・更新費",null,null,null,null,null,null,"うち高齢者・・・・・・",0,null,"維持費・修理費・更新費",null,null,null,null,null,null,"うち高齢者・・・・・・",0,null,"維持費・修理費・更新費",null,null,null,null,null,null,"うち高齢者・・・・・・",0,null,"維持費・修理費・更新費"]
[null,"未成年(下記以外)・・・・",{"$f":"IF(①相談時家計表!C8=\"\",\"\",①相談時家計表!C8)","v":0},null,"基本生活費",null,{"$f":"SUM(G10:G17)","v":0},null,null,null,null,"未成年(下記以外)・・・・",0,null,"基本生活費",null,{"$f":"SUM(Q10:Q17)","v":0},null,null,null,null,"未成年(下記以外)・・・・",0,null,"基本生活費",null,{"$f":"SUM(AA10:AA17)","v":0},null,null,null,null,"未成年(下記以外)・・・・",0,null,"基本生活費",null,{"$f":"SUM(AK10:AK17)","v":0},null,null,null,null,"未成年(下記以外)・・・・",0,null,"基本生活費",null,{"$f":"SUM(AU10:AU17)","v":0},null,null,null,null,"未成年(下記以外)・・・・",0,null,"基本生活費",null,{"$f":"SUM(BE10:BE17)","v":0}]
[null,"大学生等・・・・・・・・",{"$f":"IF(①相談時家計表!C9=\"\",\"\",①相談時家計表!C9)","v":0},null,{"$f":"IF(①相談時家計表!E9=\"\",\"\",①相談時家計表!E9)","v":"食費"},{"$f":"IF(①相談時家計表!F9=\"\",\"\",①相談時家計表!F9)","v":""},{"$f":"SUM(F10:F11)","v":0},null,null,null,null,"大学生等・・・・・・・・",0,null,"食費",null,{"$f":"SUM(P10:P11)","v":0},null,null,null,null,"大学生等・・・・・・・・",0,null,"食費",null,{"$f":"SUM(Z10:Z11)","v":0},null,null,null,null,"大学生等・・・・・・・・",0,null,"食費",null,{"$f":"SUM(AJ10:AJ11)","v":0},null,null,null,null,"大学生等・・・・・・・・",0,null,"食費",null,{"$f":"SUM(AT10:AT11)","v":0},null,null,null,null,"大学生等・・・・・・・・",0,null,"食費",null,{"$f":"SUM(BD10:BD11)","v":0}]
[null,"高校生・・・・・・・・・",{"$f":"IF(①相談時家計表!C10=\"\",\"\",①相談時家計表!C10)","v":0},null,{"$f":"IF(①相談時家計表!E10=\"\",\"\",①相談時家計表!E10)","v":"外食費"},{"$f":"IF(①相談時家計表!F10=\"\",\"\",①相談時家計表!F10)","v":""},{"$f":"IF(①相談時家計表!G10=\"\",\"\",①相談時家計表!G10)","v":""},null,null,null,null,"高校生・・・・・・・・・",0,null,"外食費",null,{"$f":"IF(①相談時家計表!Q10=\"\",\"\",①相談時家計表!Q10)","v":""},null,null,null,null,"高校生・・・・・・・・・",0,null,"外食費",null,{"$f":"IF(①相談時家計表!AA10=\"\",\"\",①相談時家計表!AA10)","v":""},null,null,null,null,"高校生・・・・・・・・・",0,null,"外食費",null,{"$f":"IF(①相談時家計表!AK10=\"\",\"\",①相談時家計表!AK10)","v":""},null,null,null,null,"高校生・・・・・・・・・",0,null,"外食費",null,{"$f":"IF(①相談時家計表!AU10=\"\",\"\",①相談時家計表!AU10)","v":""},null,null,null,null,"高校生・・・・・・・・・",0,null,"外食費",null,{"$f":"IF(①相談時家計表!BE10=\"\",\"\",①相談時家計表!BE10)","v":""}]
[null,"中学生・・・・・・・・・",{"$f":"IF(①相談時家計表!C11=\"\",\"\",①相談時家計表!C11)","v":0},null,{"$f":"IF(①相談時家計表!E11=\"\",\"\",①相談時家計表!E11)","v":"電気代"},{"$f":"IF(①相談時家計表!F11=\"\",\"\",①相談時家計表!F11)","v":""},{"$f":"SUM(F12:F14)","v":0},null,null,null,null,"中学生・・・・・・・・・",0,null,"電気代",null,{"$f":"SUM(P12:P14)","v":0},null,null,null,null,"中学生・・・・・・・・・",0,null,"電気代",null,{"$f":"SUM(Z12:Z14)","v":0},null,null,null,null,"中学生・・・・・・・・・",0,null,"電気代",null,{"$f":"SUM(AJ12:AJ14)","v":0},null,null,null,null,"中学生・・・・・・・・・",0,null,"電気代",null,{"$f":"SUM(AT12:AT14)","v":0},null,null,null,null,"中学生・・・・・・・・・",0,null,"電気代",null,{"$f":"SUM(BD12:BD14)","v":0}]
[null,"小学生・・・・・・・・・",{"$f":"IF(①相談時家計表!C12=\"\",\"\",①相談時家計表!C12)","v":0},null,{"$f":"IF(①相談時家計表!E12=\"\",\"\",①相談時家計表!E12)","v":"ガス代"},{"$f":"IF(①相談時家計表!F12=\"\",\"\",①相談時家計表!F12)","v":""},{"$f":"IF(①相談時家計表!G12=\"\",\"\",①相談時家計表!G12)","v":""},null,null,null,null,"小学生・・・・・・・・・",0,null,"ガス代",null,{"$f":"IF(①相談時家計表!Q12=\"\",\"\",①相談時家計表!Q12)","v":""},null,null,null,null,"小学生・・・・・・・・・",0,null,"ガス代",null,{"$f":"IF(①相談時家計表!AA12=\"\",\"\",①相談時家計表!AA12)","v":""},null,null,null,null,"小学生・・・・・・・・・",0,null,"ガス代",null,{"$f":"IF(①相談時家計表!AK12=\"\",\"\",①相談時家計表!AK12)","v":""},null,null,null,null,"小学生・・・・・・・・・",0,null,"ガス代",null,{"$f":"IF(①相談時家計表!AU12=\"\",\"\",①相談時家計表!AU12)","v":""},null,null,null,null,"小学生・・・・・・・・・",0,null,"ガス代",null,{"$f":"IF(①相談時家計表!BE12=\"\",\"\",①相談時家計表!BE12)","v":""}]
[null,"未就学児・・・・・・・・",{"$f":"IF(①相談時家計表!C13=\"\",\"\",①相談時家計表!C13)","v":0},null,{"$f":"IF(①相談時家計表!E13=\"\",\"\",①相談時家計表!E13)","v":"水道代"},{"$f":"IF(①相談時家計表!F13=\"\",\"\",①相談時家計表!F13)","v":""},{"$f":"IF(①相談時家計表!G13=\"\",\"\",①相談時家計表!G13)","v":""},null,null,null,null,"未就学児・・・・・・・・",0,null,"水道代",null,{"$f":"IF(①相談時家計表!Q13=\"\",\"\",①相談時家計表!Q13)","v":""},null,null,null,null,"未就学児・・・・・・・・",0,null,"水道代",null,{"$f":"IF(①相談時家計表!AA13=\"\",\"\",①相談時家計表!AA13)","v":""},null,null,null,null,"未就学児・・・・・・・・",0,null,"水道代",null,{"$f":"IF(①相談時家計表!AK13=\"\",\"\",①相談時家計表!AK13)","v":""},null,null,null,null,"未就学児・・・・・・・・",0,null,"水道代",null,{"$f":"IF(①相談時家計表!AU13=\"\",\"\",①相談時家計表!AU13)","v":""},null,null,null,null,"未就学児・・・・・・・・",0,null,"水道代",null,{"$f":"IF(①相談時家計表!BE13=\"\",\"\",①相談時家計表!BE13)","v":""}]
[null,null,null,null,{"$f":"IF(①相談時家計表!E14=\"\",\"\",①相談時家計表!E14)","v":"灯油代"},{"$f":"IF(①相談時家計表!F14=\"\",\"\",①相談時家計表!F14)","v":""},{"$f":"SUM(F15)","v":0},null,null,null,null,null,null,null,"灯油代",null,{"$f":"SUM(P15)","v":0},null,null,null,null,null,null,null,"灯油代",null,{"$f":"SUM(Z15)","v":0},null,null,null,null,null,null,null,"灯油代",null,{"$f":"SUM(AJ15)","v":0},null,null,null,null,null,null,null,"灯油代",null,{"$f":"SUM(AT15)","v":0},null,null,null,null,null,null,null,"灯油代",null,{"$f":"SUM(BD15)","v":0}]
["収　　入",null,null,null,{"$f":"IF(①相談時家計表!E15=\"\",\"\",①相談時家計表!E15)","v":"被服・理美容・雑貨費"},{"$f":"IF(①相談時家計表!F15=\"\",\"\",①相談時家計表!F15)","v":""},{"$f":"SUM(F16)","v":0},null,null,null,"収　　入",null,null,null,"被服・理美容・雑貨費",null,{"$f":"SUM(P16)","v":0},null,null,null,"収　　入",null,null,null,"被服・理美容・雑貨費",null,{"$f":"SUM(Z16)","v":0},null,null,null,"収　　入",null,null,null,"被服・理美容・雑貨費",null,{"$f":"SUM(AJ16)","v":0},null,null,null,"収　　入",null,null,null,"被服・理美容・雑貨費",null,{"$f":"SUM(AT16)","v":0},null,null,null,"収　　入",null,null,null,"被服・理美容・雑貨費",null,{"$f":"SUM(BD16)","v":0}]
["名義人","費　　　目","金額（円）",null,{"$f":"IF(①相談時家計表!E16=\"\",\"\",①相談時家計表!E16)","v":"医療費・介護費等"},{"$f":"IF(①相談時家計表!F16=\"\",\"\",①相談時家計表!F16)","v":""},0,null,null,null,"名義人","費　　　目","金額（円）",null,"医療費・介護費等",null,0,null,null,null,"名義人","費　　　目","金額（円）",null,"医療費・介護費等",null,0,null,null,null,"名義人","費　　　目","金額（円）",null,"医療費・介護費等",null,0,null,null,null,"名義人","費　　　目","金額（円）",null,"医療費・介護費等",null,0,null,null,null,"名義人","費　　　目","金額（円）",null,"医療費・介護費等",null,0]
["前月からの繰越金",null,{"$f":"IF(①相談時家計表!C17=\"\",0,①相談時家計表!C17)","v":0},null,"通信費・車両費",null,{"$f":"SUM(G19:G23)","v":0},null,null,null,"前月からの繰越金",null,0,null,"通信費・車両費",null,{"$f":"SUM(Q19:Q23)","v":0},null,null,null,"前月からの繰越金",null,0,null,"通信費・車両費",null,{"$f":"SUM(AA19:AA23)","v":0},null,null,null,"前月からの繰越金",null,0,null,"通信費・車両費",null,{"$f":"SUM(AK19:AK23)","v":0},null,null,null,"前月からの繰越金",null,0,null,"通信費・車両費",null,{"$f":"SUM(AU19:AU23)","v":0},null,null,null,"前月からの繰越金",null,0,null,"通信費・車両費",null,{"$f":"SUM(BE19:BE23)","v":0}]
["基本収入",null,{"$f":"SUM(C20:C28)","v":0},null,{"$f":"IF(①相談時家計表!E18=\"\",\"\",①相談時家計表!E18)","v":"電話・携帯電話・ｲﾝﾀｰﾈｯﾄ"},{"$f":"IF(①相談時家計表!F18=\"\",\"\",①相談時家計表!F18)","v":""},{"$f":"SUM(F19)","v":0},null,null,null,"基本収入",null,{"$f":"SUM(M20:M28)","v":0},null,"電話・携帯電話・ｲﾝﾀｰﾈｯﾄ",null,{"$f":"SUM(P19)","v":0},null,null,null,"基本収入",null,{"$f":"SUM(W20:W28)","v":0},null,"電話・携帯電話・ｲﾝﾀｰﾈｯﾄ",null,{"$f":"SUM(Z19)","v":0},null,null,null,"基本収入",null,{"$f":"SUM(AG20:AG28)","v":0},null,"電話・携帯電話・ｲﾝﾀｰﾈｯﾄ",null,{"$f":"SUM(AJ19)","v":0},null,null,null,"基本収入",null,{"$f":"SUM(AQ20:AQ28)","v":0},null,"電話・携帯電話・ｲﾝﾀｰﾈｯﾄ",null,{"$f":"SUM(AT19)","v":0},null,null,null,"基本収入",null,{"$f":"SUM(BA20:BA28)","v":0},null,"電話・携帯電話・ｲﾝﾀｰﾈｯﾄ",null,{"$f":"SUM(BD19)","v":0}]
[{"$f":"IF(①相談時家計表!A19=\"\",\"\",①相談時家計表!A19)","v":"本人"},{"$f":"IF(①相談時家計表!B19=\"\",\"\",①相談時家計表!B19)","v":"給与       ①"},{"$f":"IF(①相談時家計表!C19=\"\",\"\",①相談時家計表!C19)","v":""},null,{"$f":"IF(①相談時家計表!E19=\"\",\"\",①相談時家計表!E19)","v":"ガソリン代 （通勤費含む）"},{"$f":"IF(①相談時家計表!F19=\"\",\"\",①相談時家計表!F19)","v":""},{"$f":"SUM(F20:F23)","v":0},null,null,null,"本人","給与       ①",null,null,"ガソリン代 （通勤費含む）",null,{"$f":"SUM(P20:P23)","v":0},null,null,null,"本人","給与       ①",null,null,"ガソリン代 （通勤費含む）",null,{"$f":"SUM(Z20:Z23)","v":0},null,null,null,"本人","給与       ①",null,null,"ガソリン代 （通勤費含む）",null,{"$f":"SUM(AJ20:AJ23)","v":0},null,null,null,"本人","給与       ①",null,null,"ガソリン代 （通勤費含む）",null,{"$f":"SUM(AT20:AT23)","v":0},null,null,null,"本人","給与       ①",null,null,"ガソリン代 （通勤費含む）",null,{"$f":"SUM(BD20:BD23)","v":0}]
[{"$f":"IF(①相談時家計表!A20=\"\",\"\",①相談時家計表!A20)","v":""},{"$f":"IF(①相談時家計表!B20=\"\",\"\",①相談時家計表!B20)","v":"給与       ②"},{"$f":"IF(①相談時家計表!C20=\"\",\"\",①相談時家計表!C20)","v":""},null,{"$f":"IF(①相談時家計表!E20=\"\",\"\",①相談時家計表!E20)","v":"駐車場代"},{"$f":"IF(①相談時家計表!F20=\"\",\"\",①相談時家計表!F20)","v":""},{"$f":"IF(①相談時家計表!G20=\"\",\"\",①相談時家計表!G20)","v":""},null,null,null,null,"給与       ②",null,null,"駐車場代",null,{"$f":"IF(①相談時家計表!Q20=\"\",\"\",①相談時家計表!Q20)","v":""},null,null,null,null,"給与       ②",null,null,"駐車場代",null,{"$f":"IF(①相談時家計表!AA20=\"\",\"\",①相談時家計表!AA20)","v":""},null,null,null,null,"給与       ②",null,null,"駐車場代",null,{"$f":"IF(①相談時家計表!AK20=\"\",\"\",①相談時家計表!AK20)","v":""},null,null,null,null,"給与       ②",null,null,"駐車場代",null,{"$f":"IF(①相談時家計表!AU20=\"\",\"\",①相談時家計表!AU20)","v":""},null,null,null,null,"給与       ②",null,null,"駐車場代",null,{"$f":"IF(①相談時家計表!BE20=\"\",\"\",①相談時家計表!BE20)","v":""}]
[{"$f":"IF(①相談時家計表!A21=\"\",\"\",①相談時家計表!A21)","v":"配偶者"},{"$f":"IF(①相談時家計表!B21=\"\",\"\",①相談時家計表!B21)","v":"給与       ①"},{"$f":"IF(①相談時家計表!C21=\"\",\"\",①相談時家計表!C21)","v":""},null,{"$f":"IF(①相談時家計表!E21=\"\",\"\",①相談時家計表!E21)","v":"車検・車修理代"},{"$f":"IF(①相談時家計表!F21=\"\",\"\",①相談時家計表!F21)","v":""},{"$f":"IF(①相談時家計表!G21=\"\",\"\",①相談時家計表!G21)","v":""},null,null,null,"配偶者","給与       ①",null,null,"車検・車修理代",null,{"$f":"IF(①相談時家計表!Q21=\"\",\"\",①相談時家計表!Q21)","v":""},null,null,null,"配偶者","給与       ①",null,null,"車検・車修理代",null,{"$f":"IF(①相談時家計表!AA21=\"\",\"\",①相談時家計表!AA21)","v":""},null,null,null,"配偶者","給与       ①",null,null,"車検・車修理代",null,{"$f":"IF(①相談時家計表!AK21=\"\",\"\",①相談時家計表!AK21)","v":""},null,null,null,"配偶者","給与       ①",null,null,"車検・車修理代",null,{"$f":"IF(①相談時家計表!AU21=\"\",\"\",①相談時家計表!AU21)","v":""},null,null,null,"配偶者","給与       ①",null,null,"車検・車修理代",null,{"$f":"IF(①相談時家計表!BE21=\"\",\"\",①相談時家計表!BE21)","v":""}]
[{"$f":"IF(①相談時家計表!A22=\"\",\"\",①相談時家計表!A22)","v":""},{"$f":"IF(①相談時家計表!B22=\"\",\"\",①相談時家計表!B22)","v":"給与       ②"},{"$f":"IF(①相談時家計表!C22=\"\",\"\",①相談時家計表!C22)","v":""},null,{"$f":"IF(①相談時家計表!E22=\"\",\"\",①相談時家計表!E22)","v":"通勤交通費"},{"$f":"IF(①相談時家計表!F22=\"\",\"\",①相談時家計表!F22)","v":""},{"$f":"IF(①相談時家計表!G22=\"\",\"\",①相談時家計表!G22)","v":""},null,null,null,null,"給与       ②",null,null,"通勤交通費",null,{"$f":"IF(①相談時家計表!Q22=\"\",\"\",①相談時家計表!Q22)","v":""},null,null,null,null,"給与       ②",null,null,"通勤交通費",null,{"$f":"IF(①相談時家計表!AA22=\"\",\"\",①相談時家計表!AA22)","v":""},null,null,null,null,"給与       ②",null,null,"通勤交通費",null,{"$f":"IF(①相談時家計表!AK22=\"\",\"\",①相談時家計表!AK22)","v":""},null,null,null,null,"給与       ②",null,null,"通勤交通費",null,{"$f":"IF(①相談時家計表!AU22=\"\",\"\",①相談時家計表!AU22)","v":""},null,null,null,null,"給与       ②",null,null,"通勤交通費",null,{"$f":"IF(①相談時家計表!BE22=\"\",\"\",①相談時家計表!BE22)","v":""}]
[{"$f":"IF(①相談時家計表!A23=\"\",\"\",①相談時家計表!A23)","v":""},{"$f":"IF(①相談時家計表!B23=\"\",\"\",①相談時家計表!B23)","v":""},{"$f":"IF(①相談時家計表!C23=\"\",\"\",①相談時家計表!C23)","v":""},null,"教育等費用",null,{"$f":"SUM(G25)","v":0},null,null,null,null,null,null,null,"教育等費用",null,{"$f":"SUM(Q25)","v":0},null,null,null,null,null,null,null,"教育等費用",null,{"$f":"SUM(AA25)","v":0},null,null,null,null,null,null,null,"教育等費用",null,{"$f":"SUM(AK25)","v":0},null,null,null,null,null,null,null,"教育等費用",null,{"$f":"SUM(AU25)","v":0},null,null,null,null,null,null,null,"教育等費用",null,{"$f":"SUM(BE25)","v":0}]
[{"$f":"IF(①相談時家計表!A24=\"\",\"\",①相談時家計表!A24)","v":"本人"},{"$f":"IF(①相談時家計表!B24=\"\",\"\",①相談時家計表!B24)","v":"年金"},{"$f":"IF(①相談時家計表!C24=\"\",\"\",①相談時家計表!C24)","v":""},null,{"$f":"IF(①相談時家計表!E24=\"\",\"\",①相談時家計表!E24)","v":"学費・保育料・給食費等"},{"$f":"IF(①相談時家計表!F24=\"\",\"\",①相談時家計表!F24)","v":""},{"$f":"SUM(F25:F29)","v":0},null,null,null,"本人","年金",null,null,"学費・保育料・給食費等",null,{"$f":"SUM(P25:P29)","v":0},null,null,null,"本人","年金",null,null,"学費・保育料・給食費等",null,{"$f":"SUM(Z25:Z29)","v":0},null,null,null,"本人","年金",null,null,"学費・保育料・給食費等",null,{"$f":"SUM(AJ25:AJ29)","v":0},null,null,null,"本人","年金",null,null,"学費・保育料・給食費等",null,{"$f":"SUM(AT25:AT29)","v":0},null,null,null,"本人","年金",null,null,"学費・保育料・給食費等",null,{"$f":"SUM(BD25:BD29)","v":0}]
[{"$f":"IF(①相談時家計表!A25=\"\",\"\",①相談時家計表!A25)","v":"配偶者"},{"$f":"IF(①相談時家計表!B25=\"\",\"\",①相談時家計表!B25)","v":"年金"},{"$f":"IF(①相談時家計表!C25=\"\",\"\",①相談時家計表!C25)","v":""},null,{"$f":"IF(①相談時家計表!E25=\"\",\"\",①相談時家計表!E25)","v":"部活動等の費用"},{"$f":"IF(①相談時家計表!F25=\"\",\"\",①相談時家計表!F25)","v":""},{"$f":"IF(①相談時家計表!G25=\"\",\"\",①相談時家計表!G25)","v":""},null,null,null,"配偶者","年金",null,null,"部活動等の費用",null,{"$f":"IF(①相談時家計表!Q25=\"\",\"\",①相談時家計表!Q25)","v":""},null,null,null,"配偶者","年金",null,null,"部活動等の費用",null,{"$f":"IF(①相談時家計表!AA25=\"\",\"\",①相談時家計表!AA25)","v":""},null,null,null,"配偶者","年金",null,null,"部活動等の費用",null,{"$f":"IF(①相談時家計表!AK25=\"\",\"\",①相談時家計表!AK25)","v":""},null,null,null,"配偶者","年金",null,null,"部活動等の費用",null,{"$f":"IF(①相談時家計表!AU25=\"\",\"\",①相談時家計表!AU25)","v":""},null,null,null,"配偶者","年金",null,null,"部活動等の費用",null,{"$f":"IF(①相談時家計表!BE25=\"\",\"\",①相談時家計表!BE25)","v":""}]
[{"$f":"IF(①相談時家計表!A26=\"\",\"\",①相談時家計表!A26)","v":"同居者(　　)"},{"$f":"IF(①相談時家計表!B26=\"\",\"\",①相談時家計表!B26)","v":"年金"},{"$f":"IF(①相談時家計表!C26=\"\",\"\",①相談時家計表!C26)","v":""},null,{"$f":"IF(①相談時家計表!E26=\"\",\"\",①相談時家計表!E26)","v":"通学交通費"},{"$f":"IF(①相談時家計表!F26=\"\",\"\",①相談時家計表!F26)","v":""},{"$f":"IF(①相談時家計表!G26=\"\",\"\",①相談時家計表!G26)","v":""},null,null,null,"同居者(　　)","年金",null,null,"通学交通費",null,{"$f":"IF(①相談時家計表!Q26=\"\",\"\",①相談時家計表!Q26)","v":""},null,null,null,"同居者(　　)","年金",null,null,"通学交通費",null,{"$f":"IF(①相談時家計表!AA26=\"\",\"\",①相談時家計表!AA26)","v":""},null,null,null,"同居者(　　)","年金",null,null,"通学交通費",null,{"$f":"IF(①相談時家計表!AK26=\"\",\"\",①相談時家計表!AK26)","v":""},null,null,null,"同居者(　　)","年金",null,null,"通学交通費",null,{"$f":"IF(①相談時家計表!AU26=\"\",\"\",①相談時家計表!AU26)","v":""},null,null,null,"同居者(　　)","年金",null,null,"通学交通費",null,{"$f":"IF(①相談時家計表!BE26=\"\",\"\",①相談時家計表!BE26)","v":""}]
[{"$f":"IF(①相談時家計表!A27=\"\",\"\",①相談時家計表!A27)","v":""},{"$f":"IF(①相談時家計表!B27=\"\",\"\",①相談時家計表!B27)","v":""},{"$f":"IF(①相談時家計表!C27=\"\",\"\",①相談時家計表!C27)","v":""},null,{"$f":"IF(①相談時家計表!E27=\"\",\"\",①相談時家計表!E27)","v":"塾・習い事費用"},{"$f":"IF(①相談時家計表!F27=\"\",\"\",①相談時家計表!F27)","v":""},{"$f":"IF(①相談時家計表!G27=\"\",\"\",①相談時家計表!G27)","v":""},null,null,null,null,null,null,null,"塾・習い事費用",null,{"$f":"IF(①相談時家計表!Q27=\"\",\"\",①相談時家計表!Q27)","v":""},null,null,null,null,null,null,null,"塾・習い事費用",null,{"$f":"IF(①相談時家計表!AA27=\"\",\"\",①相談時家計表!AA27)","v":""},null,null,null,null,null,null,null,"塾・習い事費用",null,{"$f":"IF(①相談時家計表!AK27=\"\",\"\",①相談時家計表!AK27)","v":""},null,null,null,null,null,null,null,"塾・習い事費用",null,{"$f":"IF(①相談時家計表!AU27=\"\",\"\",①相談時家計表!AU27)","v":""},null,null,null,null,null,null,null,"塾・習い事費用",null,{"$f":"IF(①相談時家計表!BE27=\"\",\"\",①相談時家計表!BE27)","v":""}]
["臨時収入・賞与",null,null,null,{"$f":"IF(①相談時家計表!E28=\"\",\"\",①相談時家計表!E28)","v":"お小遣い・仕送り生活費"},{"$f":"IF(①相談時家計表!F28=\"\",\"\",①相談時家計表!F28)","v":""},{"$f":"IF(①相談時家計表!G28=\"\",\"\",①相談時家計表!G28)","v":""},null,null,null,"臨時収入・賞与",null,null,null,"お小遣い・仕送り生活費",null,{"$f":"IF(①相談時家計表!Q28=\"\",\"\",①相談時家計表!Q28)","v":""},null,null,null,"臨時収入・賞与",null,null,null,"お小遣い・仕送り生活費",null,{"$f":"IF(①相談時家計表!AA28=\"\",\"\",①相談時家計表!AA28)","v":""},null,null,null,"臨時収入・賞与",null,null,null,"お小遣い・仕送り生活費",null,{"$f":"IF(①相談時家計表!AK28=\"\",\"\",①相談時家計表!AK28)","v":""},null,null,null,"臨時収入・賞与",null,null,null,"お小遣い・仕送り生活費",null,{"$f":"IF(①相談時家計表!AU28=\"\",\"\",①相談時家計表!AU28)","v":""},null,null,null,"臨時収入・賞与",null,null,null,"お小遣い・仕送り生活費",null,{"$f":"IF(①相談時家計表!BE28=\"\",\"\",①相談時家計表!BE28)","v":""}]
[{"$f":"IF(①相談時家計表!A29=\"\",\"\",①相談時家計表!A29)","v":"本人"},{"$f":"IF(①相談時家計表!B29=\"\",\"\",①相談時家計表!B29)","v":"（　賞与　年間    万　）"},{"$f":"IF(①相談時家計表!C29=\"\",\"\",①相談時家計表!C29)","v":""},null,"教養・娯楽費用",null,{"$f":"SUM(G31)","v":0},null,null,null,"本人","（　賞与　年間    万　）",null,null,"教養・娯楽費用",null,{"$f":"SUM(Q31)","v":0},null,null,null,"本人","（　賞与　年間    万　）",null,null,"教養・娯楽費用",null,{"$f":"SUM(AA31)","v":0},null,null,null,"本人","（　賞与　年間    万　）",null,null,"教養・娯楽費用",null,{"$f":"SUM(AK31)","v":0},null,null,null,"本人","（　賞与　年間    万　）",null,null,"教養・娯楽費用",null,{"$f":"SUM(AU31)","v":0},null,null,null,"本人","（　賞与　年間    万　）",null,null,"教養・娯楽費用",null,{"$f":"SUM(BE31)","v":0}]
[{"$f":"IF(①相談時家計表!A30=\"\",\"\",①相談時家計表!A30)","v":""},{"$f":"IF(①相談時家計表!B30=\"\",\"\",①相談時家計表!B30)","v":"夏、冬"},{"$f":"IF(①相談時家計表!C30=\"\",\"\",①相談時家計表!C30)","v":""},null,{"$f":"IF(①相談時家計表!E30=\"\",\"\",①相談時家計表!E30)","v":"新聞・本・雑誌・教養用品"},{"$f":"IF(①相談時家計表!F30=\"\",\"\",①相談時家計表!F30)","v":""},{"$f":"SUM(F31:F33)","v":0},null,null,null,null,"夏、冬",null,null,"新聞・本・雑誌・教養用品",null,{"$f":"SUM(P31:P33)","v":0},null,null,null,null,"夏、冬",null,null,"新聞・本・雑誌・教養用品",null,{"$f":"SUM(Z31:Z33)","v":0},null,null,null,null,"夏、冬",null,null,"新聞・本・雑誌・教養用品",null,{"$f":"SUM(AJ31:AJ33)","v":0},null,null,null,null,"夏、冬",null,null,"新聞・本・雑誌・教養用品",null,{"$f":"SUM(AT31:AT33)","v":0},null,null,null,null,"夏、冬",null,null,"新聞・本・雑誌・教養用品",null,{"$f":"SUM(BD31:BD33)","v":0}]
[{"$f":"IF(①相談時家計表!A31=\"\",\"\",①相談時家計表!A31)","v":"配偶者"},{"$f":"IF(①相談時家計表!B31=\"\",\"\",①相談時家計表!B31)","v":""},{"$f":"IF(①相談時家計表!C31=\"\",\"\",①相談時家計表!C31)","v":""},null,{"$f":"IF(①相談時家計表!E31=\"\",\"\",①相談時家計表!E31)","v":"遊興費・娯楽費用"},{"$f":"IF(①相談時家計表!F31=\"\",\"\",①相談時家計表!F31)","v":""},{"$f":"IF(①相談時家計表!G31=\"\",\"\",①相談時家計表!G31)","v":""},null,null,null,"配偶者",null,null,null,"遊興費・娯楽費用",null,{"$f":"IF(①相談時家計表!Q31=\"\",\"\",①相談時家計表!Q31)","v":""},null,null,null,"配偶者",null,null,null,"遊興費・娯楽費用",null,{"$f":"IF(①相談時家計表!AA31=\"\",\"\",①相談時家計表!AA31)","v":""},null,null,null,"配偶者",null,null,null,"遊興費・娯楽費用",null,{"$f":"IF(①相談時家計表!AK31=\"\",\"\",①相談時家計表!AK31)","v":""},null,null,null,"配偶者",null,null,null,"遊興費・娯楽費用",null,{"$f":"IF(①相談時家計表!AU31=\"\",\"\",①相談時家計表!AU31)","v":""},null,null,null,"配偶者",null,null,null,"遊興費・娯楽費用",null,{"$f":"IF(①相談時家計表!BE31=\"\",\"\",①相談時家計表!BE31)","v":""}]
[{"$f":"IF(①相談時家計表!A32=\"\",\"\",①相談時家計表!A32)","v":""},{"$f":"IF(①相談時家計表!B32=\"\",\"\",①相談時家計表!B32)","v":""},{"$f":"IF(①相談時家計表!C32=\"\",\"\",①相談時家計表!C32)","v":""},null,{"$f":"IF(①相談時家計表!E32=\"\",\"\",①相談時家計表!E32)","v":""},{"$f":"IF(①相談時家計表!F32=\"\",\"\",①相談時家計表!F32)","v":""},{"$f":"IF(①相談時家計表!G32=\"\",\"\",①相談時家計表!G32)","v":""},null,null,null,null,null,null,null,null,null,{"$f":"IF(①相談時家計表!Q32=\"\",\"\",①相談時家計表!Q32)","v":""},null,null,null,null,null,null,null,null,null,{"$f":"IF(①相談時家計表!AA32=\"\",\"\",①相談時家計表!AA32)","v":""},null,null,null,null,null,null,null,null,null,{"$f":"IF(①相談時家計表!AK32=\"\",\"\",①相談時家計表!AK32)","v":""},null,null,null,null,null,null,null,null,null,{"$f":"IF(①相談時家計表!AU32=\"\",\"\",①相談時家計表!AU32)","v":""},null,null,null,null,null,null,null,null,null,{"$f":"IF(①相談時家計表!BE32=\"\",\"\",①相談時家計表!BE32)","v":""}]
["援助収入や手当等の収入（毎月）",null,{"$f":"SUM(C35:C39)","v":0},null,"その他",null,{"$f":"SUM(G35)","v":0},null,null,null,"援助収入や手当等の収入（毎月）",null,{"$f":"SUM(M35:M39)","v":0},null,"その他",null,{"$f":"SUM(Q35)","v":0},null,null,null,"援助収入や手当等の収入（毎月）",null,{"$f":"SUM(W35:W39)","v":0},null,"その他",null,{"$f":"SUM(AA35)","v":0},null,null,null,"援助収入や手当等の収入（毎月）",null,{"$f":"SUM(AG35:AG39)","v":0},null,"その他",null,{"$f":"SUM(AK35)","v":0},null,null,null,"援助収入や手当等の収入（毎月）",null,{"$f":"SUM(AQ35:AQ39)","v":0},null,"その他",null,{"$f":"SUM(AU35)","v":0},null,null,null,"援助収入や手当等の収入（毎月）",null,{"$f":"SUM(BA35:BA39)","v":0},null,"その他",null,{"$f":"SUM(BE35)","v":0}]
[{"$f":"IF(①相談時家計表!A34=\"\",\"\",①相談時家計表!A34)","v":""},{"$f":"IF(①相談時家計表!B34=\"\",\"\",①相談時家計表!B34)","v":"雇用保険"},{"$f":"IF(①相談時家計表!C34=\"\",\"\",①相談時家計表!C34)","v":""},null,{"$f":"IF(①相談時家計表!E34=\"\",\"\",①相談時家計表!E34)","v":"酒代/酒飲食交際費"},{"$f":"IF(①相談時家計表!F34=\"\",\"\",①相談時家計表!F34)","v":""},{"$f":"SUM(F35:F38)","v":0},null,null,null,null,"雇用保険",null,null,"酒代/酒飲食交際費",null,{"$f":"SUM(P35:P38)","v":0},null,null,null,null,"雇用保険",null,null,"酒代/酒飲食交際費",null,{"$f":"SUM(Z35:Z38)","v":0},null,null,null,null,"雇用保険",null,null,"酒代/酒飲食交際費",null,{"$f":"SUM(AJ35:AJ38)","v":0},null,null,null,null,"雇用保険",null,null,"酒代/酒飲食交際費",null,{"$f":"SUM(AT35:AT38)","v":0},null,null,null,null,"雇用保険",null,null,"酒代/酒飲食交際費",null,{"$f":"SUM(BD35:BD38)","v":0}]
[{"$f":"IF(①相談時家計表!A35=\"\",\"\",①相談時家計表!A35)","v":""},{"$f":"IF(①相談時家計表!B35=\"\",\"\",①相談時家計表!B35)","v":"生活保護"},{"$f":"IF(①相談時家計表!C35=\"\",\"\",①相談時家計表!C35)","v":""},null,{"$f":"IF(①相談時家計表!E35=\"\",\"\",①相談時家計表!E35)","v":"たばこ・お小遣い"},{"$f":"IF(①相談時家計表!F35=\"\",\"\",①相談時家計表!F35)","v":""},{"$f":"IF(①相談時家計表!G35=\"\",\"\",①相談時家計表!G35)","v":""},null,null,null,null,"生活保護",null,null,"たばこ・お小遣い",null,{"$f":"IF(①相談時家計表!Q35=\"\",\"\",①相談時家計表!Q35)","v":""},null,null,null,null,"生活保護",null,null,"たばこ・お小遣い",null,{"$f":"IF(①相談時家計表!AA35=\"\",\"\",①相談時家計表!AA35)","v":""},null,null,null,null,"生活保護",null,null,"たばこ・お小遣い",null,{"$f":"IF(①相談時家計表!AK35=\"\",\"\",①相談時家計表!AK35)","v":""},null,null,null,null,"生活保護",null,null,"たばこ・お小遣い",null,{"$f":"IF(①相談時家計表!AU35=\"\",\"\",①相談時家計表!AU35)","v":""},null,null,null,null,"生活保護",null,null,"たばこ・お小遣い",null,{"$f":"IF(①相談時家計表!BE35=\"\",\"\",①相談時家計表!BE35)","v":""}]
[{"$f":"IF(①相談時家計表!A36=\"\",\"\",①相談時家計表!A36)","v":""},{"$f":"IF(①相談時家計表!B36=\"\",\"\",①相談時家計表!B36)","v":"養育費"},{"$f":"IF(①相談時家計表!C36=\"\",\"\",①相談時家計表!C36)","v":""},null,{"$f":"IF(①相談時家計表!E36=\"\",\"\",①相談時家計表!E36)","v":""},{"$f":"IF(①相談時家計表!F36=\"\",\"\",①相談時家計表!F36)","v":""},{"$f":"IF(①相談時家計表!G36=\"\",\"\",①相談時家計表!G36)","v":""},null,null,null,null,"養育費",null,null,null,null,{"$f":"IF(①相談時家計表!Q36=\"\",\"\",①相談時家計表!Q36)","v":""},null,null,null,null,"養育費",null,null,null,null,{"$f":"IF(①相談時家計表!AA36=\"\",\"\",①相談時家計表!AA36)","v":""},null,null,null,null,"養育費",null,null,null,null,{"$f":"IF(①相談時家計表!AK36=\"\",\"\",①相談時家計表!AK36)","v":""},null,null,null,null,"養育費",null,null,null,null,{"$f":"IF(①相談時家計表!AU36=\"\",\"\",①相談時家計表!AU36)","v":""},null,null,null,null,"養育費",null,null,null,null,{"$f":"IF(①相談時家計表!BE36=\"\",\"\",①相談時家計表!BE36)","v":""}]
[{"$f":"IF(①相談時家計表!A37=\"\",\"\",①相談時家計表!A37)","v":""},{"$f":"IF(①相談時家計表!B37=\"\",\"\",①相談時家計表!B37)","v":"援助"},{"$f":"IF(①相談時家計表!C37=\"\",\"\",①相談時家計表!C37)","v":""},null,{"$f":"IF(①相談時家計表!E37=\"\",\"\",①相談時家計表!E37)","v":""},{"$f":"IF(①相談時家計表!F37=\"\",\"\",①相談時家計表!F37)","v":""},{"$f":"IF(①相談時家計表!G37=\"\",\"\",①相談時家計表!G37)","v":""},null,null,null,null,"援助",null,null,null,null,{"$f":"IF(①相談時家計表!Q37=\"\",\"\",①相談時家計表!Q37)","v":""},null,null,null,null,"援助",null,null,null,null,{"$f":"IF(①相談時家計表!AA37=\"\",\"\",①相談時家計表!AA37)","v":""},null,null,null,null,"援助",null,null,null,null,{"$f":"IF(①相談時家計表!AK37=\"\",\"\",①相談時家計表!AK37)","v":""},null,null,null,null,"援助",null,null,null,null,{"$f":"IF(①相談時家計表!AU37=\"\",\"\",①相談時家計表!AU37)","v":""},null,null,null,null,"援助",null,null,null,null,{"$f":"IF(①相談時家計表!BE37=\"\",\"\",①相談時家計表!BE37)","v":""}]
[{"$f":"IF(①相談時家計表!A38=\"\",\"\",①相談時家計表!A38)","v":""},{"$f":"IF(①相談時家計表!B38=\"\",\"\",①相談時家計表!B38)","v":""},{"$f":"IF(①相談時家計表!C38=\"\",\"\",①相談時家計表!C38)","v":""},null,"税金・保険",null,{"$f":"SUM(G40:G46)","v":0},null,null,null,null,null,null,null,"税金・保険",null,{"$f":"SUM(Q40:Q46)","v":0},null,null,null,null,null,null,null,"税金・保険",null,{"$f":"SUM(AA40:AA46)","v":0},null,null,null,null,null,null,null,"税金・保険",null,{"$f":"SUM(AK40:AK46)","v":0},null,null,null,null,null,null,null,"税金・保険",null,{"$f":"SUM(AU40:AU46)","v":0},null,null,null,null,null,null,null,"税金・保険",null,{"$f":"SUM(BE40:BE46)","v":0}]
["援助収入や手当等の収入（毎月以外）",null,{"$f":"SUM(C41:C46)","v":0},null,{"$f":"IF(①相談時家計表!E39=\"\",\"\",①相談時家計表!E39)","v":"税金（住民税・固定資産税・自動車税等）"},{"$f":"IF(①相談時家計表!F39=\"\",\"\",①相談時家計表!F39)","v":""},{"$f":"SUM(F40:F42)","v":0},null,null,null,"援助収入や手当等の収入（毎月以外）",null,{"$f":"SUM(M41:M46)","v":0},null,"税金（住民税・固定資産税・自動車税等）",null,{"$f":"SUM(P40:P42)","v":0},null,null,null,"援助収入や手当等の収入（毎月以外）",null,{"$f":"SUM(W41:W46)","v":0},null,"税金（住民税・固定資産税・自動車税等）",null,{"$f":"SUM(Z40:Z42)","v":0},null,null,null,"援助収入や手当等の収入（毎月以外）",null,{"$f":"SUM(AG41:AG46)","v":0},null,"税金（住民税・固定資産税・自動車税等）",null,{"$f":"SUM(AJ40:AJ42)","v":0},null,null,null,"援助収入や手当等の収入（毎月以外）",null,{"$f":"SUM(AQ41:AQ46)","v":0},null,"税金（住民税・固定資産税・自動車税等）",null,{"$f":"SUM(AT40:AT42)","v":0},null,null,null,"援助収入や手当等の収入（毎月以外）",null,{"$f":"SUM(BA41:BA46)","v":0},null,"税金（住民税・固定資産税・自動車税等）",null,{"$f":"SUM(BD40:BD42)","v":0}]
[{"$f":"IF(①相談時家計表!A40=\"\",\"\",①相談時家計表!A40)","v":""},{"$f":"IF(①相談時家計表!B40=\"\",\"\",①相談時家計表!B40)","v":"児童手当"},{"$f":"IF(①相談時家計表!C40=\"\",\"\",①相談時家計表!C40)","v":""},null,{"$f":"IF(①相談時家計表!E40=\"\",\"\",①相談時家計表!E40)","v":"社会保険料（国保・国民年金等）"},{"$f":"IF(①相談時家計表!F40=\"\",\"\",①相談時家計表!F40)","v":""},{"$f":"IF(①相談時家計表!G40=\"\",\"\",①相談時家計表!G40)","v":""},null,null,null,null,"児童手当",null,null,"社会保険料（国保・国民年金等）",null,{"$f":"IF(①相談時家計表!Q40=\"\",\"\",①相談時家計表!Q40)","v":""},null,null,null,null,"児童手当",null,null,"社会保険料（国保・国民年金等）",null,{"$f":"IF(①相談時家計表!AA40=\"\",\"\",①相談時家計表!AA40)","v":""},null,null,null,null,"児童手当",null,null,"社会保険料（国保・国民年金等）",null,{"$f":"IF(①相談時家計表!AK40=\"\",\"\",①相談時家計表!AK40)","v":""},null,null,null,null,"児童手当",null,null,"社会保険料（国保・国民年金等）",null,{"$f":"IF(①相談時家計表!AU40=\"\",\"\",①相談時家計表!AU40)","v":""},null,null,null,null,"児童手当",null,null,"社会保険料（国保・国民年金等）",null,{"$f":"IF(①相談時家計表!BE40=\"\",\"\",①相談時家計表!BE40)","v":""}]
[{"$f":"IF(①相談時家計表!A41=\"\",\"\",①相談時家計表!A41)","v":""},{"$f":"IF(①相談時家計表!B41=\"\",\"\",①相談時家計表!B41)","v":"児童扶養手当"},{"$f":"IF(①相談時家計表!C41=\"\",\"\",①相談時家計表!C41)","v":""},null,{"$f":"IF(①相談時家計表!E41=\"\",\"\",①相談時家計表!E41)","v":""},{"$f":"IF(①相談時家計表!F41=\"\",\"\",①相談時家計表!F41)","v":""},{"$f":"IF(①相談時家計表!G41=\"\",\"\",①相談時家計表!G41)","v":""},null,null,null,null,"児童扶養手当",null,null,null,null,{"$f":"IF(①相談時家計表!Q41=\"\",\"\",①相談時家計表!Q41)","v":""},null,null,null,null,"児童扶養手当",null,null,null,null,{"$f":"IF(①相談時家計表!AA41=\"\",\"\",①相談時家計表!AA41)","v":""},null,null,null,null,"児童扶養手当",null,null,null,null,{"$f":"IF(①相談時家計表!AK41=\"\",\"\",①相談時家計表!AK41)","v":""},null,null,null,null,"児童扶養手当",null,null,null,null,{"$f":"IF(①相談時家計表!AU41=\"\",\"\",①相談時家計表!AU41)","v":""},null,null,null,null,"児童扶養手当",null,null,null,null,{"$f":"IF(①相談時家計表!BE41=\"\",\"\",①相談時家計表!BE41)","v":""}]
[{"$f":"IF(①相談時家計表!A42=\"\",\"\",①相談時家計表!A42)","v":""},{"$f":"IF(①相談時家計表!B42=\"\",\"\",①相談時家計表!B42)","v":""},{"$f":"IF(①相談時家計表!C42=\"\",\"\",①相談時家計表!C42)","v":""},null,{"$f":"IF(①相談時家計表!E42=\"\",\"\",①相談時家計表!E42)","v":"貯蓄型保険（学資・年金保険等）"},{"$f":"IF(①相談時家計表!F42=\"\",\"\",①相談時家計表!F42)","v":""},{"$f":"SUM(F43:F46)","v":0},null,null,null,null,null,null,null,"貯蓄型保険（学資・年金保険等）",null,{"$f":"SUM(P43:P46)","v":0},null,null,null,null,null,null,null,"貯蓄型保険（学資・年金保険等）",null,{"$f":"SUM(Z43:Z46)","v":0},null,null,null,null,null,null,null,"貯蓄型保険（学資・年金保険等）",null,{"$f":"SUM(AJ43:AJ46)","v":0},null,null,null,null,null,null,null,"貯蓄型保険（学資・年金保険等）",null,{"$f":"SUM(AT43:AT46)","v":0},null,null,null,null,null,null,null,"貯蓄型保険（学資・年金保険等）",null,{"$f":"SUM(BD43:BD46)","v":0}]
[{"$f":"IF(①相談時家計表!A43=\"\",\"\",①相談時家計表!A43)","v":""},{"$f":"IF(①相談時家計表!B43=\"\",\"\",①相談時家計表!B43)","v":""},{"$f":"IF(①相談時家計表!C43=\"\",\"\",①相談時家計表!C43)","v":""},null,{"$f":"IF(①相談時家計表!E43=\"\",\"\",①相談時家計表!E43)","v":"掛捨型保険（車・火災等）"},{"$f":"IF(①相談時家計表!F43=\"\",\"\",①相談時家計表!F43)","v":""},{"$f":"IF(①相談時家計表!G43=\"\",\"\",①相談時家計表!G43)","v":""},null,null,null,null,null,null,null,"掛捨型保険（車・火災等）",null,{"$f":"IF(①相談時家計表!Q43=\"\",\"\",①相談時家計表!Q43)","v":""},null,null,null,null,null,null,null,"掛捨型保険（車・火災等）",null,{"$f":"IF(①相談時家計表!AA43=\"\",\"\",①相談時家計表!AA43)","v":""},null,null,null,null,null,null,null,"掛捨型保険（車・火災等）",null,{"$f":"IF(①相談時家計表!AK43=\"\",\"\",①相談時家計表!AK43)","v":""},null,null,null,null,null,null,null,"掛捨型保険（車・火災等）",null,{"$f":"IF(①相談時家計表!AU43=\"\",\"\",①相談時家計表!AU43)","v":""},null,null,null,null,null,null,null,"掛捨型保険（車・火災等）",null,{"$f":"IF(①相談時家計表!BE43=\"\",\"\",①相談時家計表!BE43)","v":""}]
[{"$f":"IF(①相談時家計表!A44=\"\",\"\",①相談時家計表!A44)","v":""},{"$f":"IF(①相談時家計表!B44=\"\",\"\",①相談時家計表!B44)","v":"副次的な収入"},{"$f":"IF(①相談時家計表!C44=\"\",\"\",①相談時家計表!C44)","v":""},null,{"$f":"IF(①相談時家計表!E44=\"\",\"\",①相談時家計表!E44)","v":"その他保険料"},{"$f":"IF(①相談時家計表!F44=\"\",\"\",①相談時家計表!F44)","v":""},{"$f":"IF(①相談時家計表!G44=\"\",\"\",①相談時家計表!G44)","v":""},null,null,null,null,"副次的な収入",null,null,"その他保険料",null,{"$f":"IF(①相談時家計表!Q44=\"\",\"\",①相談時家計表!Q44)","v":""},null,null,null,null,"副次的な収入",null,null,"その他保険料",null,{"$f":"IF(①相談時家計表!AA44=\"\",\"\",①相談時家計表!AA44)","v":""},null,null,null,null,"副次的な収入",null,null,"その他保険料",null,{"$f":"IF(①相談時家計表!AK44=\"\",\"\",①相談時家計表!AK44)","v":""},null,null,null,null,"副次的な収入",null,null,"その他保険料",null,{"$f":"IF(①相談時家計表!AU44=\"\",\"\",①相談時家計表!AU44)","v":""},null,null,null,null,"副次的な収入",null,null,"その他保険料",null,{"$f":"IF(①相談時家計表!BE44=\"\",\"\",①相談時家計表!BE44)","v":""}]
[{"$f":"IF(①相談時家計表!A45=\"\",\"\",①相談時家計表!A45)","v":""},{"$f":"IF(①相談時家計表!B45=\"\",\"\",①相談時家計表!B45)","v":""},{"$f":"IF(①相談時家計表!C45=\"\",\"\",①相談時家計表!C45)","v":""},null,{"$f":"IF(①相談時家計表!E45=\"\",\"\",①相談時家計表!E45)","v":""},{"$f":"IF(①相談時家計表!F45=\"\",\"\",①相談時家計表!F45)","v":""},{"$f":"IF(①相談時家計表!G45=\"\",\"\",①相談時家計表!G45)","v":""},null,{"$f":"IF(①相談時家計表!I45=\"\",\"\",①相談時家計表!I45)","v":"返済金以外の計"},null,null,null,null,null,null,null,{"$f":"IF(①相談時家計表!Q45=\"\",\"\",①相談時家計表!Q45)","v":""},null,{"$f":"IF(I46=\"\",\"\",I46)","v":"返済金以外の計"},null,null,null,null,null,null,null,{"$f":"IF(①相談時家計表!AA45=\"\",\"\",①相談時家計表!AA45)","v":""},null,{"$f":"IF(S46=\"\",\"\",S46)","v":"返済金以外の計"},null,null,null,null,null,null,null,{"$f":"IF(①相談時家計表!AK45=\"\",\"\",①相談時家計表!AK45)","v":""},null,{"$f":"IF(AC46=\"\",\"\",AC46)","v":"返済金以外の計"},null,null,null,null,null,null,null,{"$f":"IF(①相談時家計表!AU45=\"\",\"\",①相談時家計表!AU45)","v":""},null,{"$f":"IF(AM46=\"\",\"\",AM46)","v":"返済金以外の計"},null,null,null,null,null,null,null,{"$f":"IF(①相談時家計表!BE45=\"\",\"\",①相談時家計表!BE45)","v":""},null,{"$f":"IF(AW46=\"\",\"\",AW46)","v":"返済金以外の計"}]
["借入金",null,{"$f":"SUM(C48:C57)","v":0},null,"返済金",null,{"$f":"SUM(G48:G57)","v":0},null,{"$f":"G59-G47","v":0},null,"借入金",null,{"$f":"SUM(M48:M49)","v":0},null,"返済金",null,{"$f":"SUM(Q48:Q57)","v":0},null,{"$f":"Q59-Q47","v":0},null,"借入金",null,{"$f":"SUM(W48:W49)","v":0},null,"返済金",null,{"$f":"SUM(AA48:AA57)","v":0},null,{"$f":"AA59-AA47","v":0},null,"借入金",null,{"$f":"SUM(AG48:AG49)","v":0},null,"返済金",null,{"$f":"SUM(AK48:AK57)","v":0},null,{"$f":"AK59-AK47","v":0},null,"借入金",null,{"$f":"SUM(AQ48:AQ49)","v":0},null,"返済金",null,{"$f":"SUM(AU48:AU57)","v":0},null,{"$f":"AU59-AU47","v":0},null,"借入金",null,{"$f":"SUM(BA48:BA49)","v":0},null,"返済金",null,{"$f":"SUM(BE48:BE57)","v":0},null,{"$f":"BE59-BE47","v":0}]
[{"$f":"IF(①相談時家計表!A47=\"\",\"\",①相談時家計表!A47)","v":"借入金"},{"$f":"IF(①相談時家計表!B47=\"\",\"\",①相談時家計表!B47)","v":"（　　　　　　　　　）"},{"$f":"IF(①相談時家計表!C47=\"\",\"\",①相談時家計表!C47)","v":""},null,{"$f":"IF(①相談時家計表!E47=\"\",\"\",①相談時家計表!E47)","v":"住宅ローン"},{"$f":"IF(①相談時家計表!F47=\"\",\"\",①相談時家計表!F47)","v":""},{"$f":"SUM(F48:F49)","v":0},null,{"$f":"IF(①相談時家計表!I47=\"\",\"\",①相談時家計表!I47)","v":""},null,"借入金","（　　　　　　　　　）",null,null,"住宅ローン",null,{"$f":"SUM(P48:P49)","v":0},null,null,null,"借入金","（　　　　　　　　　）",null,null,"住宅ローン",null,{"$f":"SUM(Z48:Z49)","v":0},null,null,null,"借入金","（　　　　　　　　　）",null,null,"住宅ローン",null,{"$f":"SUM(AJ48:AJ49)","v":0},null,null,null,"借入金","（　　　　　　　　　）",null,null,"住宅ローン",null,{"$f":"SUM(AT48:AT49)","v":0},null,null,null,"借入金","（　　　　　　　　　）",null,null,"住宅ローン",null,{"$f":"SUM(BD48:BD49)","v":0}]
[{"$f":"IF(①相談時家計表!A48=\"\",\"\",①相談時家計表!A48)","v":"借入金"},{"$f":"IF(①相談時家計表!B48=\"\",\"\",①相談時家計表!B48)","v":"（　　　　　　　　　）"},{"$f":"IF(①相談時家計表!C48=\"\",\"\",①相談時家計表!C48)","v":""},null,{"$f":"IF(①相談時家計表!E48=\"\",\"\",①相談時家計表!E48)","v":"自動車ローン"},{"$f":"IF(①相談時家計表!F48=\"\",\"\",①相談時家計表!F48)","v":""},{"$f":"IF(①相談時家計表!G48=\"\",\"\",①相談時家計表!G48)","v":""},null,null,null,"借入金","（　　　　　　　　　）",null,null,"自動車ローン",null,{"$f":"IF(①相談時家計表!Q48=\"\",\"\",①相談時家計表!Q48)","v":""},null,null,null,"借入金","（　　　　　　　　　）",null,null,"自動車ローン",null,{"$f":"IF(①相談時家計表!AA48=\"\",\"\",①相談時家計表!AA48)","v":""},null,null,null,"借入金","（　　　　　　　　　）",null,null,"自動車ローン",null,{"$f":"IF(①相談時家計表!AK48=\"\",\"\",①相談時家計表!AK48)","v":""},null,null,null,"借入金","（　　　　　　　　　）",null,null,"自動車ローン",null,{"$f":"IF(①相談時家計表!AU48=\"\",\"\",①相談時家計表!AU48)","v":""},null,null,null,"借入金","（　　　　　　　　　）",null,null,"自動車ローン",null,{"$f":"IF(①相談時家計表!BE48=\"\",\"\",①相談時家計表!BE48)","v":""}]
[{"$f":"IF(①相談時家計表!A49=\"\",\"\",①相談時家計表!A49)","v":"借入金"},{"$f":"IF(①相談時家計表!B49=\"\",\"\",①相談時家計表!B49)","v":"（　　　　　　　　　）"},{"$f":"IF(①相談時家計表!C49=\"\",\"\",①相談時家計表!C49)","v":""},null,{"$f":"IF(①相談時家計表!E49=\"\",\"\",①相談時家計表!E49)","v":"銀行"},{"$f":"IF(①相談時家計表!F49=\"\",\"\",①相談時家計表!F49)","v":""},{"$f":"SUM(F50:F52)","v":0},null,null,null,"借入金","（　　　　　　　　　）",null,null,"銀行",null,{"$f":"SUM(P50:P52)","v":0},null,null,null,"借入金","（　　　　　　　　　）",null,null,"銀行",null,{"$f":"SUM(Z50:Z52)","v":0},null,null,null,"借入金","（　　　　　　　　　）",null,null,"銀行",null,{"$f":"SUM(AJ50:AJ52)","v":0},null,null,null,"借入金","（　　　　　　　　　）",null,null,"銀行",null,{"$f":"SUM(AT50:AT52)","v":0},null,null,null,"借入金","（　　　　　　　　　）",null,null,"銀行",null,{"$f":"SUM(BD50:BD52)","v":0}]
[{"$f":"IF(①相談時家計表!A50=\"\",\"\",①相談時家計表!A50)","v":"借入金"},{"$f":"IF(①相談時家計表!B50=\"\",\"\",①相談時家計表!B50)","v":"（　　　　　　　　　）"},{"$f":"IF(①相談時家計表!C50=\"\",\"\",①相談時家計表!C50)","v":""},null,{"$f":"IF(①相談時家計表!E50=\"\",\"\",①相談時家計表!E50)","v":"消費者金融"},{"$f":"IF(①相談時家計表!F50=\"\",\"\",①相談時家計表!F50)","v":""},{"$f":"IF(①相談時家計表!G50=\"\",\"\",①相談時家計表!G50)","v":""},null,null,null,"借入金","（　　　　　　　　　）",null,null,"消費者金融",null,{"$f":"IF(①相談時家計表!Q50=\"\",\"\",①相談時家計表!Q50)","v":""},null,null,null,"借入金","（　　　　　　　　　）",null,null,"消費者金融",null,{"$f":"IF(①相談時家計表!AA50=\"\",\"\",①相談時家計表!AA50)","v":""},null,null,null,"借入金","（　　　　　　　　　）",null,null,"消費者金融",null,{"$f":"IF(①相談時家計表!AK50=\"\",\"\",①相談時家計表!AK50)","v":""},null,null,null,"借入金","（　　　　　　　　　）",null,null,"消費者金融",null,{"$f":"IF(①相談時家計表!AU50=\"\",\"\",①相談時家計表!AU50)","v":""},null,null,null,"借入金","（　　　　　　　　　）",null,null,"消費者金融",null,{"$f":"IF(①相談時家計表!BE50=\"\",\"\",①相談時家計表!BE50)","v":""}]
[{"$f":"IF(①相談時家計表!A51=\"\",\"\",①相談時家計表!A51)","v":"借入金"},{"$f":"IF(①相談時家計表!B51=\"\",\"\",①相談時家計表!B51)","v":"（　　　　　　　　　）"},{"$f":"IF(①相談時家計表!C51=\"\",\"\",①相談時家計表!C51)","v":""},null,{"$f":"IF(①相談時家計表!E51=\"\",\"\",①相談時家計表!E51)","v":"クレジット（ｷｬｯｼﾝｸﾞ・物品）"},{"$f":"IF(①相談時家計表!F51=\"\",\"\",①相談時家計表!F51)","v":""},{"$f":"IF(①相談時家計表!G51=\"\",\"\",①相談時家計表!G51)","v":""},null,null,null,"借入金","（　　　　　　　　　）",null,null,"クレジット（ｷｬｯｼﾝｸﾞ・物品）",null,{"$f":"IF(①相談時家計表!Q51=\"\",\"\",①相談時家計表!Q51)","v":""},null,null,null,"借入金","（　　　　　　　　　）",null,null,"クレジット（ｷｬｯｼﾝｸﾞ・物品）",null,{"$f":"IF(①相談時家計表!AA51=\"\",\"\",①相談時家計表!AA51)","v":""},null,null,null,"借入金","（　　　　　　　　　）",null,null,"クレジット（ｷｬｯｼﾝｸﾞ・物品）",null,{"$f":"IF(①相談時家計表!AK51=\"\",\"\",①相談時家計表!AK51)","v":""},null,null,null,"借入金","（　　　　　　　　　）",null,null,"クレジット（ｷｬｯｼﾝｸﾞ・物品）",null,{"$f":"IF(①相談時家計表!AU51=\"\",\"\",①相談時家計表!AU51)","v":""},null,null,null,"借入金","（　　　　　　　　　）",null,null,"クレジット（ｷｬｯｼﾝｸﾞ・物品）",null,{"$f":"IF(①相談時家計表!BE51=\"\",\"\",①相談時家計表!BE51)","v":""}]
[{"$f":"IF(①相談時家計表!A52=\"\",\"\",①相談時家計表!A52)","v":""},{"$f":"IF(①相談時家計表!B52=\"\",\"\",①相談時家計表!B52)","v":""},{"$f":"IF(①相談時家計表!C52=\"\",\"\",①相談時家計表!C52)","v":""},null,{"$f":"IF(①相談時家計表!E52=\"\",\"\",①相談時家計表!E52)","v":"滞納税金・社会保険料等"},{"$f":"IF(①相談時家計表!F52=\"\",\"\",①相談時家計表!F52)","v":""},{"$f":"SUM(F53:F54)","v":0},null,null,null,null,null,null,null,"滞納税金・社会保険料等",null,{"$f":"SUM(P53:P54)","v":0},null,null,null,null,null,null,null,"滞納税金・社会保険料等",null,{"$f":"SUM(Z53:Z54)","v":0},null,null,null,null,null,null,null,"滞納税金・社会保険料等",null,{"$f":"SUM(AJ53:AJ54)","v":0},null,null,null,null,null,null,null,"滞納税金・社会保険料等",null,{"$f":"SUM(AT53:AT54)","v":0},null,null,null,null,null,null,null,"滞納税金・社会保険料等",null,{"$f":"SUM(BD53:BD54)","v":0}]
[{"$f":"IF(①相談時家計表!A53=\"\",\"\",①相談時家計表!A53)","v":""},{"$f":"IF(①相談時家計表!B53=\"\",\"\",①相談時家計表!B53)","v":""},{"$f":"IF(①相談時家計表!C53=\"\",\"\",①相談時家計表!C53)","v":""},null,{"$f":"IF(①相談時家計表!E53=\"\",\"\",①相談時家計表!E53)","v":"滞納生活費（家賃・光熱水費等）"},{"$f":"IF(①相談時家計表!F53=\"\",\"\",①相談時家計表!F53)","v":""},{"$f":"IF(①相談時家計表!G53=\"\",\"\",①相談時家計表!G53)","v":""},null,null,null,null,null,null,null,"滞納生活費（家賃・光熱水費等）",null,{"$f":"IF(①相談時家計表!Q53=\"\",\"\",①相談時家計表!Q53)","v":""},null,null,null,null,null,null,null,"滞納生活費（家賃・光熱水費等）",null,{"$f":"IF(①相談時家計表!AA53=\"\",\"\",①相談時家計表!AA53)","v":""},null,null,null,null,null,null,null,"滞納生活費（家賃・光熱水費等）",null,{"$f":"IF(①相談時家計表!AK53=\"\",\"\",①相談時家計表!AK53)","v":""},null,null,null,null,null,null,null,"滞納生活費（家賃・光熱水費等）",null,{"$f":"IF(①相談時家計表!AU53=\"\",\"\",①相談時家計表!AU53)","v":""},null,null,null,null,null,null,null,"滞納生活費（家賃・光熱水費等）",null,{"$f":"IF(①相談時家計表!BE53=\"\",\"\",①相談時家計表!BE53)","v":""}]
[{"$f":"IF(①相談時家計表!A54=\"\",\"\",①相談時家計表!A54)","v":""},{"$f":"IF(①相談時家計表!B54=\"\",\"\",①相談時家計表!B54)","v":""},{"$f":"IF(①相談時家計表!C54=\"\",\"\",①相談時家計表!C54)","v":""},null,{"$f":"IF(①相談時家計表!E54=\"\",\"\",①相談時家計表!E54)","v":"個人からの借金"},{"$f":"IF(①相談時家計表!F54=\"\",\"\",①相談時家計表!F54)","v":""},{"$f":"SUM(F55:F56)","v":0},null,null,null,null,null,null,null,"個人からの借金",null,{"$f":"SUM(P55:P56)","v":0},null,null,null,null,null,null,null,"個人からの借金",null,{"$f":"SUM(Z55:Z56)","v":0},null,null,null,null,null,null,null,"個人からの借金",null,{"$f":"SUM(AJ55:AJ56)","v":0},null,null,null,null,null,null,null,"個人からの借金",null,{"$f":"SUM(AT55:AT56)","v":0},null,null,null,null,null,null,null,"個人からの借金",null,{"$f":"SUM(BD55:BD56)","v":0}]
[{"$f":"IF(①相談時家計表!A55=\"\",\"\",①相談時家計表!A55)","v":""},{"$f":"IF(①相談時家計表!B55=\"\",\"\",①相談時家計表!B55)","v":""},{"$f":"IF(①相談時家計表!C55=\"\",\"\",①相談時家計表!C55)","v":""},null,{"$f":"IF(①相談時家計表!E55=\"\",\"\",①相談時家計表!E55)","v":"その他の返済"},{"$f":"IF(①相談時家計表!F55=\"\",\"\",①相談時家計表!F55)","v":""},{"$f":"IF(①相談時家計表!G55=\"\",\"\",①相談時家計表!G55)","v":""},null,null,null,null,null,null,null,"その他の返済",null,{"$f":"IF(①相談時家計表!Q55=\"\",\"\",①相談時家計表!Q55)","v":""},null,null,null,null,null,null,null,"その他の返済",null,{"$f":"IF(①相談時家計表!AA55=\"\",\"\",①相談時家計表!AA55)","v":""},null,null,null,null,null,null,null,"その他の返済",null,{"$f":"IF(①相談時家計表!AK55=\"\",\"\",①相談時家計表!AK55)","v":""},null,null,null,null,null,null,null,"その他の返済",null,{"$f":"IF(①相談時家計表!AU55=\"\",\"\",①相談時家計表!AU55)","v":""},null,null,null,null,null,null,null,"その他の返済",null,{"$f":"IF(①相談時家計表!BE55=\"\",\"\",①相談時家計表!BE55)","v":""}]
[{"$f":"IF(①相談時家計表!A56=\"\",\"\",①相談時家計表!A56)","v":""},{"$f":"IF(①相談時家計表!B56=\"\",\"\",①相談時家計表!B56)","v":""},{"$f":"IF(①相談時家計表!C56=\"\",\"\",①相談時家計表!C56)","v":""},null,{"$f":"IF(①相談時家計表!E56=\"\",\"\",①相談時家計表!E56)","v":"家計再生のための新規借入の返済"},{"$f":"IF(①相談時家計表!F56=\"\",\"\",①相談時家計表!F56)","v":""},{"$f":"SUM(F57)","v":0},null,null,null,null,null,null,null,"家計再生のための新規借入の返済",null,{"$f":"SUM(P57)","v":0},null,null,null,null,null,null,null,"家計再生のための新規借入の返済",null,{"$f":"SUM(Z57)","v":0},null,null,null,null,null,null,null,"家計再生のための新規借入の返済",null,{"$f":"SUM(AJ57)","v":0},null,null,null,null,null,null,null,"家計再生のための新規借入の返済",null,{"$f":"SUM(AT57)","v":0},null,null,null,null,null,null,null,"家計再生のための新規借入の返済",null,{"$f":"SUM(BD57)","v":0}]
["預貯金取崩し",null,{"$f":"IF(①相談時家計表!C57=\"\",0,①相談時家計表!C57)","v":0},null,{"$f":"IF(①相談時家計表!E57=\"\",\"\",①相談時家計表!E57)","v":"預貯金預入れ"},{"$f":"IF(①相談時家計表!F57=\"\",\"\",①相談時家計表!F57)","v":""},{"$f":"SUM(F58)","v":0},null,null,null,"預貯金取崩し",null,0,null,"預貯金預入れ",null,{"$f":"SUM(P58)","v":0},null,null,null,"預貯金取崩し",null,0,null,"預貯金預入れ",null,{"$f":"SUM(Z58)","v":0},null,null,null,"預貯金取崩し",null,0,null,"預貯金預入れ",null,{"$f":"SUM(AJ58)","v":0},null,null,null,"預貯金取崩し",null,0,null,"預貯金預入れ",null,{"$f":"SUM(AT58)","v":0},null,null,null,"預貯金取崩し",null,0,null,"預貯金預入れ",null,{"$f":"SUM(BD58)","v":0}]
["当月の収入合計",null,{"$f":"C19+C29+C34+C40+C47+C58","v":0},null,"当月の支出合計",null,{"$f":"G58+G47+G39+G34+G30+G24+G18+G9+G5","v":0},null,null,null,"当月の収入合計",null,{"$f":"M19+M29+M34+M40+M47+M58","v":0},null,"当月の支出合計",null,{"$f":"Q58+Q47+Q39+Q34+Q30+Q24+Q18+Q9+Q5","v":0},null,null,null,"当月の収入合計",null,{"$f":"W19+W29+W34+W40+W47+W58","v":0},null,"当月の支出合計",null,{"$f":"AA58+AA47+AA39+AA34+AA30+AA24+AA18+AA9+AA5","v":0},null,null,null,"当月の収入合計",null,{"$f":"AG19+AG29+AG34+AG40+AG47+AG58","v":0},null,"当月の支出合計",null,{"$f":"AK58+AK47+AK39+AK34+AK30+AK24+AK18+AK9+AK5","v":0},null,null,null,"当月の収入合計",null,{"$f":"AQ19+AQ29+AQ34+AQ40+AQ47+AQ58","v":0},null,"当月の支出合計",null,{"$f":"AU58+AU47+AU39+AU34+AU30+AU24+AU18+AU9+AU5","v":0},null,null,null,"当月の収入合計",null,{"$f":"BA19+BA29+BA34+BA40+BA47+BA58","v":0},null,"当月の支出合計",null,{"$f":"BE58+BE47+BE39+BE34+BE30+BE24+BE18+BE9+BE5","v":0}]
[null,null,null,null,"翌月への繰越金",null,{"$f":"C61-G59","v":0},null,null,null,null,null,null,null,"翌月への繰越金",null,{"$f":"M61-Q59","v":0},null,null,null,null,null,null,null,"翌月への繰越金",null,{"$f":"W61-AA59","v":0},null,null,null,null,null,null,null,"翌月への繰越金",null,{"$f":"AG61-AK59","v":0},null,null,null,null,null,null,null,"翌月への繰越金",null,{"$f":"AQ61-AU59","v":0},null,null,null,null,null,null,null,"翌月への繰越金",null,{"$f":"BA61-BE59","v":0}]
["前月繰越含む収入合計",null,{"$f":"C18+C59","v":0},null,"翌月繰越含む支出合計",null,{"$f":"G60+G59","v":0},null,null,null,"前月繰越含む収入合計",null,{"$f":"M18+M59","v":0},null,"翌月繰越含む支出合計",null,{"$f":"Q60+Q59","v":0},null,null,null,"前月繰越含む収入合計",null,{"$f":"W18+W59","v":0},null,"翌月繰越含む支出合計",null,{"$f":"AA60+AA59","v":0},null,null,null,"前月繰越含む収入合計",null,{"$f":"AG18+AG59","v":0},null,"翌月繰越含む支出合計",null,{"$f":"AK60+AK59","v":0},null,null,null,"前月繰越含む収入合計",null,{"$f":"AQ18+AQ59","v":0},null,"翌月繰越含む支出合計",null,{"$f":"AU60+AU59","v":0},null,null,null,"前月繰越含む収入合計",null,{"$f":"BA18+BA59","v":0},null,"翌月繰越含む支出合計",null,{"$f":"BE60+BE59","v":0}]

{"sheet":"⑦支出内訳変化","index":10,"n_rows":37,"n_cols":15,"rows_kept":37,"cut":false,"hidden":false,"merged":[]}
[]
[]
[]
[]
[]
[]
[]
[]
[]
[]
[]
[]
[]
[]
[]
[]
[]
[]
[]
[]
[]
[]
[]
[]
[]
[]
[]
[null,null,null,null,null,null,null,null,null,null,null,null,null,"費目","削減額"]
[null,null,null,null,null,null,null,null,null,null,null,null,null,"返済金",0]
[null,null,null,null,null,null,null,null,null,null,null,null,null,"税金・保険",0]
[null,null,null,null,null,null,null,null,null,null,null,null,null,"その他",0]
[null,null,null,null,null,null,null,null,null,null,null,null,null,"教養・娯楽費用",0]
[null,null,null,null,null,null,null,null,null,null,null,null,null,"教育等費用",0]
[null,null,null,null,null,null,null,null,null,null,null,null,null,"通信費・車両費",0]
[null,null,null,null,null,null,null,null,null,null,null,null,null,"基本生活費",0]
[null,null,null,null,null,null,null,null,null,null,null,null,null,"住居費",0]
[null,null,null,null,null,null,null,null,null,null,null,null,null,"合計",0]

{"sheet":"家計計画表（旧）","index":11,"n_rows":60,"n_cols":9,"rows_kept":60,"cut":false,"hidden":true,"merged":[[58,4,58,5],[59,0,59,1],[59,4,59,5],[46,6,47,6],[48,6,50,6],[51,6,52,6],[53,6,54,6],[57,0,57,1],[57,4,57,5],[45,0,45,1],[45,4,45,5],[22,4,22,5],[23,6,27,6],[27,0,27,1],[28,4,28,5],[29,6,31,6],[32,0,32,1],[32,4,32,5],[33,6,36,6],[37,4,37,5],[38,0,38,1],[38,6,40,6],[41,6,44,6],[1,4,1,6],[3,4,3,5],[10,6,12,6],[14,0,14,2],[16,0,16,1],[16,4,16,5],[3,9,3,10],[4,6,6,6],[7,4,7,5],[8,6,9,6],[18,0,19,0],[18,6,21,6],[20,0,21,0],[17,0,17,1]]}
[null,null,"4.家計計画表",null,null,"(　　　　　年　　月分)"]
["相談者氏名",null,null,null,"支　　出",null,null,null,"備　考"]
["担当相談員名",null,null,null,"費　　目","金額（円）","小計（円）"]
[null,null,null,null,"住居費",null,{"$f":"SUM(G5)","v":0}]
["世帯基本情報","世帯人員計",0,null,"家賃",null,{"$f":"F5+F6+F7","v":0}]
["【内訳】","成人",0,null,"管理費"]
[null,"うち高齢者",0,null,"維持費・修理費・更新費"]
[null,"未成年(下記以外)",0,null,"基本生活費",null,{"$f":"SUM(G9:G16)","v":0}]
[null,"大学生等",0,null,"食費",null,{"$f":"F9+F10","v":0}]
[null,"高校生",0,null,"外食費"]
[null,"中学生",0,null,"電気代",null,{"$f":"F11+F12+F13","v":0}]
[null,"小学生",0,null,"ガス代"]
[null,"未就学児",0,null,"水道代"]
[null,null,null,null,"灯油代",null,{"$f":"F14","v":0}]
["収　　入",null,null,null,"被服・理美容・雑貨費",null,{"$f":"F15","v":0}]
["名義人","費　　　目","金額（円）",null,"医療費・介護費等",null,{"$f":"F16","v":0}]
["前月からの繰越金",null,null,null,"通信費・車両費",null,{"$f":"SUM(G18:G22)","v":0}]
["基本収入",null,{"$f":"SUM(C19:C27)","v":0},null,"電話・携帯電話・ｲﾝﾀｰﾈｯﾄ",null,{"$f":"F18","v":0}]
["本人","給与       ①",null,null,"ガソリン代 （通勤費含む）",null,{"$f":"F19+F20+F21+F22","v":0}]
[null,"給与       ②",null,null,"駐車場代"]
["配偶者","給与       ①",null,null,"車検・車修理代"]
[null,"給与       ②",null,null,"通勤交通費"]
[null,null,null,null,"教育等費用",null,{"$f":"SUM(G24)","v":0}]
["本人","年金",null,null,"学費・保育料・給食費等",null,{"$f":"SUM(F24:F28)","v":0}]
["配偶者","年金",null,null,"部活動等の費用"]
["同居者(　　　)","年金",null,null,"通学交通費"]
[null,null,null,null,"塾・習い事費用"]
["臨時収入・賞与",null,{"$f":"SUM(C29:C32)","v":0},null,"お小遣い・仕送り生活費"]
["本人","（　賞与　年間     万　）",null,null,"教養・娯楽費用",null,{"$f":"SUM(G30)","v":0}]
[null,null,null,null,"新聞・本・雑誌・教養用品",null,{"$f":"F30+F31+F32","v":0}]
["配偶者",null,null,null,"遊興費・娯楽費用"]
[]
["援助収入や手当等の収入（毎月）",null,{"$f":"SUM(C34:C38)","v":0},null,"その他",null,{"$f":"SUM(G34)","v":0}]
[null,"雇用保険",null,null,"酒代/酒飲食交際費",null,{"$f":"SUM(F34:F37)","v":0}]
[null,"生活保護",null,null,"たばこ・お小遣い"]
[null,"養育費"]
[null,"援助"]
[null,null,null,null,"税金・保険",null,{"$f":"SUM(G39:G45)","v":0}]
["援助収入や手当等の収入（毎月以外）",null,{"$f":"SUM(C40:C45)","v":0},null,"税金（住民税・固定資産税・自動車税等）",null,{"$f":"SUM(F39:F41)","v":0}]
[null,"児童手当",null,null,"社会保険料（国保・国民年金等）"]
[null,"児童扶養手当"]
[null,"援助",null,null,"貯蓄型保険（学資・年金保険等）",null,{"$f":"SUM(F42:F45)","v":0}]
[null,null,null,null,"掛捨型保険（車・火災等）"]
[null,"副次的な収入",null,null,"その他保険料"]
[null,null,null,null,null,null,null,null,"返済金以外の計"]
["借入金",null,{"$f":"SUM(C47:C56)","v":0},null,"返済金",null,{"$f":"SUM(G47:G56)","v":0},null,{"$f":"G58-G46","v":0}]
["借入金","（　　　　　　　　　）",null,null,"住宅ローン",null,{"$f":"SUM(F47:F48)","v":0}]
["借入金","（　　　　　　　　　）",null,null,"自動車ローン"]
["借入金","（　　　　　　　　　）",null,null,"銀行",null,{"$f":"SUM(F49:F51)","v":0}]
["借入金","（　　　　　　　　　）",null,null,"消費者金融"]
["借入金","（　　　　　　　　　）",null,null,"クレジット（ｷｬｯｼﾝｸﾞ・物品）"]
[null,null,null,null,"滞納税金・社会保険料等",null,{"$f":"F52+F53","v":0}]
[null,null,null,null,"滞納生活費（家賃・光熱水費等）"]
[null,null,null,null,"個人からの借金",null,{"$f":"F54+F55","v":0}]
[null,null,null,null,"その他の返済"]
[null,null,null,null,"家計再生のための新規借入の返済",null,{"$f":"F56","v":0}]
["預貯金取崩し",null,null,null,"預貯金預入れ",null,{"$f":"F57","v":0}]
["当月の収入合計",null,{"$f":"C18+C28+C33+C39+C46+C57","v":0},null,"当月の支出合計",null,{"$f":"G57+G46+G38+G33+G29+G23+G17+G8+G4","v":0}]
[null,null,null,null,"翌月への繰越金",null,{"$f":"C60-G58","v":0}]
["前月繰越含む収入合計",null,{"$f":"C17+C58","v":0},null,"翌月繰越含む支出合計",null,{"$f":"G59+G58","v":0}]

{"sheet":"⑧ライフイベント表","index":12,"n_rows":65,"n_cols":23,"rows_kept":65,"cut":false,"hidden":false,"merged":[[2,1,4,1],[2,2,4,2],[2,3,4,3],[1,1,1,16],[2,5,2,16],[3,5,3,6],[3,7,3,8],[3,9,3,10],[3,13,3,14],[3,15,3,16],[3,11,3,12]]}
[null,"相談日：",{"$f":"soudanDate(A3,A4,A5)","v":{"$error":"#VALUE!"}},"年","　　月　　　　　日",{"$f":"①相談時家計表!A2 & \"：　\" &①相談時家計表!B2 & \" 様\"","v":"相談者氏名：　 様"},null,null,null,null,null,null,null,null,null,null,null,null,null,null,null,null,"本人"]
[null,{"$f":"Config!AF3","v":"ライフイベント表≪６人分・５年分≫"},null,null,null,null,null,null,null,null,null,null,null,null,null,null,null,null,null,null,null,null,"本人＋1人"]
["","西暦","和暦","月","収入イベント内容","支出のイベント内容",null,null,null,null,null,null,null,null,null,null,null,null,null,null,null,null,"本人＋2人"]
["",null,null,null,null,"本人",null,null,null,null,null,null,null,null,null,null,null,null,null,null,null,null,"本人＋3人"]
["",null,null,null,null,"満齢",null,"満齢",null,"満齢",null,"満齢",null,"満齢",null,"満齢",null,null,null,"毎月以外の収入の内容","家族のイベント",null,"本人＋4人"]
[0,{"$f":"C1","v":{"$error":"#VALUE!"}},{"$f":"B6","v":{"$error":"#VALUE!"}},{"$f":"C6","v":{"$error":"#VALUE!"}},null,{"$f":"IF(G5=\"\",\"\",G5)","v":""},null,{"$f":"IF(I5=\"\",\"\",I5)","v":""},null,{"$f":"IF(K5=\"\",\"\",K5)","v":""},null,{"$f":"IF(M5=\"\",\"\",M5)","v":""},null,{"$f":"IF(O5=\"\",\"\",O5)","v":""},null,{"$f":"IF(Q5=\"\",\"\",Q5)","v":""},null,null,null,null,null,{"$f":"SUBSTITUTE(TRIM(IF(G6=\"\",\"\",G6&\" \")&IF(I6=\"\",\"\",I6&\" \")&IF(K6=\"\",\"\",K6&\" \")&IF(M6=\"\",\"\",M6&\" \")&IF(O6=\"\",\"\",O6&\" \")&IF(Q6=\"\",\"\",Q6)),\" \",CHAR(10))","v":""},"本人＋5人"]
[1,{"$f":"IF(MONTH(EOMONTH($B$6,A7))=1,EOMONTH($B$6,A7),\"\")","v":{"$error":"#VALUE!"}},{"$f":"B7","v":{"$error":"#VALUE!"}},{"$f":"EOMONTH(D6,1)","v":{"$error":"#VALUE!"}},null,{"$f":"IF(F6=\"\",\"\",IF(MONTH($D7)=4,F6+1,F6))","v":""},null,{"$f":"IF(H6=\"\",\"\",IF(MONTH($D7)=4,H6+1,H6))","v":""},null,{"$f":"IF(J6=\"\",\"\",IF(MONTH($D7)=4,J6+1,J6))","v":""},null,{"$f":"IF(L6=\"\",\"\",IF(MONTH($D7)=4,L6+1,L6))","v":""},null,{"$f":"IF(N6=\"\",\"\",IF(MONTH($D7)=4,N6+1,N6))","v":""},null,{"$f":"IF(P6=\"\",\"\",IF(MONTH($D7)=4,P6+1,P6))","v":""},null,null,null,null,null,{"$f":"SUBSTITUTE(TRIM(IF(G7=\"\",\"\",G7&\" \")&IF(I7=\"\",\"\",I7&\" \")&IF(K7=\"\",\"\",K7&\" \")&IF(M7=\"\",\"\",M7&\" \")&IF(O7=\"\",\"\",O7&\" \")&IF(Q7=\"\",\"\",Q7)),\" \",CHAR(10))","v":""}]
[2,{"$f":"IF(MONTH(EOMONTH($B$6,A8))=1,EOMONTH($B$6,A8),\"\")","v":{"$error":"#VALUE!"}},{"$f":"B8","v":{"$error":"#VALUE!"}},{"$f":"EOMONTH(D7,1)","v":{"$error":"#VALUE!"}},null,{"$f":"IF(F7=\"\",\"\",IF(MONTH($D8)=4,F7+1,F7))","v":""},null,"",null,"",null,{"$f":"IF(L7=\"\",\"\",IF(MONTH($D8)=4,L7+1,L7))","v":""},null,"",null,"",null,null,null,null,null,""]
[3,{"$f":"IF(MONTH(EOMONTH($B$6,A9))=1,EOMONTH($B$6,A9),\"\")","v":{"$error":"#VALUE!"}},{"$f":"B9","v":{"$error":"#VALUE!"}},{"$f":"EOMONTH(D8,1)","v":{"$error":"#VALUE!"}},null,"",null,"",null,"",null,"",null,"",null,"",null,null,null,null,null,""]
[4,{"$error":"#VALUE!"},{"$f":"B10","v":{"$error":"#VALUE!"}},{"$error":"#VALUE!"},null,"",null,"",null,"",null,"",null,"",null,"",null,null,null,null,null,""]
[5,{"$error":"#VALUE!"},{"$f":"B11","v":{"$error":"#VALUE!"}},{"$error":"#VALUE!"},null,"",null,"",null,"",null,"",null,"",null,"",null,null,null,null,null,""]
[6,{"$error":"#VALUE!"},{"$f":"B12","v":{"$error":"#VALUE!"}},{"$error":"#VALUE!"},null,"",null,"",null,"",null,"",null,"",null,"",null,null,null,null,null,""]
[7,{"$error":"#VALUE!"},{"$f":"B13","v":{"$error":"#VALUE!"}},{"$error":"#VALUE!"},null,"",null,"",null,"",null,"",null,"",null,"",null,null,null,null,null,""]
[8,{"$error":"#VALUE!"},{"$f":"B14","v":{"$error":"#VALUE!"}},{"$error":"#VALUE!"},null,"",null,"",null,"",null,"",null,"",null,"",null,null,null,null,null,""]
[9,{"$error":"#VALUE!"},{"$f":"B15","v":{"$error":"#VALUE!"}},{"$error":"#VALUE!"},null,"",null,"",null,"",null,"",null,"",null,"",null,null,null,null,null,""]
[10,{"$error":"#VALUE!"},{"$f":"B16","v":{"$error":"#VALUE!"}},{"$error":"#VALUE!"},null,"",null,"",null,"",null,"",null,"",null,"",null,null,null,null,null,""]
[11,{"$error":"#VALUE!"},{"$f":"B17","v":{"$error":"#VALUE!"}},{"$error":"#VALUE!"},null,"",null,"",null,"",null,"",null,"",null,"",null,null,null,null,null,""]
[12,{"$error":"#VALUE!"},{"$f":"B18","v":{"$error":"#VALUE!"}},{"$error":"#VALUE!"},null,"",null,"",null,"",null,"",null,"",null,"",null,null,null,null,null,""]
[13,{"$error":"#VALUE!"},{"$f":"B19","v":{"$error":"#VALUE!"}},{"$error":"#VALUE!"},null,"",null,"",null,"",null,"",null,"",null,"",null,null,null,null,null,""]
[14,{"$error":"#VALUE!"},{"$f":"B20","v":{"$error":"#VALUE!"}},{"$error":"#VALUE!"},null,"",null,"",null,"",null,"",null,"",null,"",null,null,null,null,null,""]
[15,{"$error":"#VALUE!"},{"$f":"B21","v":{"$error":"#VALUE!"}},{"$error":"#VALUE!"},null,"",null,"",null,"",null,"",null,"",null,"",null,null,null,null,null,""]
[16,{"$error":"#VALUE!"},{"$f":"B22","v":{"$error":"#VALUE!"}},{"$error":"#VALUE!"},null,"",null,"",null,"",null,"",null,"",null,"",null,null,null,null,null,""]
[17,{"$error":"#VALUE!"},{"$f":"B23","v":{"$error":"#VALUE!"}},{"$error":"#VALUE!"},null,"",null,"",null,"",null,"",null,"",null,"",null,null,null,null,null,""]
[18,{"$error":"#VALUE!"},{"$f":"B24","v":{"$error":"#VALUE!"}},{"$error":"#VALUE!"},null,"",null,"",null,"",null,{"$f":"IF(L23=\"\",\"\",IF(MONTH($D24)=4,L23+1,L23))","v":""},null,"",null,"",null,null,null,null,null,""]
[19,{"$error":"#VALUE!"},{"$f":"B25","v":{"$error":"#VALUE!"}},{"$error":"#VALUE!"},null,"",null,"",null,"",null,"",null,"",null,"",null,null,null,null,null,""]
[20,{"$error":"#VALUE!"},{"$f":"B26","v":{"$error":"#VALUE!"}},{"$error":"#VALUE!"},null,"",null,"",null,"",null,"",null,"",null,"",null,null,null,null,null,""]
[21,{"$error":"#VALUE!"},{"$f":"B27","v":{"$error":"#VALUE!"}},{"$error":"#VALUE!"},null,"",null,"",null,"",null,"",null,"",null,"",null,null,null,null,null,""]
[22,{"$error":"#VALUE!"},{"$f":"B28","v":{"$error":"#VALUE!"}},{"$error":"#VALUE!"},null,"",null,"",null,"",null,"",null,"",null,"",null,null,null,null,null,""]
[23,{"$error":"#VALUE!"},{"$f":"B29","v":{"$error":"#VALUE!"}},{"$error":"#VALUE!"},null,"",null,"",null,"",null,"",null,"",null,"",null,null,null,null,null,""]
[24,{"$error":"#VALUE!"},{"$f":"B30","v":{"$error":"#VALUE!"}},{"$error":"#VALUE!"},null,"",null,"",null,"",null,"",null,"",null,"",null,null,null,null,null,""]
[25,{"$error":"#VALUE!"},{"$f":"B31","v":{"$error":"#VALUE!"}},{"$error":"#VALUE!"},null,"",null,"",null,"",null,"",null,"",null,"",null,null,null,null,null,""]
[26,{"$error":"#VALUE!"},{"$f":"B32","v":{"$error":"#VALUE!"}},{"$error":"#VALUE!"},null,"",null,"",null,"",null,"",null,"",null,"",null,null,null,null,null,""]
[27,{"$error":"#VALUE!"},{"$f":"B33","v":{"$error":"#VALUE!"}},{"$error":"#VALUE!"},null,"",null,"",null,"",null,"",null,"",null,"",null,null,null,null,null,""]
[28,{"$error":"#VALUE!"},{"$f":"B34","v":{"$error":"#VALUE!"}},{"$error":"#VALUE!"},null,"",null,"",null,"",null,"",null,"",null,"",null,null,null,null,null,""]
[29,{"$error":"#VALUE!"},{"$f":"B35","v":{"$error":"#VALUE!"}},{"$error":"#VALUE!"},null,"",null,"",null,"",null,"",null,"",null,{"$f":"IF(P34=\"\",\"\",IF(MONTH($D35)=4,P34+1,P34))","v":""},null,null,null,null,null,""]
[30,{"$error":"#VALUE!"},{"$f":"B36","v":{"$error":"#VALUE!"}},{"$error":"#VALUE!"},null,"",null,"",null,"",null,"",null,"",null,"",null,null,null,null,null,""]
[31,{"$error":"#VALUE!"},{"$f":"B37","v":{"$error":"#VALUE!"}},{"$error":"#VALUE!"},null,"",null,"",null,"",null,"",null,"",null,"",null,null,null,null,null,""]
[32,{"$error":"#VALUE!"},{"$f":"B38","v":{"$error":"#VALUE!"}},{"$error":"#VALUE!"},null,"",null,"",null,"",null,"",null,"",null,"",null,null,null,null,null,""]
[33,{"$error":"#VALUE!"},{"$f":"B39","v":{"$error":"#VALUE!"}},{"$error":"#VALUE!"},null,"",null,"",null,"",null,"",null,"",null,"",null,null,null,null,null,""]
[34,{"$error":"#VALUE!"},{"$f":"B40","v":{"$error":"#VALUE!"}},{"$error":"#VALUE!"},null,"",null,"",null,"",null,{"$f":"IF(L39=\"\",\"\",IF(MONTH($D40)=4,L39+1,L39))","v":""},null,"",null,"",null,null,null,null,null,""]
[35,{"$error":"#VALUE!"},{"$f":"B41","v":{"$error":"#VALUE!"}},{"$error":"#VALUE!"},null,"",null,"",null,"",null,"",null,"",null,"",null,null,null,null,null,""]
[36,{"$error":"#VALUE!"},{"$f":"B42","v":{"$error":"#VALUE!"}},{"$error":"#VALUE!"},null,"",null,"",null,"",null,"",null,"",null,"",null,null,null,null,null,""]
[37,{"$error":"#VALUE!"},{"$f":"B43","v":{"$error":"#VALUE!"}},{"$error":"#VALUE!"},null,"",null,"",null,"",null,"",null,"",null,"",null,null,null,null,null,""]
[38,{"$error":"#VALUE!"},{"$f":"B44","v":{"$error":"#VALUE!"}},{"$error":"#VALUE!"},null,"",null,"",null,"",null,"",null,"",null,"",null,null,null,null,null,""]
[39,{"$error":"#VALUE!"},{"$f":"B45","v":{"$error":"#VALUE!"}},{"$error":"#VALUE!"},null,"",null,"",null,"",null,"",null,"",null,"",null,null,null,null,null,""]
[40,{"$error":"#VALUE!"},{"$f":"B46","v":{"$error":"#VALUE!"}},{"$error":"#VALUE!"},null,"",null,"",null,"",null,"",null,"",null,"",null,null,null,null,null,""]
[41,{"$error":"#VALUE!"},{"$f":"B47","v":{"$error":"#VALUE!"}},{"$error":"#VALUE!"},null,"",null,"",null,"",null,"",null,"",null,"",null,null,null,null,null,""]
[42,{"$error":"#VALUE!"},{"$f":"B48","v":{"$error":"#VALUE!"}},{"$error":"#VALUE!"},null,"",null,"",null,"",null,"",null,"",null,"",null,null,null,null,null,""]
[43,{"$error":"#VALUE!"},{"$f":"B49","v":{"$error":"#VALUE!"}},{"$error":"#VALUE!"},null,"",null,"",null,"",null,"",null,"",null,"",null,null,null,null,null,""]
[44,{"$error":"#VALUE!"},{"$f":"B50","v":{"$error":"#VALUE!"}},{"$error":"#VALUE!"},null,"",null,"",null,"",null,"",null,"",null,"",null,null,null,null,null,""]
[45,{"$error":"#VALUE!"},{"$f":"B51","v":{"$error":"#VALUE!"}},{"$error":"#VALUE!"},null,"",null,"",null,"",null,"",null,"",null,"",null,null,null,null,null,""]
[46,{"$error":"#VALUE!"},{"$f":"B52","v":{"$error":"#VALUE!"}},{"$error":"#VALUE!"},null,"",null,"",null,"",null,"",null,"",null,"",null,null,null,null,null,""]
[47,{"$error":"#VALUE!"},{"$f":"B53","v":{"$error":"#VALUE!"}},{"$error":"#VALUE!"},null,"",null,"",null,"",null,"",null,"",null,"",null,null,null,null,null,""]
[48,{"$error":"#VALUE!"},{"$f":"B54","v":{"$error":"#VALUE!"}},{"$error":"#VALUE!"},null,"",null,"",null,"",null,"",null,"",null,"",null,null,null,null,null,""]
[49,{"$error":"#VALUE!"},{"$f":"B55","v":{"$error":"#VALUE!"}},{"$error":"#VALUE!"},null,"",null,"",null,"",null,"",null,"",null,"",null,null,null,null,null,""]
[50,{"$error":"#VALUE!"},{"$f":"B56","v":{"$error":"#VALUE!"}},{"$error":"#VALUE!"},null,"",null,"",null,"",null,{"$f":"IF(L55=\"\",\"\",IF(MONTH($D56)=4,L55+1,L55))","v":""},null,"",null,"",null,null,null,null,null,""]
[51,{"$error":"#VALUE!"},{"$f":"B57","v":{"$error":"#VALUE!"}},{"$error":"#VALUE!"},null,"",null,"",null,"",null,"",null,"",null,"",null,null,null,null,null,""]
[52,{"$error":"#VALUE!"},{"$f":"B58","v":{"$error":"#VALUE!"}},{"$error":"#VALUE!"},null,"",null,"",null,"",null,"",null,"",null,"",null,null,null,null,null,""]
[53,{"$error":"#VALUE!"},{"$f":"B59","v":{"$error":"#VALUE!"}},{"$error":"#VALUE!"},null,"",null,"",null,"",null,"",null,"",null,"",null,null,null,null,null,""]
[54,{"$error":"#VALUE!"},{"$f":"B60","v":{"$error":"#VALUE!"}},{"$error":"#VALUE!"},null,"",null,"",null,"",null,"",null,"",null,"",null,null,null,null,null,""]
[55,{"$error":"#VALUE!"},{"$f":"B61","v":{"$error":"#VALUE!"}},{"$error":"#VALUE!"},null,"",null,"",null,"",null,"",null,"",null,"",null,null,null,null,null,""]
[56,{"$error":"#VALUE!"},{"$f":"B62","v":{"$error":"#VALUE!"}},{"$error":"#VALUE!"},null,"",null,"",null,"",null,"",null,"",null,"",null,null,null,null,null,""]
[57,{"$error":"#VALUE!"},{"$f":"B63","v":{"$error":"#VALUE!"}},{"$error":"#VALUE!"},null,"",null,"",null,"",null,"",null,"",null,"",null,null,null,null,null,""]
[58,{"$error":"#VALUE!"},{"$f":"B64","v":{"$error":"#VALUE!"}},{"$error":"#VALUE!"},null,"",null,"",null,"",null,"",null,"",null,"",null,null,null,null,null,""]
[59,{"$error":"#VALUE!"},{"$error":"#VALUE!"},{"$f":"EOMONTH(D64,1)","v":{"$error":"#VALUE!"}},null,{"$f":"IF(F64=\"\",\"\",IF(MONTH($D65)=4,F64+1,F64))","v":""},null,"",null,"",null,{"$f":"IF(L64=\"\",\"\",IF(MONTH($D65)=4,L64+1,L64))","v":""},null,"",null,{"$f":"IF(P64=\"\",\"\",IF(MONTH($D65)=4,P64+1,P64))","v":""},null,null,null,null,null,""]

{"sheet":"⑨キャッシュフロー表 (3年分)","index":13,"n_rows":53,"n_cols":41,"rows_kept":53,"cut":false,"hidden":false,"merged":[[4,13,5,13],[0,2,0,15],[1,4,1,5],[1,6,1,7],[1,12,1,14],[3,1,3,2],[3,4,13,4],[4,1,4,2],[4,5,5,5],[4,6,5,6],[4,7,5,7],[4,8,5,8],[4,9,5,9],[4,10,5,10],[4,11,5,11],[4,12,5,12],[4,25,5,25],[4,14,5,14],[4,15,5,15],[4,16,5,16],[4,17,5,17],[4,18,5,18],[4,19,5,19],[4,40,5,40],[4,32,5,32],[4,33,5,33],[4,34,5,34],[4,35,5,35],[4,36,5,36],[4,37,5,37],[5,1,5,2],[6,1,11,1],[12,1,12,2],[4,38,5,38],[4,39,5,39],[4,26,5,26],[4,27,5,27],[4,28,5,28],[4,29,5,29],[4,30,5,30],[4,31,5,31],[4,20,5,20],[4,21,5,21],[4,22,5,22],[4,23,5,23],[4,24,5,24],[51,1,51,2],[52,1,52,2],[13,1,13,2],[14,1,24,1],[25,1,47,1],[48,1,48,2],[49,1,49,2],[50,1,50,2]]}
[null,null,"キャッシュフロー表作成上の注意！　（非印刷範囲です）\n　①新規作成は常に原本から作成ください。　原本でないと計算式等が消去されている場合があります。\n　　　　作成する際は、表の途中から金額の変更や停止したりする必要がありますが、その場合そのセルの計算式等が消去されます。\n　　　　新規に作成する際、過去に作成したものを流用すると、気付かないまま、途中で計算式等が消去され数値が入っていないことがあります。\n　②作成は、原本を開き、先に「名前をつけて保存」後、入力開始ください。　\n　　　　先に入力すると保存し忘れ、原本自体を上書き保存し、原本が変更されてしまう可能性があります。\n　③表の収入・支出項目の変更や枠の追加・削除等は、勝手にしないこと。計算式が壊れます。また式の変更も不可です。\n　④分からない・困る場合は　深町　までご連絡ください。"]
[null,"５．キャッシュフロー表",null,"相談日：",{"$f":"⑧ライフイベント表!C1","v":{"$error":"#VALUE!"}},null,{"$f":"①相談時家計表!B2 & \" 様\"","v":" 様"},null,"家のキャッシュフロー表",null,null,null,{"$f":"E2","v":{"$error":"#VALUE!"}}]
[]
[null,"西暦",null,{"$f":"E2","v":{"$error":"#VALUE!"}},{"$f":"\"家計\" &CHAR(10) &\"計画表\"&Config!F1&CHAR(10)&\"(転記)\"","v":"家計\n計画表1\n(転記)"},{"$f":"D4","v":{"$error":"#VALUE!"}},{"$f":"EOMONTH(F4,1)","v":{"$error":"#VALUE!"}},{"$f":"EOMONTH(G4,1)","v":{"$error":"#VALUE!"}},{"$error":"#VALUE!"},{"$error":"#VALUE!"},{"$error":"#VALUE!"},{"$error":"#VALUE!"},{"$error":"#VALUE!"},{"$error":"#VALUE!"},{"$error":"#VALUE!"},{"$error":"#VALUE!"},{"$error":"#VALUE!"},{"$error":"#VALUE!"},{"$error":"#VALUE!"},{"$error":"#VALUE!"},{"$error":"#VALUE!"},{"$error":"#VALUE!"},{"$error":"#VALUE!"},{"$error":"#VALUE!"},{"$error":"#VALUE!"},{"$error":"#VALUE!"},{"$error":"#VALUE!"},{"$error":"#VALUE!"},{"$error":"#VALUE!"},{"$error":"#VALUE!"},{"$error":"#VALUE!"},{"$error":"#VALUE!"},{"$error":"#VALUE!"},{"$error":"#VALUE!"},{"$error":"#VALUE!"},{"$error":"#VALUE!"},{"$error":"#VALUE!"},{"$error":"#VALUE!"},{"$error":"#VALUE!"},{"$error":"#VALUE!"},{"$error":"#VALUE!"}]
[null,"和暦",null,{"$f":"E2","v":{"$error":"#VALUE!"}},null,{"$f":"TEXT(F4,\"gggy年\"&CHAR(10)&\"m月\")","v":{"$error":"#VALUE!"}},{"$f":"TEXT(G4,\"gggy年\"&CHAR(10)&\"m月\")","v":{"$error":"#VALUE!"}},{"$error":"#VALUE!"},{"$error":"#VALUE!"},{"$error":"#VALUE!"},{"$error":"#VALUE!"},{"$error":"#VALUE!"},{"$error":"#VALUE!"},{"$error":"#VALUE!"},{"$error":"#VALUE!"},{"$error":"#VALUE!"},{"$error":"#VALUE!"},{"$error":"#VALUE!"},{"$error":"#VALUE!"},{"$error":"#VALUE!"},{"$error":"#VALUE!"},{"$error":"#VALUE!"},{"$error":"#VALUE!"},{"$error":"#VALUE!"},{"$error":"#VALUE!"},{"$error":"#VALUE!"},{"$error":"#VALUE!"},{"$error":"#VALUE!"},{"$error":"#VALUE!"},{"$error":"#VALUE!"},{"$error":"#VALUE!"},{"$error":"#VALUE!"},{"$error":"#VALUE!"},{"$error":"#VALUE!"},{"$error":"#VALUE!"},{"$error":"#VALUE!"},{"$error":"#VALUE!"},{"$error":"#VALUE!"},{"$error":"#VALUE!"},{"$error":"#VALUE!"},{"$error":"#VALUE!"}]
[null,"月",null,{"$f":"E2","v":{"$error":"#VALUE!"}}]
[null,"年 齢",{"$f":"IF(⑧ライフイベント表!F4=\"\",\"\",⑧ライフイベント表!F4)","v":"本人"},{"$f":"IF(⑧ライフイベント表!G5=\"\",\"\",⑧ライフイベント表!G5)","v":""},null,{"$f":"IF(D7=\"\",\"\",D7)","v":""},{"$f":"IF(F7=\"\",\"\",IF(MONTH(G$4)=4,F7+1,F7))","v":""},{"$f":"IF(G7=\"\",\"\",IF(MONTH(H$4)=4,G7+1,G7))","v":""},"","","","","","","","","","","","","","","",{"$f":"IF(W7=\"\",\"\",IF(MONTH(X$4)=4,W7+1,W7))","v":""},"","","","","","","","","","","","","","","","",""]
[null,null,{"$f":"IF(⑧ライフイベント表!H4=\"\",\"\",⑧ライフイベント表!H4)","v":""},{"$f":"IF(⑧ライフイベント表!I5=\"\",\"\",⑧ライフイベント表!I5)","v":""},null,"",{"$f":"IF(F8=\"\",\"\",IF(MONTH(G$4)=4,F8+1,F8))","v":""},"","","","","","","","","","","","","","","","","","","","","","","","","","","","","","","","","",""]
[null,null,{"$f":"IF(⑧ライフイベント表!J4=\"\",\"\",⑧ライフイベント表!J4)","v":""},{"$f":"IF(⑧ライフイベント表!K5=\"\",\"\",⑧ライフイベント表!K5)","v":""},null,"","","","","","","","","","","","","","","","","","","","","","","","","","","","","","","","","","","",""]
[null,null,{"$f":"IF(⑧ライフイベント表!L4=\"\",\"\",⑧ライフイベント表!L4)","v":""},{"$f":"IF(⑧ライフイベント表!M5=\"\",\"\",⑧ライフイベント表!M5)","v":""},null,"","","","","","","","","","","","","","","","","","","","","","","","","","","","","","","","","","","",""]
[null,null,{"$f":"IF(⑧ライフイベント表!N4=\"\",\"\",⑧ライフイベント表!N4)","v":""},{"$f":"IF(⑧ライフイベント表!O5=\"\",\"\",⑧ライフイベント表!O5)","v":""},null,"","","","","","","","","","","","","","","","","","","","","","","","","","","","","","","","","","","",""]
[null,null,{"$f":"IF(⑧ライフイベント表!P4=\"\",\"\",⑧ライフイベント表!P4)","v":""},{"$f":"IF(⑧ライフイベント表!Q5=\"\",\"\",⑧ライフイベント表!Q5)","v":""},null,"","","","","","","","","","","","","","","","","","","","","","","","","","","","","","","","","","","",""]
[null,"毎月以外の収入の内容",null,{"$f":"F13","v":""},null,{"$f":"IF(⑧ライフイベント表!T6=\"\",\"\",⑧ライフイベント表!T6)","v":""},{"$f":"IF(⑧ライフイベント表!T7=\"\",\"\",⑧ライフイベント表!T7)","v":""},{"$f":"IF(⑧ライフイベント表!T8=\"\",\"\",⑧ライフイベント表!T8)","v":""},{"$f":"IF(⑧ライフイベント表!T9=\"\",\"\",⑧ライフイベント表!T9)","v":""},{"$f":"IF(⑧ライフイベント表!T10=\"\",\"\",⑧ライフイベント表!T10)","v":""},{"$f":"IF(⑧ライフイベント表!T11=\"\",\"\",⑧ライフイベント表!T11)","v":""},{"$f":"IF(⑧ライフイベント表!T12=\"\",\"\",⑧ライフイベント表!T12)","v":""},{"$f":"IF(⑧ライフイベント表!T13=\"\",\"\",⑧ライフイベント表!T13)","v":""},{"$f":"IF(⑧ライフイベント表!T14=\"\",\"\",⑧ライフイベント表!T14)","v":""},{"$f":"IF(⑧ライフイベント表!T15=\"\",\"\",⑧ライフイベント表!T15)","v":""},{"$f":"IF(⑧ライフイベント表!T16=\"\",\"\",⑧ライフイベント表!T16)","v":""},{"$f":"IF(⑧ライフイベント表!T17=\"\",\"\",⑧ライフイベント表!T17)","v":""},{"$f":"IF(⑧ライフイベント表!T18=\"\",\"\",⑧ライフイベント表!T18)","v":""},{"$f":"IF(⑧ライフイベント表!T19=\"\",\"\",⑧ライフイベント表!T19)","v":""},{"$f":"IF(⑧ライフイベント表!T20=\"\",\"\",⑧ライフイベント表!T20)","v":""},{"$f":"IF(⑧ライフイベント表!T21=\"\",\"\",⑧ライフイベント表!T21)","v":""},{"$f":"IF(⑧ライフイベント表!T22=\"\",\"\",⑧ライフイベント表!T22)","v":""},{"$f":"IF(⑧ライフイベント表!T23=\"\",\"\",⑧ライフイベント表!T23)","v":""},{"$f":"IF(⑧ライフイベント表!T24=\"\",\"\",⑧ライフイベント表!T24)","v":""},{"$f":"IF(⑧ライフイベント表!T25=\"\",\"\",⑧ライフイベント表!T25)","v":""},{"$f":"IF(⑧ライフイベント表!T26=\"\",\"\",⑧ライフイベント表!T26)","v":""},{"$f":"IF(⑧ライフイベント表!T27=\"\",\"\",⑧ライフイベント表!T27)","v":""},{"$f":"IF(⑧ライフイベント表!T28=\"\",\"\",⑧ライフイベント表!T28)","v":""},{"$f":"IF(⑧ライフイベント表!T29=\"\",\"\",⑧ライフイベント表!T29)","v":""},{"$f":"IF(⑧ライフイベント表!T30=\"\",\"\",⑧ライフイベント表!T30)","v":""},{"$f":"IF(⑧ライフイベント表!T31=\"\",\"\",⑧ライフイベント表!T31)","v":""},{"$f":"IF(⑧ライフイベント表!T32=\"\",\"\",⑧ライフイベント表!T32)","v":""},{"$f":"IF(⑧ライフイベント表!T33=\"\",\"\",⑧ライフイベント表!T33)","v":""},{"$f":"IF(⑧ライフイベント表!T34=\"\",\"\",⑧ライフイベント表!T34)","v":""},{"$f":"IF(⑧ライフイベント表!T35=\"\",\"\",⑧ライフイベント表!T35)","v":""},{"$f":"IF(⑧ライフイベント表!T36=\"\",\"\",⑧ライフイベント表!T36)","v":""},{"$f":"IF(⑧ライフイベント表!T37=\"\",\"\",⑧ライフイベント表!T37)","v":""},{"$f":"IF(⑧ライフイベント表!T38=\"\",\"\",⑧ライフイベント表!T38)","v":""},{"$f":"IF(⑧ライフイベント表!T39=\"\",\"\",⑧ライフイベント表!T39)","v":""},{"$f":"IF(⑧ライフイベント表!T40=\"\",\"\",⑧ライフイベント表!T40)","v":""},{"$f":"IF(⑧ライフイベント表!T41=\"\",\"\",⑧ライフイベント表!T41)","v":""}]
[null,"家族のイベント",null,{"$f":"F14","v":""},null,{"$f":"IF(⑧ライフイベント表!U6=\"\",\"\",⑧ライフイベント表!U6)","v":""},{"$f":"IF(⑧ライフイベント表!U7=\"\",\"\",⑧ライフイベント表!U7)","v":""},{"$f":"IF(⑧ライフイベント表!U8=\"\",\"\",⑧ライフイベント表!U8)","v":""},{"$f":"IF(⑧ライフイベント表!U9=\"\",\"\",⑧ライフイベント表!U9)","v":""},{"$f":"IF(⑧ライフイベント表!U10=\"\",\"\",⑧ライフイベント表!U10)","v":""},{"$f":"IF(⑧ライフイベント表!U11=\"\",\"\",⑧ライフイベント表!U11)","v":""},{"$f":"IF(⑧ライフイベント表!U12=\"\",\"\",⑧ライフイベント表!U12)","v":""},{"$f":"IF(⑧ライフイベント表!U13=\"\",\"\",⑧ライフイベント表!U13)","v":""},{"$f":"IF(⑧ライフイベント表!U14=\"\",\"\",⑧ライフイベント表!U14)","v":""},{"$f":"IF(⑧ライフイベント表!U15=\"\",\"\",⑧ライフイベント表!U15)","v":""},{"$f":"IF(⑧ライフイベント表!U16=\"\",\"\",⑧ライフイベント表!U16)","v":""},{"$f":"IF(⑧ライフイベント表!U17=\"\",\"\",⑧ライフイベント表!U17)","v":""},{"$f":"IF(⑧ライフイベント表!U18=\"\",\"\",⑧ライフイベント表!U18)","v":""},{"$f":"IF(⑧ライフイベント表!U19=\"\",\"\",⑧ライフイベント表!U19)","v":""},{"$f":"IF(⑧ライフイベント表!U20=\"\",\"\",⑧ライフイベント表!U20)","v":""},{"$f":"IF(⑧ライフイベント表!U21=\"\",\"\",⑧ライフイベント表!U21)","v":""},{"$f":"IF(⑧ライフイベント表!U22=\"\",\"\",⑧ライフイベント表!U22)","v":""},{"$f":"IF(⑧ライフイベント表!U23=\"\",\"\",⑧ライフイベント表!U23)","v":""},{"$f":"IF(⑧ライフイベント表!U24=\"\",\"\",⑧ライフイベント表!U24)","v":""},{"$f":"IF(⑧ライフイベント表!U25=\"\",\"\",⑧ライフイベント表!U25)","v":""},{"$f":"IF(⑧ライフイベント表!U26=\"\",\"\",⑧ライフイベント表!U26)","v":""},{"$f":"IF(⑧ライフイベント表!U27=\"\",\"\",⑧ライフイベント表!U27)","v":""},{"$f":"IF(⑧ライフイベント表!U28=\"\",\"\",⑧ライフイベント表!U28)","v":""},{"$f":"IF(⑧ライフイベント表!U29=\"\",\"\",⑧ライフイベント表!U29)","v":""},{"$f":"IF(⑧ライフイベント表!U30=\"\",\"\",⑧ライフイベント表!U30)","v":""},{"$f":"IF(⑧ライフイベント表!U31=\"\",\"\",⑧ライフイベント表!U31)","v":""},{"$f":"IF(⑧ライフイベント表!U32=\"\",\"\",⑧ライフイベント表!U32)","v":""},{"$f":"IF(⑧ライフイベント表!U33=\"\",\"\",⑧ライフイベント表!U33)","v":""},{"$f":"IF(⑧ライフイベント表!U34=\"\",\"\",⑧ライフイベント表!U34)","v":""},{"$f":"IF(⑧ライフイベント表!U35=\"\",\"\",⑧ライフイベント表!U35)","v":""},{"$f":"IF(⑧ライフイベント表!U36=\"\",\"\",⑧ライフイベント表!U36)","v":""},{"$f":"IF(⑧ライフイベント表!U37=\"\",\"\",⑧ライフイベント表!U37)","v":""},{"$f":"IF(⑧ライフイベント表!U38=\"\",\"\",⑧ライフイベント表!U38)","v":""},{"$f":"IF(⑧ライフイベント表!U39=\"\",\"\",⑧ライフイベント表!U39)","v":""},{"$f":"IF(⑧ライフイベント表!U40=\"\",\"\",⑧ライフイベント表!U40)","v":""},{"$f":"IF(⑧ライフイベント表!U41=\"\",\"\",⑧ライフイベント表!U41)","v":""}]
[null,"収 入","給与　本人",null,{"$f":"HLOOKUP(TRUE,Config!$A$2:$E$36,ROW()-13,FALSE)","v":0},{"$f":"E15","v":0},{"$f":"F15","v":0},{"$f":"G15","v":0},0,0,0,0,0,0,0,0,0,0,0,0,0,0,0,{"$f":"W15","v":0},0,0,0,0,0,0,0,0,0,0,0,0,0,0,0,{"$f":"AM15","v":0},0]
[null,null,"給与　配偶者",null,{"$f":"HLOOKUP(TRUE,Config!$A$2:$E$36,ROW()-13,FALSE)","v":0},{"$f":"E16","v":0},{"$f":"F16","v":0},0,0,0,0,0,0,0,0,0,0,0,0,0,0,0,0,0,0,0,0,0,0,0,0,0,0,0,0,0,0,0,0,0,0]
[null,null,"年金　本人・配偶者","手入力",{"$f":"HLOOKUP(TRUE,Config!$A$2:$E$36,ROW()-13,FALSE)","v":0}]
[null,null,"年金　同居者（　　　　　　　　　）","手入力",{"$f":"HLOOKUP(TRUE,Config!$A$2:$E$36,ROW()-13,FALSE)","v":0}]
[null,null,null,null,{"$f":"HLOOKUP(TRUE,Config!$A$2:$E$36,ROW()-13,FALSE)","v":0},{"$f":"E19","v":0},{"$f":"F19","v":0},0,0,0,0,0,0,0,0,0,0,0,0,0,0,0,0,0,0,0,0,0,0,0,0,0,0,0,0,0,0,0,0,0,0]
[null,null,"臨時収入・賞与","手入力",{"$f":"HLOOKUP(TRUE,Config!$A$2:$E$36,ROW()-13,FALSE)","v":0}]
[null,null,"援助収入や手当等の収入(毎月のもの)",null,{"$f":"HLOOKUP(TRUE,Config!$A$2:$E$36,ROW()-13,FALSE)","v":0},{"$f":"E21","v":0},{"$f":"F21","v":0},0,0,0,0,0,0,0,0,0,0,0,0,0,0,0,0,0,0,0,0,0,0,0,0,0,0,0,0,0,0,0,0,0,0]
[null,null,"援助収入や手当等の収入(毎月以外)","手入力",{"$f":"HLOOKUP(TRUE,Config!$A$2:$E$36,ROW()-13,FALSE)","v":0}]
[null,null,"借入による収入(毎月のもの)",null,{"$f":"HLOOKUP(TRUE,Config!$A$2:$E$36,ROW()-13,FALSE)","v":0},{"$f":"E23","v":0},{"$f":"F23","v":0},0,0,0,0,0,0,0,0,0,0,0,0,0,0,0,0,0,0,0,0,0,0,0,0,0,0,0,0,0,0,0,0,0,0]
[null,null,"その他の収入","手入力",{"$f":"HLOOKUP(TRUE,Config!$A$2:$E$36,ROW()-13,FALSE)","v":0}]
[null,null,"収入合計",null,{"$f":"SUM(E15:E24)","v":0},0,0,0,0,0,0,0,0,0,0,0,0,0,0,0,0,0,0,0,0,0,0,0,0,0,0,0,{"$f":"SUM(AG15:AG24)","v":0},0,0,0,0,0,0,0,0]
[null,"支 出","住居費　（住宅ローン以外の家賃等）",null,{"$f":"HLOOKUP(TRUE,Config!$A$2:$E$36,ROW()-13,FALSE)","v":0},{"$f":"E26","v":0},0,0,0,0,0,0,0,0,0,0,0,0,0,0,0,{"$f":"U26","v":0},0,0,0,0,0,0,0,0,0,0,0,0,0,0,0,{"$f":"AK26","v":0},0,0,0]
[null,null,"食費・外食費",null,{"$f":"HLOOKUP(TRUE,Config!$A$2:$E$36,ROW()-13,FALSE)","v":0},0,0,0,0,0,0,0,0,0,0,0,0,0,0,0,0,0,0,0,0,0,0,0,0,0,0,0,0,0,0,0,0,0,0,0,0]
[null,null,"電気・ガス・水道代",null,{"$f":"HLOOKUP(TRUE,Config!$A$2:$E$36,ROW()-13,FALSE)","v":0},0,0,0,0,0,0,0,0,0,0,0,0,0,0,0,0,0,0,0,0,0,0,0,0,0,0,0,0,0,0,0,0,0,0,0,0]
[null,null,"灯油代",null,{"$f":"HLOOKUP(TRUE,Config!$A$2:$E$36,ROW()-13,FALSE)","v":0},0,0,0,0,0,0,0,0,0,0,0,0,0,0,0,0,0,0,0,0,0,0,0,0,0,0,0,0,0,0,0,0,0,0,0,0]
[null,null,"被服・理美容・雑貨費",null,{"$f":"HLOOKUP(TRUE,Config!$A$2:$E$36,ROW()-13,FALSE)","v":0},0,0,0,0,0,0,0,0,0,0,0,0,0,0,0,0,0,0,0,0,0,0,0,0,0,0,0,0,0,0,0,0,0,0,0,0]
[null,null,"医療費・介護費等",null,{"$f":"HLOOKUP(TRUE,Config!$A$2:$E$36,ROW()-13,FALSE)","v":0},0,0,0,0,0,0,0,0,0,0,0,0,0,0,0,0,0,0,0,0,0,0,0,0,0,0,0,0,0,0,0,0,0,0,0,0]
[null,null,"電話・携帯電話・インターネット",null,{"$f":"HLOOKUP(TRUE,Config!$A$2:$E$36,ROW()-13,FALSE)","v":0},0,0,0,0,0,0,0,0,0,0,0,0,0,0,0,0,0,0,0,0,0,0,0,0,0,0,0,0,0,0,0,0,0,0,0,0]
[null,null,"車両関係費・交通費",null,{"$f":"HLOOKUP(TRUE,Config!$A$2:$E$36,ROW()-13,FALSE)","v":0},0,0,0,0,0,0,0,0,0,0,0,0,0,0,0,0,0,0,0,0,0,0,0,0,0,0,0,0,0,0,0,0,0,0,0,0]
[null,null,"教育等費用",null,{"$f":"HLOOKUP(TRUE,Config!$A$2:$E$36,ROW()-13,FALSE)","v":0},0,0,0,0,0,0,0,0,0,0,0,0,0,0,0,0,0,0,0,0,0,0,0,0,0,0,0,0,0,0,0,0,0,0,0,0]
[null,null,"教養・娯楽費用",null,{"$f":"HLOOKUP(TRUE,Config!$A$2:$E$36,ROW()-13,FALSE)","v":0},0,0,0,0,0,0,0,0,0,0,0,0,0,0,0,0,0,0,0,0,0,0,0,0,0,0,0,0,0,0,0,0,0,0,0,0]
[null,null,"その他（酒・交際費・たばこ・お小遣い等）",null,{"$f":"HLOOKUP(TRUE,Config!$A$2:$E$36,ROW()-13,FALSE)","v":0},0,0,0,0,0,0,0,0,0,0,0,0,0,0,0,0,0,0,0,0,0,0,0,0,0,0,0,0,0,0,0,0,0,0,0,0]
[null,null,"税金・社会保険料",null,{"$f":"HLOOKUP(TRUE,Config!$A$2:$E$36,ROW()-13,FALSE)","v":0},0,0,0,0,0,0,0,0,0,0,0,0,0,0,0,0,0,0,0,0,0,0,0,0,0,0,0,0,0,0,0,0,0,0,0,0]
[null,null,"その他保険料",null,{"$f":"HLOOKUP(TRUE,Config!$A$2:$E$36,ROW()-13,FALSE)","v":0},0,0,0,0,0,0,0,0,0,0,0,0,0,0,0,0,0,0,0,0,0,0,0,0,0,0,0,0,0,0,0,0,0,0,0,0]
[null,null,"住宅ローン・自動車ローンの返済金",null,{"$f":"HLOOKUP(TRUE,Config!$A$2:$E$36,ROW()-13,FALSE)","v":0},0,0,0,0,0,0,0,0,0,0,0,0,0,0,0,0,0,0,0,0,0,0,0,0,0,0,0,0,0,0,0,0,0,0,0,0]
[null,null,"銀行・消費者金融等の返済金",null,{"$f":"HLOOKUP(TRUE,Config!$A$2:$E$36,ROW()-13,FALSE)","v":0},0,0,0,0,0,0,0,0,0,0,0,0,0,0,0,0,0,0,0,0,0,0,0,0,0,0,0,0,0,0,0,0,0,0,0,0]
[null,null,"滞納（税・保険料・生活費等）の返済金",null,{"$f":"HLOOKUP(TRUE,Config!$A$2:$E$36,ROW()-13,FALSE)","v":0},0,0,0,0,0,0,0,0,0,0,0,0,0,0,0,{"$f":"T41","v":0},0,0,0,0,0,0,0,0,0,0,0,0,0,0,0,0,0,0,0,0]
[null,null,"その他の返済金",null,{"$f":"HLOOKUP(TRUE,Config!$A$2:$E$36,ROW()-13,FALSE)","v":0},{"$f":"E42","v":0},0,0,0,0,0,0,0,0,0,0,0,0,0,0,0,0,0,0,0,0,0,0,0,0,0,0,0,0,0,0,{"$f":"AJ42","v":0},0,0,0,0]
[null,null,"一時的な支出①（　　　　　　　　　）","手入力"]
[null,null,"一時的な支出②（　　　　　　　　　）","手入力"]
[null,null,"一時的な支出③（　　　　　　　　　）","手入力"]
[null,null,"家計再生のための借入の返済金","手入力",{"$f":"HLOOKUP(TRUE,Config!$A$2:$E$36,ROW()-13,FALSE)","v":0},{"$f":"E46","v":0},{"$f":"F46","v":0},0,0,0,0,0,0,0,0,0,0,0,0,0,0,0,{"$f":"V46","v":0},0,0,0,0,0,0,0,0,0,0,0,0,0,0,0,{"$f":"AL46","v":0},0,0]
[null,null,"預貯金預け入れ（※引き出し時はマイナス表記）","手入力",{"$f":"HLOOKUP(TRUE,Config!$A$2:$E$36,ROW()-13,FALSE)","v":0},{"$f":"E47","v":0},{"$f":"F47","v":0},{"$f":"G47","v":0},0,0,0,0,0,0,0,0,0,{"$f":"Q47","v":0},{"$f":"R47","v":0},0,0,0,0,0,0,0,0,0,0,0,0,0,0,0,0,0,0,0,0,0,0]
[null,null,"支出合計",null,{"$f":"SUM(E26:E47)","v":0},{"$f":"SUM(F26:F47)","v":0},{"$f":"SUM(G26:G47)","v":0},0,0,0,0,0,0,0,0,0,0,0,0,0,0,0,0,0,0,0,0,0,0,0,0,0,0,0,0,0,0,0,0,0,0]
[null,"毎月の収支",null,null,{"$f":"E25-E48","v":0},{"$f":"F25-F48","v":0},0,0,0,0,{"$f":"K25-K48","v":0},0,0,0,0,0,0,0,0,0,0,0,0,0,0,0,0,0,0,0,0,0,0,0,0,0,0,0,0,0,0]
[null,"収支累計",null,null,null,{"$f":"E50+F49","v":0},{"$f":"F50+G49","v":0},0,0,0,0,0,0,0,0,0,0,0,0,0,0,0,0,0,0,0,0,0,0,0,0,0,0,0,0,0,0,0,0,0,0]
[null,"預貯金累計",null,null,null,{"$f":"E51+F47","v":0},{"$f":"F51+G47","v":0},0,0,0,0,0,0,0,0,0,0,0,0,0,0,0,0,0,0,0,0,0,0,0,0,0,0,0,0,0,0,0,0,0,0]
[null,"収支・預貯金累計の総計",null,null,null,{"$f":"F50+F51","v":0},0,0,0,0,0,0,0,0,0,0,0,0,0,0,0,0,0,0,0,0,0,0,0,0,0,0,0,0,0,0,0,0,0,0,0]
[null,"実質現預金残（本人手書き記入）"]

{"sheet":"⑩キャッシュフロー表 (3年分) (グラフ)","index":14,"n_rows":20,"n_cols":41,"rows_kept":20,"cut":false,"hidden":false,"merged":[[4,13,5,13],[0,2,0,15],[1,4,1,5],[1,6,1,7],[1,12,1,14],[3,1,3,2],[3,4,13,4],[4,1,4,2],[4,5,5,5],[4,6,5,6],[4,7,5,7],[4,8,5,8],[4,9,5,9],[4,10,5,10],[4,11,5,11],[4,12,5,12],[4,25,5,25],[4,14,5,14],[4,15,5,15],[4,16,5,16],[4,17,5,17],[4,18,5,18],[4,19,5,19],[4,40,5,40],[4,32,5,32],[4,33,5,33],[4,34,5,34],[4,35,5,35],[4,36,5,36],[4,37,5,37],[5,1,5,2],[6,1,11,1],[12,1,12,2],[4,38,5,38],[4,39,5,39],[4,26,5,26],[4,27,5,27],[4,28,5,28],[4,29,5,29],[4,30,5,30],[4,31,5,31],[4,20,5,20],[4,21,5,21],[4,22,5,22],[4,23,5,23],[4,24,5,24],[19,1,19,2],[13,1,13,2],[16,1,16,2],[17,1,17,2],[18,1,18,2]]}
[null,null,"キャッシュフロー表作成上の注意！　（非印刷範囲です）\n　①新規作成は常に原本から作成ください。　原本でないと計算式等が消去されている場合があります。\n　　　　作成する際は、表の途中から金額の変更や停止したりする必要がありますが、その場合そのセルの計算式等が消去されます。\n　　　　新規に作成する際、過去に作成したものを流用すると、気付かないまま、途中で計算式等が消去され数値が入っていないことがあります。\n　②作成は、原本を開き、先に「名前をつけて保存」後、入力開始ください。　\n　　　　先に入力すると保存し忘れ、原本自体を上書き保存し、原本が変更されてしまう可能性があります。\n　③表の収入・支出項目の変更や枠の追加・削除等は、勝手にしないこと。計算式が壊れます。また式の変更も不可です。\n　④分からない・困る場合は　深町　までご連絡ください。"]
[null,"５．キャッシュフロー表",null,"相談日：",{"$f":"⑧ライフイベント表!C1","v":{"$error":"#VALUE!"}},null,{"$f":"①相談時家計表!B2 & \" 様\"","v":" 様"},null,"家のキャッシュフロー表",null,null,null,{"$f":"E2","v":{"$error":"#VALUE!"}}]
[]
[null,"西暦",null,{"$f":"E2","v":{"$error":"#VALUE!"}},{"$f":"\"家計\" &CHAR(10) &\"計画表\"&Config!F1&CHAR(10)&\"(転記)\"","v":"家計\n計画表1\n(転記)"},{"$f":"D4","v":{"$error":"#VALUE!"}},{"$f":"EOMONTH(F4,1)","v":{"$error":"#VALUE!"}},{"$f":"EOMONTH(G4,1)","v":{"$error":"#VALUE!"}},{"$error":"#VALUE!"},{"$error":"#VALUE!"},{"$error":"#VALUE!"},{"$error":"#VALUE!"},{"$error":"#VALUE!"},{"$error":"#VALUE!"},{"$error":"#VALUE!"},{"$error":"#VALUE!"},{"$error":"#VALUE!"},{"$error":"#VALUE!"},{"$error":"#VALUE!"},{"$error":"#VALUE!"},{"$error":"#VALUE!"},{"$error":"#VALUE!"},{"$error":"#VALUE!"},{"$error":"#VALUE!"},{"$error":"#VALUE!"},{"$error":"#VALUE!"},{"$error":"#VALUE!"},{"$error":"#VALUE!"},{"$error":"#VALUE!"},{"$error":"#VALUE!"},{"$error":"#VALUE!"},{"$error":"#VALUE!"},{"$error":"#VALUE!"},{"$error":"#VALUE!"},{"$error":"#VALUE!"},{"$error":"#VALUE!"},{"$error":"#VALUE!"},{"$error":"#VALUE!"},{"$error":"#VALUE!"},{"$error":"#VALUE!"},{"$error":"#VALUE!"}]
[null,"和暦",null,{"$f":"E2","v":{"$error":"#VALUE!"}},null,{"$f":"TEXT(F4,\"gggy年\"&CHAR(10)&\"m月\")","v":{"$error":"#VALUE!"}},{"$f":"TEXT(G4,\"gggy年\"&CHAR(10)&\"m月\")","v":{"$error":"#VALUE!"}},{"$error":"#VALUE!"},{"$error":"#VALUE!"},{"$error":"#VALUE!"},{"$error":"#VALUE!"},{"$error":"#VALUE!"},{"$error":"#VALUE!"},{"$error":"#VALUE!"},{"$error":"#VALUE!"},{"$error":"#VALUE!"},{"$error":"#VALUE!"},{"$error":"#VALUE!"},{"$error":"#VALUE!"},{"$error":"#VALUE!"},{"$error":"#VALUE!"},{"$error":"#VALUE!"},{"$error":"#VALUE!"},{"$error":"#VALUE!"},{"$error":"#VALUE!"},{"$error":"#VALUE!"},{"$error":"#VALUE!"},{"$error":"#VALUE!"},{"$error":"#VALUE!"},{"$error":"#VALUE!"},{"$error":"#VALUE!"},{"$error":"#VALUE!"},{"$error":"#VALUE!"},{"$error":"#VALUE!"},{"$error":"#VALUE!"},{"$error":"#VALUE!"},{"$error":"#VALUE!"},{"$error":"#VALUE!"},{"$error":"#VALUE!"},{"$error":"#VALUE!"},{"$error":"#VALUE!"}]
[null,"月",null,{"$f":"E2","v":{"$error":"#VALUE!"}}]
[null,"年 齢",{"$f":"IF(⑧ライフイベント表!F4=\"\",\"\",⑧ライフイベント表!F4)","v":"本人"},{"$f":"IF(⑧ライフイベント表!G5=\"\",\"\",⑧ライフイベント表!G5)","v":""},null,{"$f":"IF(D7=\"\",\"\",D7)","v":""},{"$f":"IF(F7=\"\",\"\",IF(MONTH(G$4)=4,F7+1,F7))","v":""},{"$f":"IF(G7=\"\",\"\",IF(MONTH(H$4)=4,G7+1,G7))","v":""},"","","","","","","","","","","","","","","",{"$f":"IF(W7=\"\",\"\",IF(MONTH(X$4)=4,W7+1,W7))","v":""},"","","","","","","","","","","","","","","",{"$f":"IF(AM7=\"\",\"\",IF(MONTH(AN$4)=4,AM7+1,AM7))","v":""},""]
[null,null,{"$f":"IF(⑧ライフイベント表!H4=\"\",\"\",⑧ライフイベント表!H4)","v":""},{"$f":"IF(⑧ライフイベント表!I5=\"\",\"\",⑧ライフイベント表!I5)","v":""},null,"",{"$f":"IF(F8=\"\",\"\",IF(MONTH(G$4)=4,F8+1,F8))","v":""},"","","","","","","","","","","","","","","","","","","","","","","","","","","","","","","","","",""]
[null,null,{"$f":"IF(⑧ライフイベント表!J4=\"\",\"\",⑧ライフイベント表!J4)","v":""},{"$f":"IF(⑧ライフイベント表!K5=\"\",\"\",⑧ライフイベント表!K5)","v":""},null,"","","","","","","","","","","","","","","","","","","","","","","","","","","","","","","","","","","",""]
[null,null,{"$f":"IF(⑧ライフイベント表!L4=\"\",\"\",⑧ライフイベント表!L4)","v":""},{"$f":"IF(⑧ライフイベント表!M5=\"\",\"\",⑧ライフイベント表!M5)","v":""},null,"","","","","","","","","","","","","","","","","","","","","","","","","","","","","","","","","","","",""]
[null,null,{"$f":"IF(⑧ライフイベント表!N4=\"\",\"\",⑧ライフイベント表!N4)","v":""},{"$f":"IF(⑧ライフイベント表!O5=\"\",\"\",⑧ライフイベント表!O5)","v":""},null,"","","","","","","","","","","","","","","","","","","","","","","","","","","","","","","","","","","",""]
[null,null,{"$f":"IF(⑧ライフイベント表!P4=\"\",\"\",⑧ライフイベント表!P4)","v":""},{"$f":"IF(⑧ライフイベント表!Q5=\"\",\"\",⑧ライフイベント表!Q5)","v":""},null,"","","","","","","","","","","","","","","","","","","","","","","","","","","","","","","","","","","",""]
[null,"毎月以外の収入の内容",null,{"$f":"F13","v":""},null,{"$f":"IF(⑧ライフイベント表!T6=\"\",\"\",⑧ライフイベント表!T6)","v":""},{"$f":"IF(⑧ライフイベント表!T7=\"\",\"\",⑧ライフイベント表!T7)","v":""},{"$f":"IF(⑧ライフイベント表!T8=\"\",\"\",⑧ライフイベント表!T8)","v":""},{"$f":"IF(⑧ライフイベント表!T9=\"\",\"\",⑧ライフイベント表!T9)","v":""},{"$f":"IF(⑧ライフイベント表!T10=\"\",\"\",⑧ライフイベント表!T10)","v":""},{"$f":"IF(⑧ライフイベント表!T11=\"\",\"\",⑧ライフイベント表!T11)","v":""},{"$f":"IF(⑧ライフイベント表!T12=\"\",\"\",⑧ライフイベント表!T12)","v":""},{"$f":"IF(⑧ライフイベント表!T13=\"\",\"\",⑧ライフイベント表!T13)","v":""},{"$f":"IF(⑧ライフイベント表!T14=\"\",\"\",⑧ライフイベント表!T14)","v":""},{"$f":"IF(⑧ライフイベント表!T15=\"\",\"\",⑧ライフイベント表!T15)","v":""},{"$f":"IF(⑧ライフイベント表!T16=\"\",\"\",⑧ライフイベント表!T16)","v":""},{"$f":"IF(⑧ライフイベント表!T17=\"\",\"\",⑧ライフイベント表!T17)","v":""},{"$f":"IF(⑧ライフイベント表!T18=\"\",\"\",⑧ライフイベント表!T18)","v":""},{"$f":"IF(⑧ライフイベント表!T19=\"\",\"\",⑧ライフイベント表!T19)","v":""},{"$f":"IF(⑧ライフイベント表!T20=\"\",\"\",⑧ライフイベント表!T20)","v":""},{"$f":"IF(⑧ライフイベント表!T21=\"\",\"\",⑧ライフイベント表!T21)","v":""},{"$f":"IF(⑧ライフイベント表!T22=\"\",\"\",⑧ライフイベント表!T22)","v":""},{"$f":"IF(⑧ライフイベント表!T23=\"\",\"\",⑧ライフイベント表!T23)","v":""},{"$f":"IF(⑧ライフイベント表!T24=\"\",\"\",⑧ライフイベント表!T24)","v":""},{"$f":"IF(⑧ライフイベント表!T25=\"\",\"\",⑧ライフイベント表!T25)","v":""},{"$f":"IF(⑧ライフイベント表!T26=\"\",\"\",⑧ライフイベント表!T26)","v":""},{"$f":"IF(⑧ライフイベント表!T27=\"\",\"\",⑧ライフイベント表!T27)","v":""},{"$f":"IF(⑧ライフイベント表!T28=\"\",\"\",⑧ライフイベント表!T28)","v":""},{"$f":"IF(⑧ライフイベント表!T29=\"\",\"\",⑧ライフイベント表!T29)","v":""},{"$f":"IF(⑧ライフイベント表!T30=\"\",\"\",⑧ライフイベント表!T30)","v":""},{"$f":"IF(⑧ライフイベント表!T31=\"\",\"\",⑧ライフイベント表!T31)","v":""},{"$f":"IF(⑧ライフイベント表!T32=\"\",\"\",⑧ライフイベント表!T32)","v":""},{"$f":"IF(⑧ライフイベント表!T33=\"\",\"\",⑧ライフイベント表!T33)","v":""},{"$f":"IF(⑧ライフイベント表!T34=\"\",\"\",⑧ライフイベント表!T34)","v":""},{"$f":"IF(⑧ライフイベント表!T35=\"\",\"\",⑧ライフイベント表!T35)","v":""},{"$f":"IF(⑧ライフイベント表!T36=\"\",\"\",⑧ライフイベント表!T36)","v":""},{"$f":"IF(⑧ライフイベント表!T37=\"\",\"\",⑧ライフイベント表!T37)","v":""},{"$f":"IF(⑧ライフイベント表!T38=\"\",\"\",⑧ライフイベント表!T38)","v":""},{"$f":"IF(⑧ライフイベント表!T39=\"\",\"\",⑧ライフイベント表!T39)","v":""},{"$f":"IF(⑧ライフイベント表!T40=\"\",\"\",⑧ライフイベント表!T40)","v":""},{"$f":"IF(⑧ライフイベント表!T41=\"\",\"\",⑧ライフイベント表!T41)","v":""}]
[null,"家族のイベント",null,{"$f":"F14","v":""},null,{"$f":"IF(⑧ライフイベント表!U6=\"\",\"\",⑧ライフイベント表!U6)","v":""},{"$f":"IF(⑧ライフイベント表!U7=\"\",\"\",⑧ライフイベント表!U7)","v":""},{"$f":"IF(⑧ライフイベント表!U8=\"\",\"\",⑧ライフイベント表!U8)","v":""},{"$f":"IF(⑧ライフイベント表!U9=\"\",\"\",⑧ライフイベント表!U9)","v":""},{"$f":"IF(⑧ライフイベント表!U10=\"\",\"\",⑧ライフイベント表!U10)","v":""},{"$f":"IF(⑧ライフイベント表!U11=\"\",\"\",⑧ライフイベント表!U11)","v":""},{"$f":"IF(⑧ライフイベント表!U12=\"\",\"\",⑧ライフイベント表!U12)","v":""},{"$f":"IF(⑧ライフイベント表!U13=\"\",\"\",⑧ライフイベント表!U13)","v":""},{"$f":"IF(⑧ライフイベント表!U14=\"\",\"\",⑧ライフイベント表!U14)","v":""},{"$f":"IF(⑧ライフイベント表!U15=\"\",\"\",⑧ライフイベント表!U15)","v":""},{"$f":"IF(⑧ライフイベント表!U16=\"\",\"\",⑧ライフイベント表!U16)","v":""},{"$f":"IF(⑧ライフイベント表!U17=\"\",\"\",⑧ライフイベント表!U17)","v":""},{"$f":"IF(⑧ライフイベント表!U18=\"\",\"\",⑧ライフイベント表!U18)","v":""},{"$f":"IF(⑧ライフイベント表!U19=\"\",\"\",⑧ライフイベント表!U19)","v":""},{"$f":"IF(⑧ライフイベント表!U20=\"\",\"\",⑧ライフイベント表!U20)","v":""},{"$f":"IF(⑧ライフイベント表!U21=\"\",\"\",⑧ライフイベント表!U21)","v":""},{"$f":"IF(⑧ライフイベント表!U22=\"\",\"\",⑧ライフイベント表!U22)","v":""},{"$f":"IF(⑧ライフイベント表!U23=\"\",\"\",⑧ライフイベント表!U23)","v":""},{"$f":"IF(⑧ライフイベント表!U24=\"\",\"\",⑧ライフイベント表!U24)","v":""},{"$f":"IF(⑧ライフイベント表!U25=\"\",\"\",⑧ライフイベント表!U25)","v":""},{"$f":"IF(⑧ライフイベント表!U26=\"\",\"\",⑧ライフイベント表!U26)","v":""},{"$f":"IF(⑧ライフイベント表!U27=\"\",\"\",⑧ライフイベント表!U27)","v":""},{"$f":"IF(⑧ライフイベント表!U28=\"\",\"\",⑧ライフイベント表!U28)","v":""},{"$f":"IF(⑧ライフイベント表!U29=\"\",\"\",⑧ライフイベント表!U29)","v":""},{"$f":"IF(⑧ライフイベント表!U30=\"\",\"\",⑧ライフイベント表!U30)","v":""},{"$f":"IF(⑧ライフイベント表!U31=\"\",\"\",⑧ライフイベント表!U31)","v":""},{"$f":"IF(⑧ライフイベント表!U32=\"\",\"\",⑧ライフイベント表!U32)","v":""},{"$f":"IF(⑧ライフイベント表!U33=\"\",\"\",⑧ライフイベント表!U33)","v":""},{"$f":"IF(⑧ライフイベント表!U34=\"\",\"\",⑧ライフイベント表!U34)","v":""},{"$f":"IF(⑧ライフイベント表!U35=\"\",\"\",⑧ライフイベント表!U35)","v":""},{"$f":"IF(⑧ライフイベント表!U36=\"\",\"\",⑧ライフイベント表!U36)","v":""},{"$f":"IF(⑧ライフイベント表!U37=\"\",\"\",⑧ライフイベント表!U37)","v":""},{"$f":"IF(⑧ライフイベント表!U38=\"\",\"\",⑧ライフイベント表!U38)","v":""},{"$f":"IF(⑧ライフイベント表!U39=\"\",\"\",⑧ライフイベント表!U39)","v":""},{"$f":"IF(⑧ライフイベント表!U40=\"\",\"\",⑧ライフイベント表!U40)","v":""},{"$f":"IF(⑧ライフイベント表!U41=\"\",\"\",⑧ライフイベント表!U41)","v":""}]
[null,null,"収入合計",null,{"$f":"'⑨キャッシュフロー表 (3年分)'!E25","v":0},{"$f":"'⑨キャッシュフロー表 (3年分)'!F25","v":0},{"$f":"'⑨キャッシュフロー表 (3年分)'!G25","v":0},{"$f":"'⑨キャッシュフロー表 (3年分)'!H25","v":0},{"$f":"'⑨キャッシュフロー表 (3年分)'!I25","v":0},{"$f":"'⑨キャッシュフロー表 (3年分)'!J25","v":0},{"$f":"'⑨キャッシュフロー表 (3年分)'!K25","v":0},{"$f":"'⑨キャッシュフロー表 (3年分)'!L25","v":0},{"$f":"'⑨キャッシュフロー表 (3年分)'!M25","v":0},{"$f":"'⑨キャッシュフロー表 (3年分)'!N25","v":0},{"$f":"'⑨キャッシュフロー表 (3年分)'!O25","v":0},{"$f":"'⑨キャッシュフロー表 (3年分)'!P25","v":0},{"$f":"'⑨キャッシュフロー表 (3年分)'!Q25","v":0},{"$f":"'⑨キャッシュフロー表 (3年分)'!R25","v":0},{"$f":"'⑨キャッシュフロー表 (3年分)'!S25","v":0},{"$f":"'⑨キャッシュフロー表 (3年分)'!T25","v":0},{"$f":"'⑨キャッシュフロー表 (3年分)'!U25","v":0},{"$f":"'⑨キャッシュフロー表 (3年分)'!V25","v":0},{"$f":"'⑨キャッシュフロー表 (3年分)'!W25","v":0},{"$f":"'⑨キャッシュフロー表 (3年分)'!X25","v":0},{"$f":"'⑨キャッシュフロー表 (3年分)'!Y25","v":0},{"$f":"'⑨キャッシュフロー表 (3年分)'!Z25","v":0},{"$f":"'⑨キャッシュフロー表 (3年分)'!AA25","v":0},{"$f":"'⑨キャッシュフロー表 (3年分)'!AB25","v":0},{"$f":"'⑨キャッシュフロー表 (3年分)'!AC25","v":0},{"$f":"'⑨キャッシュフロー表 (3年分)'!AD25","v":0},{"$f":"'⑨キャッシュフロー表 (3年分)'!AE25","v":0},{"$f":"'⑨キャッシュフロー表 (3年分)'!AF25","v":0},{"$f":"'⑨キャッシュフロー表 (3年分)'!AG25","v":0},{"$f":"'⑨キャッシュフロー表 (3年分)'!AH25","v":0},{"$f":"'⑨キャッシュフロー表 (3年分)'!AI25","v":0},{"$f":"'⑨キャッシュフロー表 (3年分)'!AJ25","v":0},{"$f":"'⑨キャッシュフロー表 (3年分)'!AK25","v":0},{"$f":"'⑨キャッシュフロー表 (3年分)'!AL25","v":0},{"$f":"'⑨キャッシュフロー表 (3年分)'!AM25","v":0},{"$f":"'⑨キャッシュフロー表 (3年分)'!AN25","v":0},{"$f":"'⑨キャッシュフロー表 (3年分)'!AO25","v":0}]
[null,null,"支出合計",null,{"$f":"'⑨キャッシュフロー表 (3年分)'!E48","v":0},{"$f":"'⑨キャッシュフロー表 (3年分)'!F48","v":0},{"$f":"'⑨キャッシュフロー表 (3年分)'!G48","v":0},{"$f":"'⑨キャッシュフロー表 (3年分)'!H48","v":0},{"$f":"'⑨キャッシュフロー表 (3年分)'!I48","v":0},{"$f":"'⑨キャッシュフロー表 (3年分)'!J48","v":0},{"$f":"'⑨キャッシュフロー表 (3年分)'!K48","v":0},{"$f":"'⑨キャッシュフロー表 (3年分)'!L48","v":0},{"$f":"'⑨キャッシュフロー表 (3年分)'!M48","v":0},{"$f":"'⑨キャッシュフロー表 (3年分)'!N48","v":0},{"$f":"'⑨キャッシュフロー表 (3年分)'!O48","v":0},{"$f":"'⑨キャッシュフロー表 (3年分)'!P48","v":0},{"$f":"'⑨キャッシュフロー表 (3年分)'!Q48","v":0},{"$f":"'⑨キャッシュフロー表 (3年分)'!R48","v":0},{"$f":"'⑨キャッシュフロー表 (3年分)'!S48","v":0},{"$f":"'⑨キャッシュフロー表 (3年分)'!T48","v":0},{"$f":"'⑨キャッシュフロー表 (3年分)'!U48","v":0},{"$f":"'⑨キャッシュフロー表 (3年分)'!V48","v":0},{"$f":"'⑨キャッシュフロー表 (3年分)'!W48","v":0},{"$f":"'⑨キャッシュフロー表 (3年分)'!X48","v":0},{"$f":"'⑨キャッシュフロー表 (3年分)'!Y48","v":0},{"$f":"'⑨キャッシュフロー表 (3年分)'!Z48","v":0},{"$f":"'⑨キャッシュフロー表 (3年分)'!AA48","v":0},{"$f":"'⑨キャッシュフロー表 (3年分)'!AB48","v":0},{"$f":"'⑨キャッシュフロー表 (3年分)'!AC48","v":0},{"$f":"'⑨キャッシュフロー表 (3年分)'!AD48","v":0},{"$f":"'⑨キャッシュフロー表 (3年分)'!AE48","v":0},{"$f":"'⑨キャッシュフロー表 (3年分)'!AF48","v":0},{"$f":"'⑨キャッシュフロー表 (3年分)'!AG48","v":0},{"$f":"'⑨キャッシュフロー表 (3年分)'!AH48","v":0},{"$f":"'⑨キャッシュフロー表 (3年分)'!AI48","v":0},{"$f":"'⑨キャッシュフロー表 (3年分)'!AJ48","v":0},{"$f":"'⑨キャッシュフロー表 (3年分)'!AK48","v":0},{"$f":"'⑨キャッシュフロー表 (3年分)'!AL48","v":0},{"$f":"'⑨キャッシュフロー表 (3年分)'!AM48","v":0},{"$f":"'⑨キャッシュフロー表 (3年分)'!AN48","v":0},{"$f":"'⑨キャッシュフロー表 (3年分)'!AO48","v":0}]
[null,"毎月の収支",null,null,{"$f":"'⑨キャッシュフロー表 (3年分)'!E49","v":0},{"$f":"'⑨キャッシュフロー表 (3年分)'!F49","v":0},{"$f":"'⑨キャッシュフロー表 (3年分)'!G49","v":0},{"$f":"'⑨キャッシュフロー表 (3年分)'!H49","v":0},{"$f":"'⑨キャッシュフロー表 (3年分)'!I49","v":0},{"$f":"'⑨キャッシュフロー表 (3年分)'!J49","v":0},{"$f":"'⑨キャッシュフロー表 (3年分)'!K49","v":0},{"$f":"'⑨キャッシュフロー表 (3年分)'!L49","v":0},{"$f":"'⑨キャッシュフロー表 (3年分)'!M49","v":0},{"$f":"'⑨キャッシュフロー表 (3年分)'!N49","v":0},{"$f":"'⑨キャッシュフロー表 (3年分)'!O49","v":0},{"$f":"'⑨キャッシュフロー表 (3年分)'!P49","v":0},{"$f":"'⑨キャッシュフロー表 (3年分)'!Q49","v":0},{"$f":"'⑨キャッシュフロー表 (3年分)'!R49","v":0},{"$f":"'⑨キャッシュフロー表 (3年分)'!S49","v":0},{"$f":"'⑨キャッシュフロー表 (3年分)'!T49","v":0},{"$f":"'⑨キャッシュフロー表 (3年分)'!U49","v":0},{"$f":"'⑨キャッシュフロー表 (3年分)'!V49","v":0},{"$f":"'⑨キャッシュフロー表 (3年分)'!W49","v":0},{"$f":"'⑨キャッシュフロー表 (3年分)'!X49","v":0},{"$f":"'⑨キャッシュフロー表 (3年分)'!Y49","v":0},{"$f":"'⑨キャッシュフロー表 (3年分)'!Z49","v":0},{"$f":"'⑨キャッシュフロー表 (3年分)'!AA49","v":0},{"$f":"'⑨キャッシュフロー表 (3年分)'!AB49","v":0},{"$f":"'⑨キャッシュフロー表 (3年分)'!AC49","v":0},{"$f":"'⑨キャッシュフロー表 (3年分)'!AD49","v":0},{"$f":"'⑨キャッシュフロー表 (3年分)'!AE49","v":0},{"$f":"'⑨キャッシュフロー表 (3年分)'!AF49","v":0},{"$f":"'⑨キャッシュフロー表 (3年分)'!AG49","v":0},{"$f":"'⑨キャッシュフロー表 (3年分)'!AH49","v":0},{"$f":"'⑨キャッシュフロー表 (3年分)'!AI49","v":0},{"$f":"'⑨キャッシュフロー表 (3年分)'!AJ49","v":0},{"$f":"'⑨キャッシュフロー表 (3年分)'!AK49","v":0},{"$f":"'⑨キャッシュフロー表 (3年分)'!AL49","v":0},{"$f":"'⑨キャッシュフロー表 (3年分)'!AM49","v":0},{"$f":"'⑨キャッシュフロー表 (3年分)'!AN49","v":0},{"$f":"'⑨キャッシュフロー表 (3年分)'!AO49","v":0}]
[null,"収支累計",null,null,null,{"$f":"'⑨キャッシュフロー表 (3年分)'!F50","v":0},{"$f":"'⑨キャッシュフロー表 (3年分)'!G50","v":0},{"$f":"'⑨キャッシュフロー表 (3年分)'!H50","v":0},{"$f":"'⑨キャッシュフロー表 (3年分)'!I50","v":0},{"$f":"'⑨キャッシュフロー表 (3年分)'!J50","v":0},{"$f":"'⑨キャッシュフロー表 (3年分)'!K50","v":0},{"$f":"'⑨キャッシュフロー表 (3年分)'!L50","v":0},{"$f":"'⑨キャッシュフロー表 (3年分)'!M50","v":0},{"$f":"'⑨キャッシュフロー表 (3年分)'!N50","v":0},{"$f":"'⑨キャッシュフロー表 (3年分)'!O50","v":0},{"$f":"'⑨キャッシュフロー表 (3年分)'!P50","v":0},{"$f":"'⑨キャッシュフロー表 (3年分)'!Q50","v":0},{"$f":"'⑨キャッシュフロー表 (3年分)'!R50","v":0},{"$f":"'⑨キャッシュフロー表 (3年分)'!S50","v":0},{"$f":"'⑨キャッシュフロー表 (3年分)'!T50","v":0},{"$f":"'⑨キャッシュフロー表 (3年分)'!U50","v":0},{"$f":"'⑨キャッシュフロー表 (3年分)'!V50","v":0},{"$f":"'⑨キャッシュフロー表 (3年分)'!W50","v":0},{"$f":"'⑨キャッシュフロー表 (3年分)'!X50","v":0},{"$f":"'⑨キャッシュフロー表 (3年分)'!Y50","v":0},{"$f":"'⑨キャッシュフロー表 (3年分)'!Z50","v":0},{"$f":"'⑨キャッシュフロー表 (3年分)'!AA50","v":0},{"$f":"'⑨キャッシュフロー表 (3年分)'!AB50","v":0},{"$f":"'⑨キャッシュフロー表 (3年分)'!AC50","v":0},{"$f":"'⑨キャッシュフロー表 (3年分)'!AD50","v":0},{"$f":"'⑨キャッシュフロー表 (3年分)'!AE50","v":0},{"$f":"'⑨キャッシュフロー表 (3年分)'!AF50","v":0},{"$f":"'⑨キャッシュフロー表 (3年分)'!AG50","v":0},{"$f":"'⑨キャッシュフロー表 (3年分)'!AH50","v":0},{"$f":"'⑨キャッシュフロー表 (3年分)'!AI50","v":0},{"$f":"'⑨キャッシュフロー表 (3年分)'!AJ50","v":0},{"$f":"'⑨キャッシュフロー表 (3年分)'!AK50","v":0},{"$f":"'⑨キャッシュフロー表 (3年分)'!AL50","v":0},{"$f":"'⑨キャッシュフロー表 (3年分)'!AM50","v":0},{"$f":"'⑨キャッシュフロー表 (3年分)'!AN50","v":0},{"$f":"'⑨キャッシュフロー表 (3年分)'!AO50","v":0}]
[null,"預貯金累計",null,null,null,{"$f":"'⑨キャッシュフロー表 (3年分)'!F51","v":0},{"$f":"'⑨キャッシュフロー表 (3年分)'!G51","v":0},{"$f":"'⑨キャッシュフロー表 (3年分)'!H51","v":0},{"$f":"'⑨キャッシュフロー表 (3年分)'!I51","v":0},{"$f":"'⑨キャッシュフロー表 (3年分)'!J51","v":0},{"$f":"'⑨キャッシュフロー表 (3年分)'!K51","v":0},{"$f":"'⑨キャッシュフロー表 (3年分)'!L51","v":0},{"$f":"'⑨キャッシュフロー表 (3年分)'!M51","v":0},{"$f":"'⑨キャッシュフロー表 (3年分)'!N51","v":0},{"$f":"'⑨キャッシュフロー表 (3年分)'!O51","v":0},{"$f":"'⑨キャッシュフロー表 (3年分)'!P51","v":0},{"$f":"'⑨キャッシュフロー表 (3年分)'!Q51","v":0},{"$f":"'⑨キャッシュフロー表 (3年分)'!R51","v":0},{"$f":"'⑨キャッシュフロー表 (3年分)'!S51","v":0},{"$f":"'⑨キャッシュフロー表 (3年分)'!T51","v":0},{"$f":"'⑨キャッシュフロー表 (3年分)'!U51","v":0},{"$f":"'⑨キャッシュフロー表 (3年分)'!V51","v":0},{"$f":"'⑨キャッシュフロー表 (3年分)'!W51","v":0},{"$f":"'⑨キャッシュフロー表 (3年分)'!X51","v":0},{"$f":"'⑨キャッシュフロー表 (3年分)'!Y51","v":0},{"$f":"'⑨キャッシュフロー表 (3年分)'!Z51","v":0},{"$f":"'⑨キャッシュフロー表 (3年分)'!AA51","v":0},{"$f":"'⑨キャッシュフロー表 (3年分)'!AB51","v":0},{"$f":"'⑨キャッシュフロー表 (3年分)'!AC51","v":0},{"$f":"'⑨キャッシュフロー表 (3年分)'!AD51","v":0},{"$f":"'⑨キャッシュフロー表 (3年分)'!AE51","v":0},{"$f":"'⑨キャッシュフロー表 (3年分)'!AF51","v":0},{"$f":"'⑨キャッシュフロー表 (3年分)'!AG51","v":0},{"$f":"'⑨キャッシュフロー表 (3年分)'!AH51","v":0},{"$f":"'⑨キャッシュフロー表 (3年分)'!AI51","v":0},{"$f":"'⑨キャッシュフロー表 (3年分)'!AJ51","v":0},{"$f":"'⑨キャッシュフロー表 (3年分)'!AK51","v":0},{"$f":"'⑨キャッシュフロー表 (3年分)'!AL51","v":0},{"$f":"'⑨キャッシュフロー表 (3年分)'!AM51","v":0},{"$f":"'⑨キャッシュフロー表 (3年分)'!AN51","v":0},{"$f":"'⑨キャッシュフロー表 (3年分)'!AO51","v":0}]
[null,"収支・預貯金累計の総計",null,null,null,{"$f":"'⑨キャッシュフロー表 (3年分)'!F52","v":0},{"$f":"'⑨キャッシュフロー表 (3年分)'!G52","v":0},{"$f":"'⑨キャッシュフロー表 (3年分)'!H52","v":0},{"$f":"'⑨キャッシュフロー表 (3年分)'!I52","v":0},{"$f":"'⑨キャッシュフロー表 (3年分)'!J52","v":0},{"$f":"'⑨キャッシュフロー表 (3年分)'!K52","v":0},{"$f":"'⑨キャッシュフロー表 (3年分)'!L52","v":0},{"$f":"'⑨キャッシュフロー表 (3年分)'!M52","v":0},{"$f":"'⑨キャッシュフロー表 (3年分)'!N52","v":0},{"$f":"'⑨キャッシュフロー表 (3年分)'!O52","v":0},{"$f":"'⑨キャッシュフロー表 (3年分)'!P52","v":0},{"$f":"'⑨キャッシュフロー表 (3年分)'!Q52","v":0},{"$f":"'⑨キャッシュフロー表 (3年分)'!R52","v":0},{"$f":"'⑨キャッシュフロー表 (3年分)'!S52","v":0},{"$f":"'⑨キャッシュフロー表 (3年分)'!T52","v":0},{"$f":"'⑨キャッシュフロー表 (3年分)'!U52","v":0},{"$f":"'⑨キャッシュフロー表 (3年分)'!V52","v":0},{"$f":"'⑨キャッシュフロー表 (3年分)'!W52","v":0},{"$f":"'⑨キャッシュフロー表 (3年分)'!X52","v":0},{"$f":"'⑨キャッシュフロー表 (3年分)'!Y52","v":0},{"$f":"'⑨キャッシュフロー表 (3年分)'!Z52","v":0},{"$f":"'⑨キャッシュフロー表 (3年分)'!AA52","v":0},{"$f":"'⑨キャッシュフロー表 (3年分)'!AB52","v":0},{"$f":"'⑨キャッシュフロー表 (3年分)'!AC52","v":0},{"$f":"'⑨キャッシュフロー表 (3年分)'!AD52","v":0},{"$f":"'⑨キャッシュフロー表 (3年分)'!AE52","v":0},{"$f":"'⑨キャッシュフロー表 (3年分)'!AF52","v":0},{"$f":"'⑨キャッシュフロー表 (3年分)'!AG52","v":0},{"$f":"'⑨キャッシュフロー表 (3年分)'!AH52","v":0},{"$f":"'⑨キャッシュフロー表 (3年分)'!AI52","v":0},{"$f":"'⑨キャッシュフロー表 (3年分)'!AJ52","v":0},{"$f":"'⑨キャッシュフロー表 (3年分)'!AK52","v":0},{"$f":"'⑨キャッシュフロー表 (3年分)'!AL52","v":0},{"$f":"'⑨キャッシュフロー表 (3年分)'!AM52","v":0},{"$f":"'⑨キャッシュフロー表 (3年分)'!AN52","v":0},{"$f":"'⑨キャッシュフロー表 (3年分)'!AO52","v":0}]

{"sheet":"⑪キャッシュフロー表 (5年分)","index":15,"n_rows":53,"n_cols":65,"rows_kept":53,"cut":false,"hidden":false,"merged":[[52,1,52,2],[14,1,24,1],[25,1,47,1],[48,1,48,2],[49,1,49,2],[50,1,50,2],[51,1,51,2],[5,1,5,2],[6,1,11,1],[12,1,12,2],[13,1,13,2],[4,62,5,62],[4,50,5,50],[4,51,5,51],[4,52,5,52],[4,53,5,53],[4,54,5,54],[4,55,5,55],[4,44,5,44],[4,45,5,45],[4,46,5,46],[4,47,5,47],[4,48,5,48],[4,63,5,63],[4,64,5,64],[4,56,5,56],[4,57,5,57],[4,58,5,58],[4,59,5,59],[4,60,5,60],[4,61,5,61],[4,49,5,49],[4,38,5,38],[4,39,5,39],[4,40,5,40],[4,41,5,41],[4,42,5,42],[4,43,5,43],[4,37,5,37],[4,26,5,26],[4,27,5,27],[4,28,5,28],[4,29,5,29],[4,30,5,30],[4,31,5,31],[4,32,5,32],[4,33,5,33],[4,34,5,34],[4,35,5,35],[4,36,5,36],[4,25,5,25],[4,14,5,14],[4,15,5,15],[4,16,5,16],[4,17,5,17],[4,18,5,18],[4,19,5,19],[4,20,5,20],[4,21,5,21],[4,22,5,22],[4,23,5,23],[4,24,5,24],[4,13,5,13],[0,2,0,15],[1,4,1,5],[1,6,1,7],[1,12,1,14],[3,1,3,2],[3,4,13,4],[4,1,4,2],[4,5,5,5],[4,6,5,6],[4,7,5,7],[4,8,5,8],[4,9,5,9],[4,10,5,10],[4,11,5,11],[4,12,5,12]]}
[null,null,"キャッシュフロー表作成上の注意！　（非印刷範囲です）\n　①新規作成は常に原本から作成ください。　原本でないと計算式等が消去されている場合があります。\n　　　　作成する際は、表の途中から金額の変更や停止したりする必要がありますが、その場合そのセルの計算式等が消去されます。\n　　　　新規に作成する際、過去に作成したものを流用すると、気付かないまま、途中で計算式等が消去され数値が入っていないことがあります。\n　②作成は、原本を開き、先に「名前をつけて保存」後、入力開始ください。　\n　　　　先に入力すると保存し忘れ、原本自体を上書き保存し、原本が変更されてしまう可能性があります。\n　③表の収入・支出項目の変更や枠の追加・削除等は、勝手にしないこと。計算式が壊れます。また式の変更も不可です。\n　④分からない・困る場合は　深町　までご連絡ください。"]
[null,"５．キャッシュフロー表",null,"相談日：",{"$f":"⑧ライフイベント表!C1","v":{"$error":"#VALUE!"}},null,{"$f":"①相談時家計表!B2 & \" 様\"","v":" 様"},null,"家のキャッシュフロー表",null,null,null,{"$f":"E2","v":{"$error":"#VALUE!"}}]
[]
[null,"西暦",null,{"$f":"E2","v":{"$error":"#VALUE!"}},{"$f":"\"家計\" &CHAR(10) &\"計画表\"&Config!F1&CHAR(10)&\"(転記)\"","v":"家計\n計画表1\n(転記)"},{"$f":"D4","v":{"$error":"#VALUE!"}},{"$f":"EOMONTH(F4,1)","v":{"$error":"#VALUE!"}},{"$f":"EOMONTH(G4,1)","v":{"$error":"#VALUE!"}},{"$error":"#VALUE!"},{"$error":"#VALUE!"},{"$error":"#VALUE!"},{"$error":"#VALUE!"},{"$error":"#VALUE!"},{"$error":"#VALUE!"},{"$error":"#VALUE!"},{"$error":"#VALUE!"},{"$error":"#VALUE!"},{"$error":"#VALUE!"},{"$error":"#VALUE!"},{"$error":"#VALUE!"},{"$error":"#VALUE!"},{"$error":"#VALUE!"},{"$error":"#VALUE!"},{"$error":"#VALUE!"},{"$error":"#VALUE!"},{"$error":"#VALUE!"},{"$error":"#VALUE!"},{"$error":"#VALUE!"},{"$error":"#VALUE!"},{"$error":"#VALUE!"},{"$error":"#VALUE!"},{"$error":"#VALUE!"},{"$error":"#VALUE!"},{"$error":"#VALUE!"},{"$error":"#VALUE!"},{"$error":"#VALUE!"},{"$error":"#VALUE!"},{"$error":"#VALUE!"},{"$error":"#VALUE!"},{"$error":"#VALUE!"},{"$error":"#VALUE!"},{"$error":"#VALUE!"},{"$error":"#VALUE!"},{"$error":"#VALUE!"},{"$error":"#VALUE!"},{"$error":"#VALUE!"},{"$error":"#VALUE!"},{"$error":"#VALUE!"},{"$error":"#VALUE!"},{"$error":"#VALUE!"},{"$error":"#VALUE!"},{"$error":"#VALUE!"},{"$error":"#VALUE!"},{"$error":"#VALUE!"},{"$error":"#VALUE!"},{"$error":"#VALUE!"},{"$error":"#VALUE!"},{"$error":"#VALUE!"},{"$error":"#VALUE!"},{"$error":"#VALUE!"},{"$error":"#VALUE!"},{"$error":"#VALUE!"},{"$error":"#VALUE!"},{"$error":"#VALUE!"},{"$error":"#VALUE!"}]
[null,"和暦",null,{"$f":"E2","v":{"$error":"#VALUE!"}},null,{"$f":"TEXT(F4,\"gggy年\"&CHAR(10)&\"m月\")","v":{"$error":"#VALUE!"}},{"$f":"TEXT(G4,\"gggy年\"&CHAR(10)&\"m月\")","v":{"$error":"#VALUE!"}},{"$error":"#VALUE!"},{"$error":"#VALUE!"},{"$error":"#VALUE!"},{"$error":"#VALUE!"},{"$error":"#VALUE!"},{"$error":"#VALUE!"},{"$error":"#VALUE!"},{"$error":"#VALUE!"},{"$error":"#VALUE!"},{"$error":"#VALUE!"},{"$error":"#VALUE!"},{"$error":"#VALUE!"},{"$error":"#VALUE!"},{"$error":"#VALUE!"},{"$error":"#VALUE!"},{"$error":"#VALUE!"},{"$error":"#VALUE!"},{"$error":"#VALUE!"},{"$error":"#VALUE!"},{"$error":"#VALUE!"},{"$error":"#VALUE!"},{"$error":"#VALUE!"},{"$error":"#VALUE!"},{"$error":"#VALUE!"},{"$error":"#VALUE!"},{"$error":"#VALUE!"},{"$error":"#VALUE!"},{"$error":"#VALUE!"},{"$error":"#VALUE!"},{"$error":"#VALUE!"},{"$error":"#VALUE!"},{"$error":"#VALUE!"},{"$error":"#VALUE!"},{"$error":"#VALUE!"},{"$error":"#VALUE!"},{"$error":"#VALUE!"},{"$error":"#VALUE!"},{"$error":"#VALUE!"},{"$error":"#VALUE!"},{"$error":"#VALUE!"},{"$error":"#VALUE!"},{"$error":"#VALUE!"},{"$error":"#VALUE!"},{"$error":"#VALUE!"},{"$error":"#VALUE!"},{"$error":"#VALUE!"},{"$error":"#VALUE!"},{"$error":"#VALUE!"},{"$error":"#VALUE!"},{"$error":"#VALUE!"},{"$error":"#VALUE!"},{"$error":"#VALUE!"},{"$error":"#VALUE!"},{"$error":"#VALUE!"},{"$error":"#VALUE!"},{"$error":"#VALUE!"},{"$error":"#VALUE!"},{"$error":"#VALUE!"}]
[null,"月",null,{"$f":"E2","v":{"$error":"#VALUE!"}}]
[null,"年 齢",{"$f":"IF(⑧ライフイベント表!F4=\"\",\"\",⑧ライフイベント表!F4)","v":"本人"},{"$f":"IF(⑧ライフイベント表!G5=\"\",\"\",⑧ライフイベント表!G5)","v":""},null,{"$f":"IF(D7=\"\",\"\",D7)","v":""},{"$f":"IF(F7=\"\",\"\",IF(MONTH(G$4)=4,F7+1,F7))","v":""},{"$f":"IF(G7=\"\",\"\",IF(MONTH(H$4)=4,G7+1,G7))","v":""},"","","","","","","","","","","","","","","",{"$f":"IF(W7=\"\",\"\",IF(MONTH(X$4)=4,W7+1,W7))","v":""},"","","","","","","","","","","","","","","","","","","","","","","","","","","","","","","","","","","","","","","","",""]
[null,null,{"$f":"IF(⑧ライフイベント表!H4=\"\",\"\",⑧ライフイベント表!H4)","v":""},{"$f":"IF(⑧ライフイベント表!I5=\"\",\"\",⑧ライフイベント表!I5)","v":""},null,"",{"$f":"IF(F8=\"\",\"\",IF(MONTH(G$4)=4,F8+1,F8))","v":""},"","","","","","","","","","","","","","","","",{"$f":"IF(W8=\"\",\"\",IF(MONTH(X$4)=4,W8+1,W8))","v":""},"","","","","","","","","","","","","","","","","","","","","","","","","","","","","","","","","","","","","","","","",""]
[null,null,{"$f":"IF(⑧ライフイベント表!J4=\"\",\"\",⑧ライフイベント表!J4)","v":""},{"$f":"IF(⑧ライフイベント表!K5=\"\",\"\",⑧ライフイベント表!K5)","v":""},null,"","","","","","","","","","","","","","","","","","",{"$f":"IF(W9=\"\",\"\",IF(MONTH(X$4)=4,W9+1,W9))","v":""},"","","","","","","","","","","","","","","","","","","","","","","","","","","","","","","","","","","","","","","","",""]
[null,null,{"$f":"IF(⑧ライフイベント表!L4=\"\",\"\",⑧ライフイベント表!L4)","v":""},{"$f":"IF(⑧ライフイベント表!M5=\"\",\"\",⑧ライフイベント表!M5)","v":""},null,"","","","","","","","","","","","","","","","","","",{"$f":"IF(W10=\"\",\"\",IF(MONTH(X$4)=4,W10+1,W10))","v":""},"","","","","","","","","","","","","","","","","","","","","","","","","","","","","","","","","","","","","","","","",""]
[null,null,{"$f":"IF(⑧ライフイベント表!N4=\"\",\"\",⑧ライフイベント表!N4)","v":""},{"$f":"IF(⑧ライフイベント表!O5=\"\",\"\",⑧ライフイベント表!O5)","v":""},null,"","","","","","","","","","","","","","","","","","",{"$f":"IF(W11=\"\",\"\",IF(MONTH(X$4)=4,W11+1,W11))","v":""},"","","","","","","","","","","","","","","","","","","","","","","","","","","","","","","","","","","","","","","","",""]
[null,null,{"$f":"IF(⑧ライフイベント表!P4=\"\",\"\",⑧ライフイベント表!P4)","v":""},{"$f":"IF(⑧ライフイベント表!Q5=\"\",\"\",⑧ライフイベント表!Q5)","v":""},null,"","","","","","","","","","","","","","","","","","",{"$f":"IF(W12=\"\",\"\",IF(MONTH(X$4)=4,W12+1,W12))","v":""},"","","","","","","","","","","","","","","","","","","","","","","","","","","","","","","","","","","","","","","","",""]
[null,"毎月以外の収入の内容",null,{"$f":"F13","v":""},null,{"$f":"IF(⑧ライフイベント表!T6=\"\",\"\",⑧ライフイベント表!T6)","v":""},{"$f":"IF(⑧ライフイベント表!T7=\"\",\"\",⑧ライフイベント表!T7)","v":""},{"$f":"IF(⑧ライフイベント表!T8=\"\",\"\",⑧ライフイベント表!T8)","v":""},{"$f":"IF(⑧ライフイベント表!T9=\"\",\"\",⑧ライフイベント表!T9)","v":""},{"$f":"IF(⑧ライフイベント表!T10=\"\",\"\",⑧ライフイベント表!T10)","v":""},{"$f":"IF(⑧ライフイベント表!T11=\"\",\"\",⑧ライフイベント表!T11)","v":""},{"$f":"IF(⑧ライフイベント表!T12=\"\",\"\",⑧ライフイベント表!T12)","v":""},{"$f":"IF(⑧ライフイベント表!T13=\"\",\"\",⑧ライフイベント表!T13)","v":""},{"$f":"IF(⑧ライフイベント表!T14=\"\",\"\",⑧ライフイベント表!T14)","v":""},{"$f":"IF(⑧ライフイベント表!T15=\"\",\"\",⑧ライフイベント表!T15)","v":""},{"$f":"IF(⑧ライフイベント表!T16=\"\",\"\",⑧ライフイベント表!T16)","v":""},{"$f":"IF(⑧ライフイベント表!T17=\"\",\"\",⑧ライフイベント表!T17)","v":""},{"$f":"IF(⑧ライフイベント表!T18=\"\",\"\",⑧ライフイベント表!T18)","v":""},{"$f":"IF(⑧ライフイベント表!T19=\"\",\"\",⑧ライフイベント表!T19)","v":""},{"$f":"IF(⑧ライフイベント表!T20=\"\",\"\",⑧ライフイベント表!T20)","v":""},{"$f":"IF(⑧ライフイベント表!T21=\"\",\"\",⑧ライフイベント表!T21)","v":""},{"$f":"IF(⑧ライフイベント表!T22=\"\",\"\",⑧ライフイベント表!T22)","v":""},{"$f":"IF(⑧ライフイベント表!T23=\"\",\"\",⑧ライフイベント表!T23)","v":""},{"$f":"IF(⑧ライフイベント表!T24=\"\",\"\",⑧ライフイベント表!T24)","v":""},{"$f":"IF(⑧ライフイベント表!T25=\"\",\"\",⑧ライフイベント表!T25)","v":""},{"$f":"IF(⑧ライフイベント表!T26=\"\",\"\",⑧ライフイベント表!T26)","v":""},{"$f":"IF(⑧ライフイベント表!T27=\"\",\"\",⑧ライフイベント表!T27)","v":""},{"$f":"IF(⑧ライフイベント表!T28=\"\",\"\",⑧ライフイベント表!T28)","v":""},{"$f":"IF(⑧ライフイベント表!T29=\"\",\"\",⑧ライフイベント表!T29)","v":""},{"$f":"IF(⑧ライフイベント表!T30=\"\",\"\",⑧ライフイベント表!T30)","v":""},{"$f":"IF(⑧ライフイベント表!T31=\"\",\"\",⑧ライフイベント表!T31)","v":""},{"$f":"IF(⑧ライフイベント表!T32=\"\",\"\",⑧ライフイベント表!T32)","v":""},{"$f":"IF(⑧ライフイベント表!T33=\"\",\"\",⑧ライフイベント表!T33)","v":""},{"$f":"IF(⑧ライフイベント表!T34=\"\",\"\",⑧ライフイベント表!T34)","v":""},{"$f":"IF(⑧ライフイベント表!T35=\"\",\"\",⑧ライフイベント表!T35)","v":""},{"$f":"IF(⑧ライフイベント表!T36=\"\",\"\",⑧ライフイベント表!T36)","v":""},{"$f":"IF(⑧ライフイベント表!T37=\"\",\"\",⑧ライフイベント表!T37)","v":""},{"$f":"IF(⑧ライフイベント表!T38=\"\",\"\",⑧ライフイベント表!T38)","v":""},{"$f":"IF(⑧ライフイベント表!T39=\"\",\"\",⑧ライフイベント表!T39)","v":""},{"$f":"IF(⑧ライフイベント表!T40=\"\",\"\",⑧ライフイベント表!T40)","v":""},{"$f":"IF(⑧ライフイベント表!T41=\"\",\"\",⑧ライフイベント表!T41)","v":""},{"$f":"IF(⑧ライフイベント表!T42=\"\",\"\",⑧ライフイベント表!T42)","v":""},{"$f":"IF(⑧ライフイベント表!T43=\"\",\"\",⑧ライフイベント表!T43)","v":""},{"$f":"IF(⑧ライフイベント表!T44=\"\",\"\",⑧ライフイベント表!T44)","v":""},{"$f":"IF(⑧ライフイベント表!T45=\"\",\"\",⑧ライフイベント表!T45)","v":""},{"$f":"IF(⑧ライフイベント表!T46=\"\",\"\",⑧ライフイベント表!T46)","v":""},{"$f":"IF(⑧ライフイベント表!T47=\"\",\"\",⑧ライフイベント表!T47)","v":""},{"$f":"IF(⑧ライフイベント表!T48=\"\",\"\",⑧ライフイベント表!T48)","v":""},{"$f":"IF(⑧ライフイベント表!T49=\"\",\"\",⑧ライフイベント表!T49)","v":""},{"$f":"IF(⑧ライフイベント表!T50=\"\",\"\",⑧ライフイベント表!T50)","v":""},{"$f":"IF(⑧ライフイベント表!T51=\"\",\"\",⑧ライフイベント表!T51)","v":""},{"$f":"IF(⑧ライフイベント表!T52=\"\",\"\",⑧ライフイベント表!T52)","v":""},{"$f":"IF(⑧ライフイベント表!T53=\"\",\"\",⑧ライフイベント表!T53)","v":""},{"$f":"IF(⑧ライフイベント表!T54=\"\",\"\",⑧ライフイベント表!T54)","v":""},{"$f":"IF(⑧ライフイベント表!T55=\"\",\"\",⑧ライフイベント表!T55)","v":""},{"$f":"IF(⑧ライフイベント表!T56=\"\",\"\",⑧ライフイベント表!T56)","v":""},{"$f":"IF(⑧ライフイベント表!T57=\"\",\"\",⑧ライフイベント表!T57)","v":""},{"$f":"IF(⑧ライフイベント表!T58=\"\",\"\",⑧ライフイベント表!T58)","v":""},{"$f":"IF(⑧ライフイベント表!T59=\"\",\"\",⑧ライフイベント表!T59)","v":""},{"$f":"IF(⑧ライフイベント表!T60=\"\",\"\",⑧ライフイベント表!T60)","v":""},{"$f":"IF(⑧ライフイベント表!T61=\"\",\"\",⑧ライフイベント表!T61)","v":""},{"$f":"IF(⑧ライフイベント表!T62=\"\",\"\",⑧ライフイベント表!T62)","v":""},{"$f":"IF(⑧ライフイベント表!T63=\"\",\"\",⑧ライフイベント表!T63)","v":""},{"$f":"IF(⑧ライフイベント表!T64=\"\",\"\",⑧ライフイベント表!T64)","v":""},{"$f":"IF(⑧ライフイベント表!T65=\"\",\"\",⑧ライフイベント表!T65)","v":""}]
[null,"家族のイベント",null,{"$f":"F14","v":""},null,{"$f":"IF(⑧ライフイベント表!U6=\"\",\"\",⑧ライフイベント表!U6)","v":""},{"$f":"IF(⑧ライフイベント表!U7=\"\",\"\",⑧ライフイベント表!U7)","v":""},{"$f":"IF(⑧ライフイベント表!U8=\"\",\"\",⑧ライフイベント表!U8)","v":""},{"$f":"IF(⑧ライフイベント表!U9=\"\",\"\",⑧ライフイベント表!U9)","v":""},{"$f":"IF(⑧ライフイベント表!U10=\"\",\"\",⑧ライフイベント表!U10)","v":""},{"$f":"IF(⑧ライフイベント表!U11=\"\",\"\",⑧ライフイベント表!U11)","v":""},{"$f":"IF(⑧ライフイベント表!U12=\"\",\"\",⑧ライフイベント表!U12)","v":""},{"$f":"IF(⑧ライフイベント表!U13=\"\",\"\",⑧ライフイベント表!U13)","v":""},{"$f":"IF(⑧ライフイベント表!U14=\"\",\"\",⑧ライフイベント表!U14)","v":""},{"$f":"IF(⑧ライフイベント表!U15=\"\",\"\",⑧ライフイベント表!U15)","v":""},{"$f":"IF(⑧ライフイベント表!U16=\"\",\"\",⑧ライフイベント表!U16)","v":""},{"$f":"IF(⑧ライフイベント表!U17=\"\",\"\",⑧ライフイベント表!U17)","v":""},{"$f":"IF(⑧ライフイベント表!U18=\"\",\"\",⑧ライフイベント表!U18)","v":""},{"$f":"IF(⑧ライフイベント表!U19=\"\",\"\",⑧ライフイベント表!U19)","v":""},{"$f":"IF(⑧ライフイベント表!U20=\"\",\"\",⑧ライフイベント表!U20)","v":""},{"$f":"IF(⑧ライフイベント表!U21=\"\",\"\",⑧ライフイベント表!U21)","v":""},{"$f":"IF(⑧ライフイベント表!U22=\"\",\"\",⑧ライフイベント表!U22)","v":""},{"$f":"IF(⑧ライフイベント表!U23=\"\",\"\",⑧ライフイベント表!U23)","v":""},{"$f":"IF(⑧ライフイベント表!U24=\"\",\"\",⑧ライフイベント表!U24)","v":""},{"$f":"IF(⑧ライフイベント表!U25=\"\",\"\",⑧ライフイベント表!U25)","v":""},{"$f":"IF(⑧ライフイベント表!U26=\"\",\"\",⑧ライフイベント表!U26)","v":""},{"$f":"IF(⑧ライフイベント表!U27=\"\",\"\",⑧ライフイベント表!U27)","v":""},{"$f":"IF(⑧ライフイベント表!U28=\"\",\"\",⑧ライフイベント表!U28)","v":""},{"$f":"IF(⑧ライフイベント表!U29=\"\",\"\",⑧ライフイベント表!U29)","v":""},{"$f":"IF(⑧ライフイベント表!U30=\"\",\"\",⑧ライフイベント表!U30)","v":""},{"$f":"IF(⑧ライフイベント表!U31=\"\",\"\",⑧ライフイベント表!U31)","v":""},{"$f":"IF(⑧ライフイベント表!U32=\"\",\"\",⑧ライフイベント表!U32)","v":""},{"$f":"IF(⑧ライフイベント表!U33=\"\",\"\",⑧ライフイベント表!U33)","v":""},{"$f":"IF(⑧ライフイベント表!U34=\"\",\"\",⑧ライフイベント表!U34)","v":""},{"$f":"IF(⑧ライフイベント表!U35=\"\",\"\",⑧ライフイベント表!U35)","v":""},{"$f":"IF(⑧ライフイベント表!U36=\"\",\"\",⑧ライフイベント表!U36)","v":""},{"$f":"IF(⑧ライフイベント表!U37=\"\",\"\",⑧ライフイベント表!U37)","v":""},{"$f":"IF(⑧ライフイベント表!U38=\"\",\"\",⑧ライフイベント表!U38)","v":""},{"$f":"IF(⑧ライフイベント表!U39=\"\",\"\",⑧ライフイベント表!U39)","v":""},{"$f":"IF(⑧ライフイベント表!U40=\"\",\"\",⑧ライフイベント表!U40)","v":""},{"$f":"IF(⑧ライフイベント表!U41=\"\",\"\",⑧ライフイベント表!U41)","v":""},{"$f":"IF(⑧ライフイベント表!U42=\"\",\"\",⑧ライフイベント表!U42)","v":""},{"$f":"IF(⑧ライフイベント表!U43=\"\",\"\",⑧ライフイベント表!U43)","v":""},{"$f":"IF(⑧ライフイベント表!U44=\"\",\"\",⑧ライフイベント表!U44)","v":""},{"$f":"IF(⑧ライフイベント表!U45=\"\",\"\",⑧ライフイベント表!U45)","v":""},{"$f":"IF(⑧ライフイベント表!U46=\"\",\"\",⑧ライフイベント表!U46)","v":""},{"$f":"IF(⑧ライフイベント表!U47=\"\",\"\",⑧ライフイベント表!U47)","v":""},{"$f":"IF(⑧ライフイベント表!U48=\"\",\"\",⑧ライフイベント表!U48)","v":""},{"$f":"IF(⑧ライフイベント表!U49=\"\",\"\",⑧ライフイベント表!U49)","v":""},{"$f":"IF(⑧ライフイベント表!U50=\"\",\"\",⑧ライフイベント表!U50)","v":""},{"$f":"IF(⑧ライフイベント表!U51=\"\",\"\",⑧ライフイベント表!U51)","v":""},{"$f":"IF(⑧ライフイベント表!U52=\"\",\"\",⑧ライフイベント表!U52)","v":""},{"$f":"IF(⑧ライフイベント表!U53=\"\",\"\",⑧ライフイベント表!U53)","v":""},{"$f":"IF(⑧ライフイベント表!U54=\"\",\"\",⑧ライフイベント表!U54)","v":""},{"$f":"IF(⑧ライフイベント表!U55=\"\",\"\",⑧ライフイベント表!U55)","v":""},{"$f":"IF(⑧ライフイベント表!U56=\"\",\"\",⑧ライフイベント表!U56)","v":""},{"$f":"IF(⑧ライフイベント表!U57=\"\",\"\",⑧ライフイベント表!U57)","v":""},{"$f":"IF(⑧ライフイベント表!U58=\"\",\"\",⑧ライフイベント表!U58)","v":""},{"$f":"IF(⑧ライフイベント表!U59=\"\",\"\",⑧ライフイベント表!U59)","v":""},{"$f":"IF(⑧ライフイベント表!U60=\"\",\"\",⑧ライフイベント表!U60)","v":""},{"$f":"IF(⑧ライフイベント表!U61=\"\",\"\",⑧ライフイベント表!U61)","v":""},{"$f":"IF(⑧ライフイベント表!U62=\"\",\"\",⑧ライフイベント表!U62)","v":""},{"$f":"IF(⑧ライフイベント表!U63=\"\",\"\",⑧ライフイベント表!U63)","v":""},{"$f":"IF(⑧ライフイベント表!U64=\"\",\"\",⑧ライフイベント表!U64)","v":""},"z"]
[null,"収 入","給与　本人",null,{"$f":"HLOOKUP(TRUE,Config!$A$2:$E$36,ROW()-13,FALSE)","v":0},{"$f":"E15","v":0},{"$f":"F15","v":0},{"$f":"G15","v":0},0,0,0,0,0,0,0,0,0,0,0,0,0,0,0,0,0,0,0,0,0,0,0,0,0,0,0,0,0,0,0,0,0,0,0,0,0,0,0,0,0,0,0,0,0,0,0,0,0,0,0,0,0,0,0,0,0]
[null,null,"給与　配偶者",null,{"$f":"HLOOKUP(TRUE,Config!$A$2:$E$36,ROW()-13,FALSE)","v":0},{"$f":"E16","v":0},{"$f":"F16","v":0},0,0,0,0,0,0,0,0,0,0,0,0,0,0,0,0,0,0,0,0,0,0,0,0,0,0,0,0,0,0,0,0,0,0,0,0,0,0,0,0,0,0,0,0,0,0,0,0,0,0,0,0,0,0,0,0,0,0]
[null,null,"年金　本人・配偶者","手入力",{"$f":"HLOOKUP(TRUE,Config!$A$2:$E$36,ROW()-13,FALSE)","v":0}]
[null,null,"年金　同居者（　母　　　　　　　　）","手入力",{"$f":"HLOOKUP(TRUE,Config!$A$2:$E$36,ROW()-13,FALSE)","v":0}]
[null,null,null,null,{"$f":"HLOOKUP(TRUE,Config!$A$2:$E$36,ROW()-13,FALSE)","v":0},{"$f":"E19","v":0},{"$f":"F19","v":0},0,0,0,0,0,0,0,0,0,0,0,0,0,0,0,0,0,0,0,0,0,0,0,0,0,0,0,0,0,0,0,0,0,0,0,0,0,0,0,0,0,0,0,0,0,0,0,0,0,0,0,0,0,0,0,0,0,0]
[null,null,"臨時収入・賞与","手入力",{"$f":"HLOOKUP(TRUE,Config!$A$2:$E$36,ROW()-13,FALSE)","v":0}]
[null,null,"援助収入や手当等の収入(毎月のもの)",null,{"$f":"HLOOKUP(TRUE,Config!$A$2:$E$36,ROW()-13,FALSE)","v":0},{"$f":"E21","v":0},{"$f":"F21","v":0},0,0,0,0,0,0,0,0,0,0,0,0,0,0,0,0,0,0,0,0,0,0,0,0,0,0,0,0,0,0,0,0,0,0,0,0,0,0,0,0,0,0,0,0,0,0,0,0,0,0,0,0,0,0,0,0,0,0]
[null,null,"援助収入や手当等の収入(毎月以外)","手入力",{"$f":"HLOOKUP(TRUE,Config!$A$2:$E$36,ROW()-13,FALSE)","v":0}]
[null,null,"借入による収入(毎月のもの)",null,{"$f":"HLOOKUP(TRUE,Config!$A$2:$E$36,ROW()-13,FALSE)","v":0},{"$f":"E23","v":0},{"$f":"F23","v":0},0,0,0,0,0,0,0,0,0,0,0,0,0,0,0,0,0,0,0,0,0,0,0,0,0,0,0,0,0,0,0,0,0,0,0,0,0,0,0,0,0,0,0,0,0,0,0,0,0,0,0,0,0,0,0,0,0,0]
[null,null,"その他の収入","手入力",{"$f":"HLOOKUP(TRUE,Config!$A$2:$E$36,ROW()-13,FALSE)","v":0}]
[null,null,"収入合計",null,{"$f":"SUM(E15:E24)","v":0},0,0,0,0,0,0,0,0,0,0,0,0,0,0,0,0,0,0,0,0,0,0,0,0,0,0,0,{"$f":"SUM(AG15:AG24)","v":0},0,0,0,0,0,0,0,0,0,0,0,0,0,0,0,0,0,0,0,0,0,0,0,0,0,0,0,0,0,0,0,0]
[null,"支 出","住居費　（住宅ローン以外の家賃等）",null,{"$f":"HLOOKUP(TRUE,Config!$A$2:$E$36,ROW()-13,FALSE)","v":0},{"$f":"E26","v":0},0,0,0,0,0,0,0,0,0,0,0,0,0,0,0,{"$f":"U26","v":0},0,0,0,0,0,0,0,0,0,0,0,0,0,0,0,0,0,0,0,0,0,0,0,0,0,0,0,0,0,0,0,0,0,0,0,0,0,0,0,0,0,0,0]
[null,null,"食費・外食費",null,{"$f":"HLOOKUP(TRUE,Config!$A$2:$E$36,ROW()-13,FALSE)","v":0},0,0,0,0,0,0,0,0,0,0,0,0,0,0,0,0,0,0,0,0,0,0,0,0,0,0,0,0,0,0,0,0,0,0,0,0,0,0,0,0,0,0,0,0,0,0,0,0,0,0,0,0,0,0,0,0,0,0,0,0]
[null,null,"電気・ガス・水道代",null,{"$f":"HLOOKUP(TRUE,Config!$A$2:$E$36,ROW()-13,FALSE)","v":0},0,0,0,0,0,0,0,0,0,0,0,0,0,0,0,0,0,0,0,0,0,0,0,0,0,0,0,0,0,0,0,0,0,0,0,0,0,0,0,0,0,0,0,0,0,0,0,0,0,0,0,0,0,0,0,0,0,0,0,0]
[null,null,"灯油代",null,{"$f":"HLOOKUP(TRUE,Config!$A$2:$E$36,ROW()-13,FALSE)","v":0},0,0,0,0,0,0,0,0,0,0,0,0,0,0,0,0,0,0,0,0,0,0,0,0,0,0,0,0,0,0,0,0,0,0,0,0,0,0,0,0,0,0,0,0,0,0,0,0,0,0,0,0,0,0,0,0,0,0,0,0]
[null,null,"被服・理美容・雑貨費",null,{"$f":"HLOOKUP(TRUE,Config!$A$2:$E$36,ROW()-13,FALSE)","v":0},0,0,0,0,0,0,0,0,0,0,0,0,0,0,0,0,0,0,0,0,0,0,0,0,0,0,0,0,0,0,0,0,0,0,0,0,0,0,0,0,0,0,0,0,0,0,0,0,0,0,0,{"$f":"BD30","v":0},0,0,0,0,0,0,0,0]
[null,null,"医療費・介護費等",null,{"$f":"HLOOKUP(TRUE,Config!$A$2:$E$36,ROW()-13,FALSE)","v":0},0,0,0,0,0,0,0,0,0,0,0,0,0,0,0,0,{"$f":"U31","v":0},0,0,0,0,0,0,0,0,0,0,0,0,0,0,0,0,0,0,0,0,0,0,0,0,0,0,0,0,0,0,0,0,0,0,0,0,0,0,0,0,0,0,0]
[null,null,"電話・携帯電話・インターネット",null,{"$f":"HLOOKUP(TRUE,Config!$A$2:$E$36,ROW()-13,FALSE)","v":0},0,0,0,0,0,0,0,0,0,0,0,0,0,0,0,0,0,0,0,0,0,0,0,0,0,0,0,0,0,0,0,0,0,0,0,0,0,0,0,0,0,0,0,0,0,0,0,0,0,0,0,0,0,0,0,0,0,0,0,0]
[null,null,"車両関係費・交通費",null,{"$f":"HLOOKUP(TRUE,Config!$A$2:$E$36,ROW()-13,FALSE)","v":0},0,0,0,0,0,0,0,0,0,0,0,0,0,0,0,0,0,0,0,0,0,0,0,0,0,0,0,0,0,0,0,0,0,0,0,0,0,0,0,0,0,0,0,0,0,0,0,0,0,0,0,0,0,0,0,0,0,0,0,0]
[null,null,"教育等費用",null,{"$f":"HLOOKUP(TRUE,Config!$A$2:$E$36,ROW()-13,FALSE)","v":0},0,0,0,0,0,0,0,0,0,0,0,0,0,0,0,0,0,0,0,0,0,0,0,0,0,0,0,0,0,0,0,0,0,0,0,0,0,0,0,0,0,0,0,0,0,0,0,0,0,0,0,0,0,0,0,0,0,0,0,0]
[null,null,"教養・娯楽費用",null,{"$f":"HLOOKUP(TRUE,Config!$A$2:$E$36,ROW()-13,FALSE)","v":0},0,0,0,0,0,0,0,0,0,0,0,0,0,0,0,0,0,0,0,0,0,0,0,0,0,0,0,0,0,0,0,0,0,0,0,0,0,0,0,0,0,0,0,0,0,0,0,0,0,0,0,{"$f":"BD35","v":0},0,0,0,0,0,0,0,0]
[null,null,"その他（酒・交際費・たばこ・お小遣い等）",null,{"$f":"HLOOKUP(TRUE,Config!$A$2:$E$36,ROW()-13,FALSE)","v":0},0,0,0,0,0,0,0,0,0,0,0,0,0,0,0,0,{"$f":"U36","v":0},0,0,0,0,0,0,0,0,0,0,0,0,0,0,0,0,0,0,0,0,0,0,0,0,0,0,0,0,0,0,0,0,0,0,0,0,0,0,0,0,0,0,0]
[null,null,"税金・社会保険料",null,{"$f":"HLOOKUP(TRUE,Config!$A$2:$E$36,ROW()-13,FALSE)","v":0},0,0,0,0,0,0,0,0,0,0,0,0,0,0,0,0,0,0,0,0,0,0,0,0,0,0,0,0,0,0,0,0,0,0,0,0,0,0,0,0,0,0,0,0,0,0,0,0,0,0,0,0,0,0,0,0,0,0,0,0]
[null,null,"その他保険料",null,{"$f":"HLOOKUP(TRUE,Config!$A$2:$E$36,ROW()-13,FALSE)","v":0},0,0,0,0,0,0,0,0,0,0,0,0,0,0,0,0,0,0,0,0,0,0,0,0,0,0,0,0,0,0,0,0,0,0,0,0,0,0,0,0,0,0,0,0,0,0,0,0,0,0,0,0,0,0,0,0,0,0,0,0]
[null,null,"住宅ローン・自動車ローンの返済金",null,{"$f":"HLOOKUP(TRUE,Config!$A$2:$E$36,ROW()-13,FALSE)","v":0},0,0,0,0,0,0,0,0,0,0,0,0,0,0,0,0,0,0,0,0,0,0,0,0,0,0,0,0,0,0,0,0,0,0,0,0,0,0,0,0,0,0,0,0,0,0,0,0,0,0,0,0,0,0,0,0,0,0,0,0]
[null,null,"銀行・消費者金融等の返済金",null,{"$f":"HLOOKUP(TRUE,Config!$A$2:$E$36,ROW()-13,FALSE)","v":0},0,0,0,0,0,0,0,0,0,0,0,0,0,0,0,0,0,0,0,0,0,0,0,0,0,0,0,0,0,0,0,0,0,0,0,0,0,0,0,0,0,0,0,0,0,0,0,0,0,0,0,{"$f":"BD40","v":0},0,0,0,0,0,0,0,0]
[null,null,"滞納（税・保険料・生活費等）の返済金",null,{"$f":"HLOOKUP(TRUE,Config!$A$2:$E$36,ROW()-13,FALSE)","v":0},0,0,0,0,0,0,0,0,0,0,0,0,0,0,0,{"$f":"T41","v":0},0,0,0,0,0,0,0,0,0,0,0,0,0,0,0,0,0,0,0,0,0,0,0,0,0,0,0,0,0,0,0,0,0,0,0,0,0,0,0,0,0,0,0,0]
[null,null,"その他の返済金",null,{"$f":"HLOOKUP(TRUE,Config!$A$2:$E$36,ROW()-13,FALSE)","v":0},{"$f":"E42","v":0},0,0,0,0,0,0,0,0,0,0,0,0,0,0,0,0,0,0,0,0,0,0,0,0,0,0,0,0,0,0,0,0,0,0,0,0,0,0,0,0,0,0,0,0,0,0,0,0,0,0,0,0,0,0,0,0,0,0,0]
[null,null,"一時的な支出①（　　　　　　　　　）","手入力"]
[null,null,"一時的な支出②（　　　　　　　　　）","手入力"]
[null,null,"一時的な支出③（　　　　　　　　　）","手入力"]
[null,null,"家計再生のための借入の返済金","手入力",{"$f":"HLOOKUP(TRUE,Config!$A$2:$E$36,ROW()-13,FALSE)","v":0},{"$f":"E46","v":0},{"$f":"F46","v":0},0,0,0,0,0,0,0,0,0,0,0,0,0,0,0,{"$f":"V46","v":0},0,0,0,0,0,0,0,0,0,0,0,0,0,0,0,0,0,0,0,0,0,0,0,0,0,0,0,0,0,0,0,0,0,0,0,0,0,0,0,0,0,0]
[null,null,"預貯金預け入れ（※引き出し時はマイナス表記）","手入力",{"$f":"HLOOKUP(TRUE,Config!$A$2:$E$36,ROW()-13,FALSE)","v":0},{"$f":"E47","v":0},{"$f":"F47","v":0},{"$f":"G47","v":0},0,0,0,0,0,0,0,0,0,{"$f":"Q47","v":0},{"$f":"R47","v":0},0,0,0,0,0,0,0,0,0,0,0,0,0,0,0,0,0,0,0,0,0,0,0,0,0,0,0,0,0,0,0,0,0,0,0,0,0,0,0,0,0,0,0,0,0,0]
[null,null,"支出合計",null,{"$f":"SUM(E26:E47)","v":0},{"$f":"SUM(F26:F47)","v":0},{"$f":"SUM(G26:G47)","v":0},0,0,0,0,0,0,0,0,0,0,0,0,0,0,0,0,0,0,0,0,0,0,0,0,0,0,0,0,0,0,0,0,0,0,0,0,0,0,0,0,0,0,0,0,0,0,0,0,0,0,0,0,0,0,0,0,0,0]
[null,"毎月の収支",null,null,{"$f":"E25-E48","v":0},{"$f":"F25-F48","v":0},0,0,0,0,{"$f":"K25-K48","v":0},0,0,0,0,0,0,0,0,0,0,0,0,0,0,0,0,0,0,0,0,0,0,0,0,0,0,0,0,0,0,0,0,0,0,0,0,0,0,0,0,0,0,0,0,0,0,0,0,0,0,0,0,0,0]
[null,"収支累計",null,null,null,{"$f":"E50+F49","v":0},{"$f":"F50+G49","v":0},0,0,0,0,0,0,0,0,0,0,0,0,0,0,0,0,0,0,0,0,0,0,0,0,0,0,0,0,0,0,0,0,0,0,0,0,0,0,0,0,0,0,0,0,0,0,0,0,0,0,0,0,0,0,0,0,0,0]
[null,"預貯金累計",null,null,null,{"$f":"E51+F47","v":0},{"$f":"F51+G47","v":0},0,0,0,0,0,0,0,0,0,0,0,0,0,0,0,0,0,0,0,0,0,0,0,0,0,0,0,0,0,0,0,0,0,0,0,0,0,0,0,0,0,0,0,0,0,0,0,0,0,0,0,0,0,0,0,0,0,0]
[null,"収支・預貯金累計の総計",null,null,null,{"$f":"F50+F51","v":0},0,0,0,0,0,0,0,0,0,0,0,0,0,0,0,0,0,0,0,0,0,0,0,0,0,0,0,0,0,0,0,0,0,0,0,0,0,0,0,0,0,0,0,0,0,0,0,0,0,0,0,0,0,0,0,0,0,0,0]
[null,"実質現預金残（本人手書き記入）"]

{"sheet":"⑫キャッシュフロー表 (5年分) (グラフ)","index":16,"n_rows":20,"n_cols":65,"rows_kept":20,"cut":false,"hidden":false,"merged":[[19,1,19,2],[13,1,13,2],[16,1,16,2],[17,1,17,2],[18,1,18,2],[4,62,5,62],[4,63,5,63],[4,64,5,64],[5,1,5,2],[6,1,11,1],[4,60,5,60],[4,61,5,61],[4,49,5,49],[4,38,5,38],[4,39,5,39],[4,40,5,40],[4,41,5,41],[4,42,5,42],[4,43,5,43],[4,32,5,32],[4,33,5,33],[12,1,12,2],[4,56,5,56],[4,57,5,57],[4,58,5,58],[4,59,5,59],[4,50,5,50],[4,51,5,51],[4,52,5,52],[4,53,5,53],[4,54,5,54],[4,55,5,55],[4,44,5,44],[4,45,5,45],[4,46,5,46],[4,47,5,47],[4,48,5,48],[4,34,5,34],[4,35,5,35],[4,36,5,36],[4,37,5,37],[4,26,5,26],[4,27,5,27],[4,28,5,28],[4,29,5,29],[4,30,5,30],[4,31,5,31],[4,25,5,25],[4,14,5,14],[4,15,5,15],[4,16,5,16],[4,17,5,17],[4,18,5,18],[4,19,5,19],[4,20,5,20],[4,21,5,21],[4,22,5,22],[4,23,5,23],[4,24,5,24],[4,13,5,13],[0,2,0,15],[1,4,1,5],[1,6,1,7],[1,12,1,14],[3,1,3,2],[3,4,13,4],[4,1,4,2],[4,5,5,5],[4,6,5,6],[4,7,5,7],[4,8,5,8],[4,9,5,9],[4,10,5,10],[4,11,5,11],[4,12,5,12]]}
[null,null,"キャッシュフロー表作成上の注意！　（非印刷範囲です）\n　①新規作成は常に原本から作成ください。　原本でないと計算式等が消去されている場合があります。\n　　　　作成する際は、表の途中から金額の変更や停止したりする必要がありますが、その場合そのセルの計算式等が消去されます。\n　　　　新規に作成する際、過去に作成したものを流用すると、気付かないまま、途中で計算式等が消去され数値が入っていないことがあります。\n　②作成は、原本を開き、先に「名前をつけて保存」後、入力開始ください。　\n　　　　先に入力すると保存し忘れ、原本自体を上書き保存し、原本が変更されてしまう可能性があります。\n　③表の収入・支出項目の変更や枠の追加・削除等は、勝手にしないこと。計算式が壊れます。また式の変更も不可です。\n　④分からない・困る場合は　深町　までご連絡ください。"]
[null,"５．キャッシュフロー表",null,"相談日：",{"$f":"⑧ライフイベント表!C1","v":{"$error":"#VALUE!"}},null,{"$f":"①相談時家計表!B2 & \" 様\"","v":" 様"},null,"家のキャッシュフロー表",null,null,null,{"$f":"E2","v":{"$error":"#VALUE!"}}]
[]
[null,"西暦",null,{"$f":"E2","v":{"$error":"#VALUE!"}},{"$f":"\"家計\" &CHAR(10) &\"計画表\"&Config!F1&CHAR(10)&\"(転記)\"","v":"家計\n計画表1\n(転記)"},{"$f":"D4","v":{"$error":"#VALUE!"}},{"$f":"EOMONTH(F4,1)","v":{"$error":"#VALUE!"}},{"$f":"EOMONTH(G4,1)","v":{"$error":"#VALUE!"}},{"$error":"#VALUE!"},{"$error":"#VALUE!"},{"$error":"#VALUE!"},{"$error":"#VALUE!"},{"$error":"#VALUE!"},{"$error":"#VALUE!"},{"$error":"#VALUE!"},{"$error":"#VALUE!"},{"$error":"#VALUE!"},{"$error":"#VALUE!"},{"$error":"#VALUE!"},{"$error":"#VALUE!"},{"$error":"#VALUE!"},{"$error":"#VALUE!"},{"$error":"#VALUE!"},{"$error":"#VALUE!"},{"$error":"#VALUE!"},{"$error":"#VALUE!"},{"$error":"#VALUE!"},{"$error":"#VALUE!"},{"$error":"#VALUE!"},{"$error":"#VALUE!"},{"$error":"#VALUE!"},{"$error":"#VALUE!"},{"$error":"#VALUE!"},{"$error":"#VALUE!"},{"$error":"#VALUE!"},{"$error":"#VALUE!"},{"$error":"#VALUE!"},{"$error":"#VALUE!"},{"$error":"#VALUE!"},{"$error":"#VALUE!"},{"$error":"#VALUE!"},{"$error":"#VALUE!"},{"$error":"#VALUE!"},{"$error":"#VALUE!"},{"$error":"#VALUE!"},{"$error":"#VALUE!"},{"$error":"#VALUE!"},{"$error":"#VALUE!"},{"$error":"#VALUE!"},{"$error":"#VALUE!"},{"$error":"#VALUE!"},{"$error":"#VALUE!"},{"$error":"#VALUE!"},{"$error":"#VALUE!"},{"$error":"#VALUE!"},{"$error":"#VALUE!"},{"$error":"#VALUE!"},{"$error":"#VALUE!"},{"$error":"#VALUE!"},{"$error":"#VALUE!"},{"$error":"#VALUE!"},{"$error":"#VALUE!"},{"$error":"#VALUE!"},{"$error":"#VALUE!"},{"$error":"#VALUE!"}]
[null,"和暦",null,{"$f":"E2","v":{"$error":"#VALUE!"}},null,{"$f":"TEXT(F4,\"gggy年\"&CHAR(10)&\"m月\")","v":{"$error":"#VALUE!"}},{"$f":"TEXT(G4,\"gggy年\"&CHAR(10)&\"m月\")","v":{"$error":"#VALUE!"}},{"$error":"#VALUE!"},{"$error":"#VALUE!"},{"$error":"#VALUE!"},{"$error":"#VALUE!"},{"$error":"#VALUE!"},{"$error":"#VALUE!"},{"$error":"#VALUE!"},{"$error":"#VALUE!"},{"$error":"#VALUE!"},{"$error":"#VALUE!"},{"$error":"#VALUE!"},{"$error":"#VALUE!"},{"$error":"#VALUE!"},{"$error":"#VALUE!"},{"$error":"#VALUE!"},{"$error":"#VALUE!"},{"$error":"#VALUE!"},{"$error":"#VALUE!"},{"$error":"#VALUE!"},{"$error":"#VALUE!"},{"$error":"#VALUE!"},{"$error":"#VALUE!"},{"$error":"#VALUE!"},{"$error":"#VALUE!"},{"$error":"#VALUE!"},{"$error":"#VALUE!"},{"$error":"#VALUE!"},{"$error":"#VALUE!"},{"$error":"#VALUE!"},{"$error":"#VALUE!"},{"$error":"#VALUE!"},{"$error":"#VALUE!"},{"$error":"#VALUE!"},{"$error":"#VALUE!"},{"$error":"#VALUE!"},{"$error":"#VALUE!"},{"$error":"#VALUE!"},{"$error":"#VALUE!"},{"$error":"#VALUE!"},{"$error":"#VALUE!"},{"$error":"#VALUE!"},{"$error":"#VALUE!"},{"$error":"#VALUE!"},{"$error":"#VALUE!"},{"$error":"#VALUE!"},{"$error":"#VALUE!"},{"$error":"#VALUE!"},{"$error":"#VALUE!"},{"$error":"#VALUE!"},{"$error":"#VALUE!"},{"$error":"#VALUE!"},{"$error":"#VALUE!"},{"$error":"#VALUE!"},{"$error":"#VALUE!"},{"$error":"#VALUE!"},{"$error":"#VALUE!"},{"$error":"#VALUE!"},{"$error":"#VALUE!"}]
[null,"月",null,{"$f":"E2","v":{"$error":"#VALUE!"}}]
[null,"年 齢",{"$f":"IF(⑧ライフイベント表!F4=\"\",\"\",⑧ライフイベント表!F4)","v":"本人"},{"$f":"IF(⑧ライフイベント表!G5=\"\",\"\",⑧ライフイベント表!G5)","v":""},null,{"$f":"IF(D7=\"\",\"\",D7)","v":""},{"$f":"IF(F7=\"\",\"\",IF(MONTH(G$4)=4,F7+1,F7))","v":""},{"$f":"IF(G7=\"\",\"\",IF(MONTH(H$4)=4,G7+1,G7))","v":""},"","","","","","","","","","","","","","","","","","","","","","","","","","","","","","","","","","","","","","","","","","","","","","","","","","","","","","","","",""]
[null,null,{"$f":"IF(⑧ライフイベント表!H4=\"\",\"\",⑧ライフイベント表!H4)","v":""},{"$f":"IF(⑧ライフイベント表!I5=\"\",\"\",⑧ライフイベント表!I5)","v":""},null,"",{"$f":"IF(F8=\"\",\"\",IF(MONTH(G$4)=4,F8+1,F8))","v":""},"","","","","","","","","","","","","","","","","","","","","","","","","","","","","","","","","","","","","","","","","","","","","","","","","","","","","","","","","",""]
[null,null,{"$f":"IF(⑧ライフイベント表!J4=\"\",\"\",⑧ライフイベント表!J4)","v":""},{"$f":"IF(⑧ライフイベント表!K5=\"\",\"\",⑧ライフイベント表!K5)","v":""},null,"","","","","","","","","","","","","","","","","","","","","","","","","","","","","","","","","","","","","","","","","","","","","","","","","","","","","","","","","","","",""]
[null,null,{"$f":"IF(⑧ライフイベント表!L4=\"\",\"\",⑧ライフイベント表!L4)","v":""},{"$f":"IF(⑧ライフイベント表!M5=\"\",\"\",⑧ライフイベント表!M5)","v":""},null,"","","","","","","","","","","","","","","","","","","","","","","","","","","","","","","","","","","","","","","","","","","","","","","","","","","","","","","","","","","",""]
[null,null,{"$f":"IF(⑧ライフイベント表!N4=\"\",\"\",⑧ライフイベント表!N4)","v":""},{"$f":"IF(⑧ライフイベント表!O5=\"\",\"\",⑧ライフイベント表!O5)","v":""},null,"","","","","","","","","","","","","","","","","","","","","","","","","",{"$f":"IF(AD11=\"\",\"\",IF(MONTH(AE$4)=4,AD11+1,AD11))","v":""},"","","","","","","","","","","","","","","","","","","","","","","","","","","","","","","","","",""]
[null,null,{"$f":"IF(⑧ライフイベント表!P4=\"\",\"\",⑧ライフイベント表!P4)","v":""},{"$f":"IF(⑧ライフイベント表!Q5=\"\",\"\",⑧ライフイベント表!Q5)","v":""},null,"","","","","","","","","","","","","","","","","",{"$f":"IF(V12=\"\",\"\",IF(MONTH(W$4)=4,V12+1,V12))","v":""},"","","","","","","","","","","","","","","","","","","","","","","","","","","","","","","","","","","","","","","","","",""]
[null,"毎月以外の収入の内容",null,{"$f":"F13","v":""},null,{"$f":"IF(⑧ライフイベント表!T6=\"\",\"\",⑧ライフイベント表!T6)","v":""},{"$f":"IF(⑧ライフイベント表!T7=\"\",\"\",⑧ライフイベント表!T7)","v":""},{"$f":"IF(⑧ライフイベント表!T8=\"\",\"\",⑧ライフイベント表!T8)","v":""},{"$f":"IF(⑧ライフイベント表!T9=\"\",\"\",⑧ライフイベント表!T9)","v":""},{"$f":"IF(⑧ライフイベント表!T10=\"\",\"\",⑧ライフイベント表!T10)","v":""},{"$f":"IF(⑧ライフイベント表!T11=\"\",\"\",⑧ライフイベント表!T11)","v":""},{"$f":"IF(⑧ライフイベント表!T12=\"\",\"\",⑧ライフイベント表!T12)","v":""},{"$f":"IF(⑧ライフイベント表!T13=\"\",\"\",⑧ライフイベント表!T13)","v":""},{"$f":"IF(⑧ライフイベント表!T14=\"\",\"\",⑧ライフイベント表!T14)","v":""},{"$f":"IF(⑧ライフイベント表!T15=\"\",\"\",⑧ライフイベント表!T15)","v":""},{"$f":"IF(⑧ライフイベント表!T16=\"\",\"\",⑧ライフイベント表!T16)","v":""},{"$f":"IF(⑧ライフイベント表!T17=\"\",\"\",⑧ライフイベント表!T17)","v":""},{"$f":"IF(⑧ライフイベント表!T18=\"\",\"\",⑧ライフイベント表!T18)","v":""},{"$f":"IF(⑧ライフイベント表!T19=\"\",\"\",⑧ライフイベント表!T19)","v":""},{"$f":"IF(⑧ライフイベント表!T20=\"\",\"\",⑧ライフイベント表!T20)","v":""},{"$f":"IF(⑧ライフイベント表!T21=\"\",\"\",⑧ライフイベント表!T21)","v":""},{"$f":"IF(⑧ライフイベント表!T22=\"\",\"\",⑧ライフイベント表!T22)","v":""},{"$f":"IF(⑧ライフイベント表!T23=\"\",\"\",⑧ライフイベント表!T23)","v":""},{"$f":"IF(⑧ライフイベント表!T24=\"\",\"\",⑧ライフイベント表!T24)","v":""},{"$f":"IF(⑧ライフイベント表!T25=\"\",\"\",⑧ライフイベント表!T25)","v":""},{"$f":"IF(⑧ライフイベント表!T26=\"\",\"\",⑧ライフイベント表!T26)","v":""},{"$f":"IF(⑧ライフイベント表!T27=\"\",\"\",⑧ライフイベント表!T27)","v":""},{"$f":"IF(⑧ライフイベント表!T28=\"\",\"\",⑧ライフイベント表!T28)","v":""},{"$f":"IF(⑧ライフイベント表!T29=\"\",\"\",⑧ライフイベント表!T29)","v":""},{"$f":"IF(⑧ライフイベント表!T30=\"\",\"\",⑧ライフイベント表!T30)","v":""},{"$f":"IF(⑧ライフイベント表!T31=\"\",\"\",⑧ライフイベント表!T31)","v":""},{"$f":"IF(⑧ライフイベント表!T32=\"\",\"\",⑧ライフイベント表!T32)","v":""},{"$f":"IF(⑧ライフイベント表!T33=\"\",\"\",⑧ライフイベント表!T33)","v":""},{"$f":"IF(⑧ライフイベント表!T34=\"\",\"\",⑧ライフイベント表!T34)","v":""},{"$f":"IF(⑧ライフイベント表!T35=\"\",\"\",⑧ライフイベント表!T35)","v":""},{"$f":"IF(⑧ライフイベント表!T36=\"\",\"\",⑧ライフイベント表!T36)","v":""},{"$f":"IF(⑧ライフイベント表!T37=\"\",\"\",⑧ライフイベント表!T37)","v":""},{"$f":"IF(⑧ライフイベント表!T38=\"\",\"\",⑧ライフイベント表!T38)","v":""},{"$f":"IF(⑧ライフイベント表!T39=\"\",\"\",⑧ライフイベント表!T39)","v":""},{"$f":"IF(⑧ライフイベント表!T40=\"\",\"\",⑧ライフイベント表!T40)","v":""},{"$f":"IF(⑧ライフイベント表!T41=\"\",\"\",⑧ライフイベント表!T41)","v":""},{"$f":"IF(⑧ライフイベント表!T42=\"\",\"\",⑧ライフイベント表!T42)","v":""},{"$f":"IF(⑧ライフイベント表!T43=\"\",\"\",⑧ライフイベント表!T43)","v":""},{"$f":"IF(⑧ライフイベント表!T44=\"\",\"\",⑧ライフイベント表!T44)","v":""},{"$f":"IF(⑧ライフイベント表!T45=\"\",\"\",⑧ライフイベント表!T45)","v":""},{"$f":"IF(⑧ライフイベント表!T46=\"\",\"\",⑧ライフイベント表!T46)","v":""},{"$f":"IF(⑧ライフイベント表!T47=\"\",\"\",⑧ライフイベント表!T47)","v":""},{"$f":"IF(⑧ライフイベント表!T48=\"\",\"\",⑧ライフイベント表!T48)","v":""},{"$f":"IF(⑧ライフイベント表!T49=\"\",\"\",⑧ライフイベント表!T49)","v":""},{"$f":"IF(⑧ライフイベント表!T50=\"\",\"\",⑧ライフイベント表!T50)","v":""},{"$f":"IF(⑧ライフイベント表!T51=\"\",\"\",⑧ライフイベント表!T51)","v":""},{"$f":"IF(⑧ライフイベント表!T52=\"\",\"\",⑧ライフイベント表!T52)","v":""},{"$f":"IF(⑧ライフイベント表!T53=\"\",\"\",⑧ライフイベント表!T53)","v":""},{"$f":"IF(⑧ライフイベント表!T54=\"\",\"\",⑧ライフイベント表!T54)","v":""},{"$f":"IF(⑧ライフイベント表!T55=\"\",\"\",⑧ライフイベント表!T55)","v":""},{"$f":"IF(⑧ライフイベント表!T56=\"\",\"\",⑧ライフイベント表!T56)","v":""},{"$f":"IF(⑧ライフイベント表!T57=\"\",\"\",⑧ライフイベント表!T57)","v":""},{"$f":"IF(⑧ライフイベント表!T58=\"\",\"\",⑧ライフイベント表!T58)","v":""},{"$f":"IF(⑧ライフイベント表!T59=\"\",\"\",⑧ライフイベント表!T59)","v":""},{"$f":"IF(⑧ライフイベント表!T60=\"\",\"\",⑧ライフイベント表!T60)","v":""},{"$f":"IF(⑧ライフイベント表!T61=\"\",\"\",⑧ライフイベント表!T61)","v":""},{"$f":"IF(⑧ライフイベント表!T62=\"\",\"\",⑧ライフイベント表!T62)","v":""},{"$f":"IF(⑧ライフイベント表!T63=\"\",\"\",⑧ライフイベント表!T63)","v":""},{"$f":"IF(⑧ライフイベント表!T64=\"\",\"\",⑧ライフイベント表!T64)","v":""},{"$f":"IF(⑧ライフイベント表!T65=\"\",\"\",⑧ライフイベント表!T65)","v":""}]
[null,"家族のイベント",null,{"$f":"F14","v":""},null,{"$f":"IF(⑧ライフイベント表!U6=\"\",\"\",⑧ライフイベント表!U6)","v":""},{"$f":"IF(⑧ライフイベント表!U7=\"\",\"\",⑧ライフイベント表!U7)","v":""},{"$f":"IF(⑧ライフイベント表!U8=\"\",\"\",⑧ライフイベント表!U8)","v":""},{"$f":"IF(⑧ライフイベント表!U9=\"\",\"\",⑧ライフイベント表!U9)","v":""},{"$f":"IF(⑧ライフイベント表!U10=\"\",\"\",⑧ライフイベント表!U10)","v":""},{"$f":"IF(⑧ライフイベント表!U11=\"\",\"\",⑧ライフイベント表!U11)","v":""},{"$f":"IF(⑧ライフイベント表!U12=\"\",\"\",⑧ライフイベント表!U12)","v":""},{"$f":"IF(⑧ライフイベント表!U13=\"\",\"\",⑧ライフイベント表!U13)","v":""},{"$f":"IF(⑧ライフイベント表!U14=\"\",\"\",⑧ライフイベント表!U14)","v":""},{"$f":"IF(⑧ライフイベント表!U15=\"\",\"\",⑧ライフイベント表!U15)","v":""},{"$f":"IF(⑧ライフイベント表!U16=\"\",\"\",⑧ライフイベント表!U16)","v":""},{"$f":"IF(⑧ライフイベント表!U17=\"\",\"\",⑧ライフイベント表!U17)","v":""},{"$f":"IF(⑧ライフイベント表!U18=\"\",\"\",⑧ライフイベント表!U18)","v":""},{"$f":"IF(⑧ライフイベント表!U19=\"\",\"\",⑧ライフイベント表!U19)","v":""},{"$f":"IF(⑧ライフイベント表!U20=\"\",\"\",⑧ライフイベント表!U20)","v":""},{"$f":"IF(⑧ライフイベント表!U21=\"\",\"\",⑧ライフイベント表!U21)","v":""},{"$f":"IF(⑧ライフイベント表!U22=\"\",\"\",⑧ライフイベント表!U22)","v":""},{"$f":"IF(⑧ライフイベント表!U23=\"\",\"\",⑧ライフイベント表!U23)","v":""},{"$f":"IF(⑧ライフイベント表!U24=\"\",\"\",⑧ライフイベント表!U24)","v":""},{"$f":"IF(⑧ライフイベント表!U25=\"\",\"\",⑧ライフイベント表!U25)","v":""},{"$f":"IF(⑧ライフイベント表!U26=\"\",\"\",⑧ライフイベント表!U26)","v":""},{"$f":"IF(⑧ライフイベント表!U27=\"\",\"\",⑧ライフイベント表!U27)","v":""},{"$f":"IF(⑧ライフイベント表!U28=\"\",\"\",⑧ライフイベント表!U28)","v":""},{"$f":"IF(⑧ライフイベント表!U29=\"\",\"\",⑧ライフイベント表!U29)","v":""},{"$f":"IF(⑧ライフイベント表!U30=\"\",\"\",⑧ライフイベント表!U30)","v":""},{"$f":"IF(⑧ライフイベント表!U31=\"\",\"\",⑧ライフイベント表!U31)","v":""},{"$f":"IF(⑧ライフイベント表!U32=\"\",\"\",⑧ライフイベント表!U32)","v":""},{"$f":"IF(⑧ライフイベント表!U33=\"\",\"\",⑧ライフイベント表!U33)","v":""},{"$f":"IF(⑧ライフイベント表!U34=\"\",\"\",⑧ライフイベント表!U34)","v":""},{"$f":"IF(⑧ライフイベント表!U35=\"\",\"\",⑧ライフイベント表!U35)","v":""},{"$f":"IF(⑧ライフイベント表!U36=\"\",\"\",⑧ライフイベント表!U36)","v":""},{"$f":"IF(⑧ライフイベント表!U37=\"\",\"\",⑧ライフイベント表!U37)","v":""},{"$f":"IF(⑧ライフイベント表!U38=\"\",\"\",⑧ライフイベント表!U38)","v":""},{"$f":"IF(⑧ライフイベント表!U39=\"\",\"\",⑧ライフイベント表!U39)","v":""},{"$f":"IF(⑧ライフイベント表!U40=\"\",\"\",⑧ライフイベント表!U40)","v":""},{"$f":"IF(⑧ライフイベント表!U41=\"\",\"\",⑧ライフイベント表!U41)","v":""},{"$f":"IF(⑧ライフイベント表!U42=\"\",\"\",⑧ライフイベント表!U42)","v":""},{"$f":"IF(⑧ライフイベント表!U43=\"\",\"\",⑧ライフイベント表!U43)","v":""},{"$f":"IF(⑧ライフイベント表!U44=\"\",\"\",⑧ライフイベント表!U44)","v":""},{"$f":"IF(⑧ライフイベント表!U45=\"\",\"\",⑧ライフイベント表!U45)","v":""},{"$f":"IF(⑧ライフイベント表!U46=\"\",\"\",⑧ライフイベント表!U46)","v":""},{"$f":"IF(⑧ライフイベント表!U47=\"\",\"\",⑧ライフイベント表!U47)","v":""},{"$f":"IF(⑧ライフイベント表!U48=\"\",\"\",⑧ライフイベント表!U48)","v":""},{"$f":"IF(⑧ライフイベント表!U49=\"\",\"\",⑧ライフイベント表!U49)","v":""},{"$f":"IF(⑧ライフイベント表!U50=\"\",\"\",⑧ライフイベント表!U50)","v":""},{"$f":"IF(⑧ライフイベント表!U51=\"\",\"\",⑧ライフイベント表!U51)","v":""},{"$f":"IF(⑧ライフイベント表!U52=\"\",\"\",⑧ライフイベント表!U52)","v":""},{"$f":"IF(⑧ライフイベント表!U53=\"\",\"\",⑧ライフイベント表!U53)","v":""},{"$f":"IF(⑧ライフイベント表!U54=\"\",\"\",⑧ライフイベント表!U54)","v":""},{"$f":"IF(⑧ライフイベント表!U55=\"\",\"\",⑧ライフイベント表!U55)","v":""},{"$f":"IF(⑧ライフイベント表!U56=\"\",\"\",⑧ライフイベント表!U56)","v":""},{"$f":"IF(⑧ライフイベント表!U57=\"\",\"\",⑧ライフイベント表!U57)","v":""},{"$f":"IF(⑧ライフイベント表!U58=\"\",\"\",⑧ライフイベント表!U58)","v":""},{"$f":"IF(⑧ライフイベント表!U59=\"\",\"\",⑧ライフイベント表!U59)","v":""},{"$f":"IF(⑧ライフイベント表!U60=\"\",\"\",⑧ライフイベント表!U60)","v":""},{"$f":"IF(⑧ライフイベント表!U61=\"\",\"\",⑧ライフイベント表!U61)","v":""},{"$f":"IF(⑧ライフイベント表!U62=\"\",\"\",⑧ライフイベント表!U62)","v":""},{"$f":"IF(⑧ライフイベント表!U63=\"\",\"\",⑧ライフイベント表!U63)","v":""},{"$f":"IF(⑧ライフイベント表!U64=\"\",\"\",⑧ライフイベント表!U64)","v":""},"z"]
[null,null,"収入合計",null,{"$f":"'⑪キャッシュフロー表 (5年分)'!E25","v":0},{"$f":"'⑪キャッシュフロー表 (5年分)'!F25","v":0},{"$f":"'⑪キャッシュフロー表 (5年分)'!G25","v":0},{"$f":"'⑪キャッシュフロー表 (5年分)'!H25","v":0},{"$f":"'⑪キャッシュフロー表 (5年分)'!I25","v":0},{"$f":"'⑪キャッシュフロー表 (5年分)'!J25","v":0},{"$f":"'⑪キャッシュフロー表 (5年分)'!K25","v":0},{"$f":"'⑪キャッシュフロー表 (5年分)'!L25","v":0},{"$f":"'⑪キャッシュフロー表 (5年分)'!M25","v":0},{"$f":"'⑪キャッシュフロー表 (5年分)'!N25","v":0},{"$f":"'⑪キャッシュフロー表 (5年分)'!O25","v":0},{"$f":"'⑪キャッシュフロー表 (5年分)'!P25","v":0},{"$f":"'⑪キャッシュフロー表 (5年分)'!Q25","v":0},{"$f":"'⑪キャッシュフロー表 (5年分)'!R25","v":0},{"$f":"'⑪キャッシュフロー表 (5年分)'!S25","v":0},{"$f":"'⑪キャッシュフロー表 (5年分)'!T25","v":0},{"$f":"'⑪キャッシュフロー表 (5年分)'!U25","v":0},{"$f":"'⑪キャッシュフロー表 (5年分)'!V25","v":0},{"$f":"'⑪キャッシュフロー表 (5年分)'!W25","v":0},{"$f":"'⑪キャッシュフロー表 (5年分)'!X25","v":0},{"$f":"'⑪キャッシュフロー表 (5年分)'!Y25","v":0},{"$f":"'⑪キャッシュフロー表 (5年分)'!Z25","v":0},{"$f":"'⑪キャッシュフロー表 (5年分)'!AA25","v":0},{"$f":"'⑪キャッシュフロー表 (5年分)'!AB25","v":0},{"$f":"'⑪キャッシュフロー表 (5年分)'!AC25","v":0},{"$f":"'⑪キャッシュフロー表 (5年分)'!AD25","v":0},{"$f":"'⑪キャッシュフロー表 (5年分)'!AE25","v":0},{"$f":"'⑪キャッシュフロー表 (5年分)'!AF25","v":0},{"$f":"'⑪キャッシュフロー表 (5年分)'!AG25","v":0},{"$f":"'⑪キャッシュフロー表 (5年分)'!AH25","v":0},{"$f":"'⑪キャッシュフロー表 (5年分)'!AI25","v":0},{"$f":"'⑪キャッシュフロー表 (5年分)'!AJ25","v":0},{"$f":"'⑪キャッシュフロー表 (5年分)'!AK25","v":0},{"$f":"'⑪キャッシュフロー表 (5年分)'!AL25","v":0},{"$f":"'⑪キャッシュフロー表 (5年分)'!AM25","v":0},{"$f":"'⑪キャッシュフロー表 (5年分)'!AN25","v":0},{"$f":"'⑪キャッシュフロー表 (5年分)'!AO25","v":0},{"$f":"'⑪キャッシュフロー表 (5年分)'!AP25","v":0},{"$f":"'⑪キャッシュフロー表 (5年分)'!AQ25","v":0},{"$f":"'⑪キャッシュフロー表 (5年分)'!AR25","v":0},{"$f":"'⑪キャッシュフロー表 (5年分)'!AS25","v":0},{"$f":"'⑪キャッシュフロー表 (5年分)'!AT25","v":0},{"$f":"'⑪キャッシュフロー表 (5年分)'!AU25","v":0},{"$f":"'⑪キャッシュフロー表 (5年分)'!AV25","v":0},{"$f":"'⑪キャッシュフロー表 (5年分)'!AW25","v":0},{"$f":"'⑪キャッシュフロー表 (5年分)'!AX25","v":0},{"$f":"'⑪キャッシュフロー表 (5年分)'!AY25","v":0},{"$f":"'⑪キャッシュフロー表 (5年分)'!AZ25","v":0},{"$f":"'⑪キャッシュフロー表 (5年分)'!BA25","v":0},{"$f":"'⑪キャッシュフロー表 (5年分)'!BB25","v":0},{"$f":"'⑪キャッシュフロー表 (5年分)'!BC25","v":0},{"$f":"'⑪キャッシュフロー表 (5年分)'!BD25","v":0},{"$f":"'⑪キャッシュフロー表 (5年分)'!BE25","v":0},{"$f":"'⑪キャッシュフロー表 (5年分)'!BF25","v":0},{"$f":"'⑪キャッシュフロー表 (5年分)'!BG25","v":0},{"$f":"'⑪キャッシュフロー表 (5年分)'!BH25","v":0},{"$f":"'⑪キャッシュフロー表 (5年分)'!BI25","v":0},{"$f":"'⑪キャッシュフロー表 (5年分)'!BJ25","v":0},{"$f":"'⑪キャッシュフロー表 (5年分)'!BK25","v":0},{"$f":"'⑪キャッシュフロー表 (5年分)'!BL25","v":0},{"$f":"'⑪キャッシュフロー表 (5年分)'!BM25","v":0}]
[null,null,"支出合計",null,{"$f":"'⑪キャッシュフロー表 (5年分)'!E48","v":0},{"$f":"'⑪キャッシュフロー表 (5年分)'!F48","v":0},{"$f":"'⑪キャッシュフロー表 (5年分)'!G48","v":0},{"$f":"'⑪キャッシュフロー表 (5年分)'!H48","v":0},{"$f":"'⑪キャッシュフロー表 (5年分)'!I48","v":0},{"$f":"'⑪キャッシュフロー表 (5年分)'!J48","v":0},{"$f":"'⑪キャッシュフロー表 (5年分)'!K48","v":0},{"$f":"'⑪キャッシュフロー表 (5年分)'!L48","v":0},{"$f":"'⑪キャッシュフロー表 (5年分)'!M48","v":0},{"$f":"'⑪キャッシュフロー表 (5年分)'!N48","v":0},{"$f":"'⑪キャッシュフロー表 (5年分)'!O48","v":0},{"$f":"'⑪キャッシュフロー表 (5年分)'!P48","v":0},{"$f":"'⑪キャッシュフロー表 (5年分)'!Q48","v":0},{"$f":"'⑪キャッシュフロー表 (5年分)'!R48","v":0},{"$f":"'⑪キャッシュフロー表 (5年分)'!S48","v":0},{"$f":"'⑪キャッシュフロー表 (5年分)'!T48","v":0},{"$f":"'⑪キャッシュフロー表 (5年分)'!U48","v":0},{"$f":"'⑪キャッシュフロー表 (5年分)'!V48","v":0},{"$f":"'⑪キャッシュフロー表 (5年分)'!W48","v":0},{"$f":"'⑪キャッシュフロー表 (5年分)'!X48","v":0},{"$f":"'⑪キャッシュフロー表 (5年分)'!Y48","v":0},{"$f":"'⑪キャッシュフロー表 (5年分)'!Z48","v":0},{"$f":"'⑪キャッシュフロー表 (5年分)'!AA48","v":0},{"$f":"'⑪キャッシュフロー表 (5年分)'!AB48","v":0},{"$f":"'⑪キャッシュフロー表 (5年分)'!AC48","v":0},{"$f":"'⑪キャッシュフロー表 (5年分)'!AD48","v":0},{"$f":"'⑪キャッシュフロー表 (5年分)'!AE48","v":0},{"$f":"'⑪キャッシュフロー表 (5年分)'!AF48","v":0},{"$f":"'⑪キャッシュフロー表 (5年分)'!AG48","v":0},{"$f":"'⑪キャッシュフロー表 (5年分)'!AH48","v":0},{"$f":"'⑪キャッシュフロー表 (5年分)'!AI48","v":0},{"$f":"'⑪キャッシュフロー表 (5年分)'!AJ48","v":0},{"$f":"'⑪キャッシュフロー表 (5年分)'!AK48","v":0},{"$f":"'⑪キャッシュフロー表 (5年分)'!AL48","v":0},{"$f":"'⑪キャッシュフロー表 (5年分)'!AM48","v":0},{"$f":"'⑪キャッシュフロー表 (5年分)'!AN48","v":0},{"$f":"'⑪キャッシュフロー表 (5年分)'!AO48","v":0},{"$f":"'⑪キャッシュフロー表 (5年分)'!AP48","v":0},{"$f":"'⑪キャッシュフロー表 (5年分)'!AQ48","v":0},{"$f":"'⑪キャッシュフロー表 (5年分)'!AR48","v":0},{"$f":"'⑪キャッシュフロー表 (5年分)'!AS48","v":0},{"$f":"'⑪キャッシュフロー表 (5年分)'!AT48","v":0},{"$f":"'⑪キャッシュフロー表 (5年分)'!AU48","v":0},{"$f":"'⑪キャッシュフロー表 (5年分)'!AV48","v":0},{"$f":"'⑪キャッシュフロー表 (5年分)'!AW48","v":0},{"$f":"'⑪キャッシュフロー表 (5年分)'!AX48","v":0},{"$f":"'⑪キャッシュフロー表 (5年分)'!AY48","v":0},{"$f":"'⑪キャッシュフロー表 (5年分)'!AZ48","v":0},{"$f":"'⑪キャッシュフロー表 (5年分)'!BA48","v":0},{"$f":"'⑪キャッシュフロー表 (5年分)'!BB48","v":0},{"$f":"'⑪キャッシュフロー表 (5年分)'!BC48","v":0},{"$f":"'⑪キャッシュフロー表 (5年分)'!BD48","v":0},{"$f":"'⑪キャッシュフロー表 (5年分)'!BE48","v":0},{"$f":"'⑪キャッシュフロー表 (5年分)'!BF48","v":0},{"$f":"'⑪キャッシュフロー表 (5年分)'!BG48","v":0},{"$f":"'⑪キャッシュフロー表 (5年分)'!BH48","v":0},{"$f":"'⑪キャッシュフロー表 (5年分)'!BI48","v":0},{"$f":"'⑪キャッシュフロー表 (5年分)'!BJ48","v":0},{"$f":"'⑪キャッシュフロー表 (5年分)'!BK48","v":0},{"$f":"'⑪キャッシュフロー表 (5年分)'!BL48","v":0},{"$f":"'⑪キャッシュフロー表 (5年分)'!BM48","v":0}]
[null,"毎月の収支",null,null,{"$f":"'⑪キャッシュフロー表 (5年分)'!E49","v":0},{"$f":"'⑪キャッシュフロー表 (5年分)'!F49","v":0},{"$f":"'⑪キャッシュフロー表 (5年分)'!G49","v":0},{"$f":"'⑪キャッシュフロー表 (5年分)'!H49","v":0},{"$f":"'⑪キャッシュフロー表 (5年分)'!I49","v":0},{"$f":"'⑪キャッシュフロー表 (5年分)'!J49","v":0},{"$f":"'⑪キャッシュフロー表 (5年分)'!K49","v":0},{"$f":"'⑪キャッシュフロー表 (5年分)'!L49","v":0},{"$f":"'⑪キャッシュフロー表 (5年分)'!M49","v":0},{"$f":"'⑪キャッシュフロー表 (5年分)'!N49","v":0},{"$f":"'⑪キャッシュフロー表 (5年分)'!O49","v":0},{"$f":"'⑪キャッシュフロー表 (5年分)'!P49","v":0},{"$f":"'⑪キャッシュフロー表 (5年分)'!Q49","v":0},{"$f":"'⑪キャッシュフロー表 (5年分)'!R49","v":0},{"$f":"'⑪キャッシュフロー表 (5年分)'!S49","v":0},{"$f":"'⑪キャッシュフロー表 (5年分)'!T49","v":0},{"$f":"'⑪キャッシュフロー表 (5年分)'!U49","v":0},{"$f":"'⑪キャッシュフロー表 (5年分)'!V49","v":0},{"$f":"'⑪キャッシュフロー表 (5年分)'!W49","v":0},{"$f":"'⑪キャッシュフロー表 (5年分)'!X49","v":0},{"$f":"'⑪キャッシュフロー表 (5年分)'!Y49","v":0},{"$f":"'⑪キャッシュフロー表 (5年分)'!Z49","v":0},{"$f":"'⑪キャッシュフロー表 (5年分)'!AA49","v":0},{"$f":"'⑪キャッシュフロー表 (5年分)'!AB49","v":0},{"$f":"'⑪キャッシュフロー表 (5年分)'!AC49","v":0},{"$f":"'⑪キャッシュフロー表 (5年分)'!AD49","v":0},{"$f":"'⑪キャッシュフロー表 (5年分)'!AE49","v":0},{"$f":"'⑪キャッシュフロー表 (5年分)'!AF49","v":0},{"$f":"'⑪キャッシュフロー表 (5年分)'!AG49","v":0},{"$f":"'⑪キャッシュフロー表 (5年分)'!AH49","v":0},{"$f":"'⑪キャッシュフロー表 (5年分)'!AI49","v":0},{"$f":"'⑪キャッシュフロー表 (5年分)'!AJ49","v":0},{"$f":"'⑪キャッシュフロー表 (5年分)'!AK49","v":0},{"$f":"'⑪キャッシュフロー表 (5年分)'!AL49","v":0},{"$f":"'⑪キャッシュフロー表 (5年分)'!AM49","v":0},{"$f":"'⑪キャッシュフロー表 (5年分)'!AN49","v":0},{"$f":"'⑪キャッシュフロー表 (5年分)'!AO49","v":0},{"$f":"'⑪キャッシュフロー表 (5年分)'!AP49","v":0},{"$f":"'⑪キャッシュフロー表 (5年分)'!AQ49","v":0},{"$f":"'⑪キャッシュフロー表 (5年分)'!AR49","v":0},{"$f":"'⑪キャッシュフロー表 (5年分)'!AS49","v":0},{"$f":"'⑪キャッシュフロー表 (5年分)'!AT49","v":0},{"$f":"'⑪キャッシュフロー表 (5年分)'!AU49","v":0},{"$f":"'⑪キャッシュフロー表 (5年分)'!AV49","v":0},{"$f":"'⑪キャッシュフロー表 (5年分)'!AW49","v":0},{"$f":"'⑪キャッシュフロー表 (5年分)'!AX49","v":0},{"$f":"'⑪キャッシュフロー表 (5年分)'!AY49","v":0},{"$f":"'⑪キャッシュフロー表 (5年分)'!AZ49","v":0},{"$f":"'⑪キャッシュフロー表 (5年分)'!BA49","v":0},{"$f":"'⑪キャッシュフロー表 (5年分)'!BB49","v":0},{"$f":"'⑪キャッシュフロー表 (5年分)'!BC49","v":0},{"$f":"'⑪キャッシュフロー表 (5年分)'!BD49","v":0},{"$f":"'⑪キャッシュフロー表 (5年分)'!BE49","v":0},{"$f":"'⑪キャッシュフロー表 (5年分)'!BF49","v":0},{"$f":"'⑪キャッシュフロー表 (5年分)'!BG49","v":0},{"$f":"'⑪キャッシュフロー表 (5年分)'!BH49","v":0},{"$f":"'⑪キャッシュフロー表 (5年分)'!BI49","v":0},{"$f":"'⑪キャッシュフロー表 (5年分)'!BJ49","v":0},{"$f":"'⑪キャッシュフロー表 (5年分)'!BK49","v":0},{"$f":"'⑪キャッシュフロー表 (5年分)'!BL49","v":0},{"$f":"'⑪キャッシュフロー表 (5年分)'!BM49","v":0}]
[null,"収支累計",null,null,null,{"$f":"'⑪キャッシュフロー表 (5年分)'!F50","v":0},{"$f":"'⑪キャッシュフロー表 (5年分)'!G50","v":0},{"$f":"'⑪キャッシュフロー表 (5年分)'!H50","v":0},{"$f":"'⑪キャッシュフロー表 (5年分)'!I50","v":0},{"$f":"'⑪キャッシュフロー表 (5年分)'!J50","v":0},{"$f":"'⑪キャッシュフロー表 (5年分)'!K50","v":0},{"$f":"'⑪キャッシュフロー表 (5年分)'!L50","v":0},{"$f":"'⑪キャッシュフロー表 (5年分)'!M50","v":0},{"$f":"'⑪キャッシュフロー表 (5年分)'!N50","v":0},{"$f":"'⑪キャッシュフロー表 (5年分)'!O50","v":0},{"$f":"'⑪キャッシュフロー表 (5年分)'!P50","v":0},{"$f":"'⑪キャッシュフロー表 (5年分)'!Q50","v":0},{"$f":"'⑪キャッシュフロー表 (5年分)'!R50","v":0},{"$f":"'⑪キャッシュフロー表 (5年分)'!S50","v":0},{"$f":"'⑪キャッシュフロー表 (5年分)'!T50","v":0},{"$f":"'⑪キャッシュフロー表 (5年分)'!U50","v":0},{"$f":"'⑪キャッシュフロー表 (5年分)'!V50","v":0},{"$f":"'⑪キャッシュフロー表 (5年分)'!W50","v":0},{"$f":"'⑪キャッシュフロー表 (5年分)'!X50","v":0},{"$f":"'⑪キャッシュフロー表 (5年分)'!Y50","v":0},{"$f":"'⑪キャッシュフロー表 (5年分)'!Z50","v":0},{"$f":"'⑪キャッシュフロー表 (5年分)'!AA50","v":0},{"$f":"'⑪キャッシュフロー表 (5年分)'!AB50","v":0},{"$f":"'⑪キャッシュフロー表 (5年分)'!AC50","v":0},{"$f":"'⑪キャッシュフロー表 (5年分)'!AD50","v":0},{"$f":"'⑪キャッシュフロー表 (5年分)'!AE50","v":0},{"$f":"'⑪キャッシュフロー表 (5年分)'!AF50","v":0},{"$f":"'⑪キャッシュフロー表 (5年分)'!AG50","v":0},{"$f":"'⑪キャッシュフロー表 (5年分)'!AH50","v":0},{"$f":"'⑪キャッシュフロー表 (5年分)'!AI50","v":0},{"$f":"'⑪キャッシュフロー表 (5年分)'!AJ50","v":0},{"$f":"'⑪キャッシュフロー表 (5年分)'!AK50","v":0},{"$f":"'⑪キャッシュフロー表 (5年分)'!AL50","v":0},{"$f":"'⑪キャッシュフロー表 (5年分)'!AM50","v":0},{"$f":"'⑪キャッシュフロー表 (5年分)'!AN50","v":0},{"$f":"'⑪キャッシュフロー表 (5年分)'!AO50","v":0},{"$f":"'⑪キャッシュフロー表 (5年分)'!AP50","v":0},{"$f":"'⑪キャッシュフロー表 (5年分)'!AQ50","v":0},{"$f":"'⑪キャッシュフロー表 (5年分)'!AR50","v":0},{"$f":"'⑪キャッシュフロー表 (5年分)'!AS50","v":0},{"$f":"'⑪キャッシュフロー表 (5年分)'!AT50","v":0},{"$f":"'⑪キャッシュフロー表 (5年分)'!AU50","v":0},{"$f":"'⑪キャッシュフロー表 (5年分)'!AV50","v":0},{"$f":"'⑪キャッシュフロー表 (5年分)'!AW50","v":0},{"$f":"'⑪キャッシュフロー表 (5年分)'!AX50","v":0},{"$f":"'⑪キャッシュフロー表 (5年分)'!AY50","v":0},{"$f":"'⑪キャッシュフロー表 (5年分)'!AZ50","v":0},{"$f":"'⑪キャッシュフロー表 (5年分)'!BA50","v":0},{"$f":"'⑪キャッシュフロー表 (5年分)'!BB50","v":0},{"$f":"'⑪キャッシュフロー表 (5年分)'!BC50","v":0},{"$f":"'⑪キャッシュフロー表 (5年分)'!BD50","v":0},{"$f":"'⑪キャッシュフロー表 (5年分)'!BE50","v":0},{"$f":"'⑪キャッシュフロー表 (5年分)'!BF50","v":0},{"$f":"'⑪キャッシュフロー表 (5年分)'!BG50","v":0},{"$f":"'⑪キャッシュフロー表 (5年分)'!BH50","v":0},{"$f":"'⑪キャッシュフロー表 (5年分)'!BI50","v":0},{"$f":"'⑪キャッシュフロー表 (5年分)'!BJ50","v":0},{"$f":"'⑪キャッシュフロー表 (5年分)'!BK50","v":0},{"$f":"'⑪キャッシュフロー表 (5年分)'!BL50","v":0},{"$f":"'⑪キャッシュフロー表 (5年分)'!BM50","v":0}]
[null,"預貯金累計",null,null,null,{"$f":"'⑪キャッシュフロー表 (5年分)'!F51","v":0},{"$f":"'⑪キャッシュフロー表 (5年分)'!G51","v":0},{"$f":"'⑪キャッシュフロー表 (5年分)'!H51","v":0},{"$f":"'⑪キャッシュフロー表 (5年分)'!I51","v":0},{"$f":"'⑪キャッシュフロー表 (5年分)'!J51","v":0},{"$f":"'⑪キャッシュフロー表 (5年分)'!K51","v":0},{"$f":"'⑪キャッシュフロー表 (5年分)'!L51","v":0},{"$f":"'⑪キャッシュフロー表 (5年分)'!M51","v":0},{"$f":"'⑪キャッシュフロー表 (5年分)'!N51","v":0},{"$f":"'⑪キャッシュフロー表 (5年分)'!O51","v":0},{"$f":"'⑪キャッシュフロー表 (5年分)'!P51","v":0},{"$f":"'⑪キャッシュフロー表 (5年分)'!Q51","v":0},{"$f":"'⑪キャッシュフロー表 (5年分)'!R51","v":0},{"$f":"'⑪キャッシュフロー表 (5年分)'!S51","v":0},{"$f":"'⑪キャッシュフロー表 (5年分)'!T51","v":0},{"$f":"'⑪キャッシュフロー表 (5年分)'!U51","v":0},{"$f":"'⑪キャッシュフロー表 (5年分)'!V51","v":0},{"$f":"'⑪キャッシュフロー表 (5年分)'!W51","v":0},{"$f":"'⑪キャッシュフロー表 (5年分)'!X51","v":0},{"$f":"'⑪キャッシュフロー表 (5年分)'!Y51","v":0},{"$f":"'⑪キャッシュフロー表 (5年分)'!Z51","v":0},{"$f":"'⑪キャッシュフロー表 (5年分)'!AA51","v":0},{"$f":"'⑪キャッシュフロー表 (5年分)'!AB51","v":0},{"$f":"'⑪キャッシュフロー表 (5年分)'!AC51","v":0},{"$f":"'⑪キャッシュフロー表 (5年分)'!AD51","v":0},{"$f":"'⑪キャッシュフロー表 (5年分)'!AE51","v":0},{"$f":"'⑪キャッシュフロー表 (5年分)'!AF51","v":0},{"$f":"'⑪キャッシュフロー表 (5年分)'!AG51","v":0},{"$f":"'⑪キャッシュフロー表 (5年分)'!AH51","v":0},{"$f":"'⑪キャッシュフロー表 (5年分)'!AI51","v":0},{"$f":"'⑪キャッシュフロー表 (5年分)'!AJ51","v":0},{"$f":"'⑪キャッシュフロー表 (5年分)'!AK51","v":0},{"$f":"'⑪キャッシュフロー表 (5年分)'!AL51","v":0},{"$f":"'⑪キャッシュフロー表 (5年分)'!AM51","v":0},{"$f":"'⑪キャッシュフロー表 (5年分)'!AN51","v":0},{"$f":"'⑪キャッシュフロー表 (5年分)'!AO51","v":0},{"$f":"'⑪キャッシュフロー表 (5年分)'!AP51","v":0},{"$f":"'⑪キャッシュフロー表 (5年分)'!AQ51","v":0},{"$f":"'⑪キャッシュフロー表 (5年分)'!AR51","v":0},{"$f":"'⑪キャッシュフロー表 (5年分)'!AS51","v":0},{"$f":"'⑪キャッシュフロー表 (5年分)'!AT51","v":0},{"$f":"'⑪キャッシュフロー表 (5年分)'!AU51","v":0},{"$f":"'⑪キャッシュフロー表 (5年分)'!AV51","v":0},{"$f":"'⑪キャッシュフロー表 (5年分)'!AW51","v":0},{"$f":"'⑪キャッシュフロー表 (5年分)'!AX51","v":0},{"$f":"'⑪キャッシュフロー表 (5年分)'!AY51","v":0},{"$f":"'⑪キャッシュフロー表 (5年分)'!AZ51","v":0},{"$f":"'⑪キャッシュフロー表 (5年分)'!BA51","v":0},{"$f":"'⑪キャッシュフロー表 (5年分)'!BB51","v":0},{"$f":"'⑪キャッシュフロー表 (5年分)'!BC51","v":0},{"$f":"'⑪キャッシュフロー表 (5年分)'!BD51","v":0},{"$f":"'⑪キャッシュフロー表 (5年分)'!BE51","v":0},{"$f":"'⑪キャッシュフロー表 (5年分)'!BF51","v":0},{"$f":"'⑪キャッシュフロー表 (5年分)'!BG51","v":0},{"$f":"'⑪キャッシュフロー表 (5年分)'!BH51","v":0},{"$f":"'⑪キャッシュフロー表 (5年分)'!BI51","v":0},{"$f":"'⑪キャッシュフロー表 (5年分)'!BJ51","v":0},{"$f":"'⑪キャッシュフロー表 (5年分)'!BK51","v":0},{"$f":"'⑪キャッシュフロー表 (5年分)'!BL51","v":0},{"$f":"'⑪キャッシュフロー表 (5年分)'!BM51","v":0}]
[null,"収支・預貯金累計の総計",null,null,null,{"$f":"'⑪キャッシュフロー表 (5年分)'!F52","v":0},{"$f":"'⑪キャッシュフロー表 (5年分)'!G52","v":0},{"$f":"'⑪キャッシュフロー表 (5年分)'!H52","v":0},{"$f":"'⑪キャッシュフロー表 (5年分)'!I52","v":0},{"$f":"'⑪キャッシュフロー表 (5年分)'!J52","v":0},{"$f":"'⑪キャッシュフロー表 (5年分)'!K52","v":0},{"$f":"'⑪キャッシュフロー表 (5年分)'!L52","v":0},{"$f":"'⑪キャッシュフロー表 (5年分)'!M52","v":0},{"$f":"'⑪キャッシュフロー表 (5年分)'!N52","v":0},{"$f":"'⑪キャッシュフロー表 (5年分)'!O52","v":0},{"$f":"'⑪キャッシュフロー表 (5年分)'!P52","v":0},{"$f":"'⑪キャッシュフロー表 (5年分)'!Q52","v":0},{"$f":"'⑪キャッシュフロー表 (5年分)'!R52","v":0},{"$f":"'⑪キャッシュフロー表 (5年分)'!S52","v":0},{"$f":"'⑪キャッシュフロー表 (5年分)'!T52","v":0},{"$f":"'⑪キャッシュフロー表 (5年分)'!U52","v":0},{"$f":"'⑪キャッシュフロー表 (5年分)'!V52","v":0},{"$f":"'⑪キャッシュフロー表 (5年分)'!W52","v":0},{"$f":"'⑪キャッシュフロー表 (5年分)'!X52","v":0},{"$f":"'⑪キャッシュフロー表 (5年分)'!Y52","v":0},{"$f":"'⑪キャッシュフロー表 (5年分)'!Z52","v":0},{"$f":"'⑪キャッシュフロー表 (5年分)'!AA52","v":0},{"$f":"'⑪キャッシュフロー表 (5年分)'!AB52","v":0},{"$f":"'⑪キャッシュフロー表 (5年分)'!AC52","v":0},{"$f":"'⑪キャッシュフロー表 (5年分)'!AD52","v":0},{"$f":"'⑪キャッシュフロー表 (5年分)'!AE52","v":0},{"$f":"'⑪キャッシュフロー表 (5年分)'!AF52","v":0},{"$f":"'⑪キャッシュフロー表 (5年分)'!AG52","v":0},{"$f":"'⑪キャッシュフロー表 (5年分)'!AH52","v":0},{"$f":"'⑪キャッシュフロー表 (5年分)'!AI52","v":0},{"$f":"'⑪キャッシュフロー表 (5年分)'!AJ52","v":0},{"$f":"'⑪キャッシュフロー表 (5年分)'!AK52","v":0},{"$f":"'⑪キャッシュフロー表 (5年分)'!AL52","v":0},{"$f":"'⑪キャッシュフロー表 (5年分)'!AM52","v":0},{"$f":"'⑪キャッシュフロー表 (5年分)'!AN52","v":0},{"$f":"'⑪キャッシュフロー表 (5年分)'!AO52","v":0},{"$f":"'⑪キャッシュフロー表 (5年分)'!AP52","v":0},{"$f":"'⑪キャッシュフロー表 (5年分)'!AQ52","v":0},{"$f":"'⑪キャッシュフロー表 (5年分)'!AR52","v":0},{"$f":"'⑪キャッシュフロー表 (5年分)'!AS52","v":0},{"$f":"'⑪キャッシュフロー表 (5年分)'!AT52","v":0},{"$f":"'⑪キャッシュフロー表 (5年分)'!AU52","v":0},{"$f":"'⑪キャッシュフロー表 (5年分)'!AV52","v":0},{"$f":"'⑪キャッシュフロー表 (5年分)'!AW52","v":0},{"$f":"'⑪キャッシュフロー表 (5年分)'!AX52","v":0},{"$f":"'⑪キャッシュフロー表 (5年分)'!AY52","v":0},{"$f":"'⑪キャッシュフロー表 (5年分)'!AZ52","v":0},{"$f":"'⑪キャッシュフロー表 (5年分)'!BA52","v":0},{"$f":"'⑪キャッシュフロー表 (5年分)'!BB52","v":0},{"$f":"'⑪キャッシュフロー表 (5年分)'!BC52","v":0},{"$f":"'⑪キャッシュフロー表 (5年分)'!BD52","v":0},{"$f":"'⑪キャッシュフロー表 (5年分)'!BE52","v":0},{"$f":"'⑪キャッシュフロー表 (5年分)'!BF52","v":0},{"$f":"'⑪キャッシュフロー表 (5年分)'!BG52","v":0},{"$f":"'⑪キャッシュフロー表 (5年分)'!BH52","v":0},{"$f":"'⑪キャッシュフロー表 (5年分)'!BI52","v":0},{"$f":"'⑪キャッシュフロー表 (5年分)'!BJ52","v":0},{"$f":"'⑪キャッシュフロー表 (5年分)'!BK52","v":0},{"$f":"'⑪キャッシュフロー表 (5年分)'!BL52","v":0},{"$f":"'⑪キャッシュフロー表 (5年分)'!BM52","v":0}]